PDS_VERSION_ID = PDS3
/* FILE DATA ELEMENTS */
RECORD_TYPE = STREAM
/* POINTERS TO DATA OBJECTS */
^COMPRESSED_FILE = "H7370_0000_BL3.JP2"
/* IDENTIFICATION DATA ELEMENTS */
DATA_SET_ID = "MEX-M-HRSC-5-REFDR-MAPPROJECTED-V3.0"
DATA_SET_NAME = "MARS EXPRESS HRSC MAP PROJECTED REFDR V3.0"
DETECTOR_ID = MEX_HRSC_BLUE
EVENT_TYPE = "MARS-REGIONAL-MAPPING-Vo-Te-Pf"
INSTRUMENT_HOST_ID = MEX
INSTRUMENT_HOST_NAME = "MARS EXPRESS"
INSTRUMENT_ID = HRSC
INSTRUMENT_NAME = "HIGH RESOLUTION STEREO CAMERA"
MISSION_NAME = "MARS EXPRESS"
MISSION_PHASE_NAME = ME_Phase_18
PROCESSING_LEVEL_ID = 3
PRODUCT_CREATION_TIME = 2016-06-30T16:05:12.000Z
PRODUCT_ID = "H7370_0000_BL3.JP2"
RELEASE_ID = 0081
REVISION_ID = 0000
/* QUALITY DATA ELEMENTS */
DATA_QUALITY_ID = 1
DATA_QUALITY_DESC = "Data calculated based on original SPICE kernels"
/* TIME DATA ELEMENTS */
SPACECRAFT_CLOCK_START_COUNT = "1/0202458776.08272"
SPACECRAFT_CLOCK_STOP_COUNT = "1/0202459024.14297"
START_TIME = 2009-10-01T06:33:40.851Z
STOP_TIME = 2009-10-01T06:36:38.172Z
/* ORBITAL DATA ELEMENTS */
ASCENDING_NODE_LONGITUDE = 76.81
MAXIMUM_RESOLUTION = 113.8
FOOTPRINT_POINT_LATITUDE = (45.9472,45.9405,45.9231,45.9213, 45.6622,45.4029,45.1435,44.8839,44.6241 ,44.3643,44.1043,43.8442,43.5839, 43.3238,42.8872,42.6689,42.4504,42.2319 ,42.0134,41.7947,41.576,41.3573,41.1385 ,40.9196,40.7006,40.4817,40.2627, 40.0436,39.7149,39.4956,39.1668,38.9474 ,38.7279,38.3993,38.18,37.9607,37.7413, 37.522,37.3025,36.9734,36.754,36.5345, 36.2053,35.9859,35.7664,35.547,35.2178, 34.8887,34.5596,34.472,34.4785,34.4825, 34.4872,34.707,34.9267,35.1465,35.3664, 35.6961,35.916,36.1358,36.4656,36.7954, 37.0153,37.2352,37.4549,37.6749,37.8947 ,38.1146,38.3344,38.6641,38.8839, 39.1036,39.3233,39.5428,39.7621,39.9823 ,40.202,40.4215,40.641,40.8605,41.1895, 41.4089,41.6282,41.8475,42.0666,42.2858 ,42.5049,42.7239,43.0524,43.2712, 43.6452,43.9062,44.167,44.4278,44.6885, 44.949,45.2094,45.4697,45.7299,45.9472)
FOOTPRINT_POINT_LONGITUDE = (190.457,190.13,189.424,188.877,188.898 ,188.918,188.938,188.957,188.976, 188.995,189.013,189.031,189.049,189.066 ,189.094,189.108,189.121,189.134, 189.147,189.16,189.172,189.184,189.196, 189.208,189.22,189.231,189.242,189.253, 189.269,189.28,189.295,189.305,189.315, 189.329,189.338,189.347,189.355,189.364 ,189.373,189.385,189.393,189.401, 189.412,189.42,189.427,189.434,189.444, 189.454,189.464,189.758,190.22,190.583, 190.956,190.954,190.952,190.95,190.948, 190.944,190.942,190.94,190.936,190.932, 190.93,190.927,190.924,190.922,190.92, 190.917,190.914,190.91,190.907,190.904, 190.901,190.898,190.894,190.892,190.889 ,190.886,190.883,190.88,190.875,190.871 ,190.868,190.864,190.861,190.857, 190.854,190.85,190.844,190.841,190.834, 190.829,190.824,190.819,190.814,190.809 ,190.804,190.799,190.793,190.457)
ORBIT_NUMBER = 7370
ORBITAL_ECCENTRICITY = 0.572
ORBITAL_INCLINATION = 86.82
ORBITAL_SEMIMAJOR_AXIS = 8738.66
PERIAPSIS_ALTITUDE = 351.03
PERIAPSIS_ARGUMENT_ANGLE = 145.44
PERIAPSIS_TIME = 2009-10-01T06:36:32.000Z
SPACECRAFT_ORIENTATION = (0.0,-1.0,0.0)
^MEX_ORIENTATION_DESC = "MEX_ORIENTATION_DESC.TXT"
SPACECRAFT_POINTING_MODE = NADIR
^MEX_POINTING_DESC = "MEX_POINTING_DESC.TXT"
RIGHT_ASCENSION = -1e+32
DECLINATION = -1e+32
OFFSET_ANGLE = -1e+32
SPACECRAFT_SOLAR_DISTANCE = 2.28195e+08
TARGET_NAME = MARS
/* CAMERA DATA ELEMENTS */
DETECTOR_TEMPERATURE = 18.7783
FOCAL_PLANE_TEMPERATURE = 8.5833
INST_CMPRS_NAME = "DISCRETE COSINE TRANSFORMATION (DCT)"
INST_CMPRS_RATIO = 33.766
INST_CMPRS_QUALITY = 0
INST_CMPRS_QUANTZ_TBL_ID = 0
INSTRUMENT_TEMPERATURE = 11.234
LENS_TEMPERATURE = 8.9911
MACROPIXEL_SIZE = 8
MISSING_FRAMES = 0
PIXEL_SUBSAMPLING_FLAG = N
SIGNAL_CHAIN_ID = 2
/* RADIOMETRIC DATA ELEMENTS */
BANDWIDTH = 76.0
CENTER_FILTER_WAVELENGTH = 444.0
RADIANCE_OFFSET = 0.551098
RADIANCE_SCALING_FACTOR = 0.00106492
REFLECTANCE_SCALING_FACTOR = 5.69749e-05
MEX:REFLECTANCE_OFFSET = 0.0294845
/* IMAGE OBJECT DEFINITIONS */
OBJECT = IMAGE
  INTERCHANGE_FORMAT = BINARY
  LINES = 6825
  LINE_SAMPLES = 954
  SAMPLE_TYPE = UNSIGNED_INTEGER
  SAMPLE_BITS = 8
  BANDS = 1
  BAND_STORAGE_TYPE = BAND_SEQUENTIAL
  MAXIMUM = 255
  MEAN = 138.629
  MINIMUM = 4
  STANDARD_DEVIATION = 46.0955
END_OBJECT = IMAGE
/* MAP OBJECT DEFINITIONS */
OBJECT = IMAGE_MAP_PROJECTION
  ^DATA_SET_MAP_PROJECTION_CATALOG= "DSMAP.CAT"
  A_AXIS_RADIUS = 3396.0
  B_AXIS_RADIUS = 3396.0
  C_AXIS_RADIUS = 3396.0
  CENTER_LATITUDE = 0.0
  CENTER_LONGITUDE = 190.0
  COORDINATE_SYSTEM_NAME = PLANETOGRAPHIC
  COORDINATE_SYSTEM_TYPE = "BODY-FIXED ROTATING"
  EASTERNMOST_LONGITUDE = 190.956
  FIRST_STANDARD_PARALLEL = "N/A"
  LINE_FIRST_PIXEL = 1
  LINE_LAST_PIXEL = 6825
  LINE_PROJECTION_OFFSET = 27249.4375
  MAP_PROJECTION_ROTATION = 0.0
  MAP_PROJECTION_TYPE = SINUSOIDAL
  MAP_RESOLUTION = 592.713803866667
  MAP_SCALE = 0.1
  MAXIMUM_LATITUDE = 45.9472
  MINIMUM_LATITUDE = 34.472
  POSITIVE_LONGITUDE_DIRECTION = EAST
  REFERENCE_LATITUDE = "N/A"
  REFERENCE_LONGITUDE = "N/A"
  SAMPLE_FIRST_PIXEL = 1
  SAMPLE_LAST_PIXEL = 954
  SAMPLE_PROJECTION_OFFSET = 472.1875
  SECOND_STANDARD_PARALLEL = "N/A"
  WESTERNMOST_LONGITUDE = 188.877
END_OBJECT = IMAGE_MAP_PROJECTION
/* The JPEG2000 image data file associated with this label. */
OBJECT = COMPRESSED_FILE
  FILE_NAME = "H7370_0000_BL3.JP2"
  RECORD_TYPE = UNDEFINED
  FILE_RECORDS = UNK
  ENCODING_TYPE = "JP2"
  INTERCHANGE_FORMAT = BINARY
  UNCOMPRESSED_FILE_NAME = "H7370_0000_BL3.IMG"
  REQUIRED_STORAGE_BYTES = "6529176"
  ^DESCRIPTION = "JP2INFO.TXT"
END_OBJECT = COMPRESSED_FILE
END
