PDS_VERSION_ID = PDS3
/* FILE DATA ELEMENTS */
RECORD_TYPE = STREAM
/* POINTERS TO DATA OBJECTS */
^COMPRESSED_FILE = "H7370_0000_ND3.JP2"
/* IDENTIFICATION DATA ELEMENTS */
DATA_SET_ID = "MEX-M-HRSC-5-REFDR-MAPPROJECTED-V3.0"
DATA_SET_NAME = "MARS EXPRESS HRSC MAP PROJECTED REFDR V3.0"
DETECTOR_ID = MEX_HRSC_NADIR
EVENT_TYPE = "MARS-REGIONAL-MAPPING-Vo-Te-Pf"
INSTRUMENT_HOST_ID = MEX
INSTRUMENT_HOST_NAME = "MARS EXPRESS"
INSTRUMENT_ID = HRSC
INSTRUMENT_NAME = "HIGH RESOLUTION STEREO CAMERA"
MISSION_NAME = "MARS EXPRESS"
MISSION_PHASE_NAME = ME_Phase_18
PROCESSING_LEVEL_ID = 3
PRODUCT_CREATION_TIME = 2016-06-30T16:05:12.000Z
PRODUCT_ID = "H7370_0000_ND3.JP2"
RELEASE_ID = 0081
REVISION_ID = 0000
/* QUALITY DATA ELEMENTS */
DATA_QUALITY_ID = 1
DATA_QUALITY_DESC = "Data calculated based on original SPICE kernels"
/* TIME DATA ELEMENTS */
SPACECRAFT_CLOCK_START_COUNT = "1/0202458776.08272"
SPACECRAFT_CLOCK_STOP_COUNT = "1/0202459024.14297"
START_TIME = 2009-10-01T06:33:34.834Z
STOP_TIME = 2009-10-01T06:36:32.837Z
/* ORBITAL DATA ELEMENTS */
ASCENDING_NODE_LONGITUDE = 76.81
MAXIMUM_RESOLUTION = 14.2
FOOTPRINT_POINT_LATITUDE = (45.9694,45.9608,45.9407,45.7966, 45.5374,45.2779,45.0184,44.7586,44.4986 ,44.2386,43.9783,43.7179,43.4573, 43.1966,42.9389,42.5015,42.0637,41.6255 ,41.187,40.9676,40.7481,40.5286,40.309, 40.0893,39.8696,39.6498,39.4299,39.21, 38.99,38.7699,38.5498,38.3297,38.1095, 37.8893,37.669,37.4487,37.2284,37.008, 36.7876,36.5671,36.3466,36.1261,35.9056 ,35.6851,35.4645,35.2439,35.0234, 34.8028,34.5822,34.4662,34.4706,34.4765 ,34.4796,34.8125,35.0335,35.2545, 35.4754,35.6964,35.9174,36.1383,36.3593 ,36.5802,36.8011,37.0219,37.2428, 37.4636,37.6843,37.9051,38.1258,38.3465 ,38.5671,38.7877,39.0082,39.2287, 39.4491,39.6695,39.8898,40.1101,40.3303 ,40.5505,40.7705,40.9906,41.2105, 41.4304,41.6502,41.8699,42.0895,42.5286 ,42.9673,43.3544,43.6159,43.8772, 44.1383,44.3993,44.6602,44.9209,45.1814 ,45.4418,45.702,45.9694)
FOOTPRINT_POINT_LONGITUDE = (190.57,190.146,189.355,188.858,188.878 ,188.899,188.919,188.938,188.958, 188.976,188.995,189.013,189.031,189.048 ,189.065,189.092,189.119,189.145, 189.169,189.181,189.193,189.205,189.216 ,189.228,189.239,189.249,189.26,189.271 ,189.281,189.291,189.301,189.31,189.319 ,189.328,189.337,189.346,189.354, 189.363,189.371,189.379,189.387,189.395 ,189.402,189.41,189.417,189.424,189.431 ,189.437,189.444,189.73,190.012,190.473 ,190.8,190.953,190.951,190.949,190.947, 190.945,190.942,190.94,190.938,190.936, 190.933,190.931,190.928,190.926,190.923 ,190.921,190.918,190.915,190.913,190.91 ,190.907,190.904,190.901,190.898, 190.895,190.893,190.89,190.887,190.883, 190.88,190.877,190.873,190.87,190.867, 190.863,190.856,190.849,190.842,190.838 ,190.833,190.829,190.824,190.819, 190.814,190.809,190.804,190.798,190.57)
ORBIT_NUMBER = 7370
ORBITAL_ECCENTRICITY = 0.572
ORBITAL_INCLINATION = 86.82
ORBITAL_SEMIMAJOR_AXIS = 8738.66
PERIAPSIS_ALTITUDE = 351.03
PERIAPSIS_ARGUMENT_ANGLE = 145.44
PERIAPSIS_TIME = 2009-10-01T06:36:32.000Z
SPACECRAFT_ORIENTATION = (0.0,-1.0,0.0)
^MEX_ORIENTATION_DESC = "MEX_ORIENTATION_DESC.TXT"
SPACECRAFT_POINTING_MODE = NADIR
^MEX_POINTING_DESC = "MEX_POINTING_DESC.TXT"
RIGHT_ASCENSION = -1e+32
DECLINATION = -1e+32
OFFSET_ANGLE = -1e+32
SPACECRAFT_SOLAR_DISTANCE = 2.28195e+08
TARGET_NAME = MARS
/* CAMERA DATA ELEMENTS */
DETECTOR_TEMPERATURE = 18.7783
FOCAL_PLANE_TEMPERATURE = 8.5833
INST_CMPRS_NAME = "DISCRETE COSINE TRANSFORMATION (DCT)"
INST_CMPRS_RATIO = 8.19744
INST_CMPRS_QUALITY = 0
INST_CMPRS_QUANTZ_TBL_ID = 0
INSTRUMENT_TEMPERATURE = 11.234
LENS_TEMPERATURE = 8.9911
MACROPIXEL_SIZE = 1
MISSING_FRAMES = 0
PIXEL_SUBSAMPLING_FLAG = N
SIGNAL_CHAIN_ID = 0
/* RADIOMETRIC DATA ELEMENTS */
BANDWIDTH = 177.0
CENTER_FILTER_WAVELENGTH = 677.5
RADIANCE_OFFSET = 4.28272
RADIANCE_SCALING_FACTOR = 0.0115034
REFLECTANCE_SCALING_FACTOR = 0.000318214
MEX:REFLECTANCE_OFFSET = 0.118471
/* IMAGE OBJECT DEFINITIONS */
OBJECT = IMAGE
  INTERCHANGE_FORMAT = BINARY
  LINES = 54595
  LINE_SAMPLES = 7626
  SAMPLE_TYPE = UNSIGNED_INTEGER
  SAMPLE_BITS = 8
  BANDS = 1
  BAND_STORAGE_TYPE = BAND_SEQUENTIAL
  MAXIMUM = 255
  MEAN = 115.611
  MINIMUM = 1
  STANDARD_DEVIATION = 46.7379
END_OBJECT = IMAGE
/* MAP OBJECT DEFINITIONS */
OBJECT = IMAGE_MAP_PROJECTION
  ^DATA_SET_MAP_PROJECTION_CATALOG= "DSMAP.CAT"
  A_AXIS_RADIUS = 3396.0
  B_AXIS_RADIUS = 3396.0
  C_AXIS_RADIUS = 3396.0
  CENTER_LATITUDE = 0.0
  CENTER_LONGITUDE = 190.0
  COORDINATE_SYSTEM_NAME = PLANETOGRAPHIC
  COORDINATE_SYSTEM_TYPE = "BODY-FIXED ROTATING"
  EASTERNMOST_LONGITUDE = 190.953
  FIRST_STANDARD_PARALLEL = "N/A"
  LINE_FIRST_PIXEL = 1
  LINE_LAST_PIXEL = 54595
  LINE_PROJECTION_OFFSET = 217999.0
  MAP_PROJECTION_ROTATION = 0.0
  MAP_PROJECTION_TYPE = SINUSOIDAL
  MAP_RESOLUTION = 4741.71043093333
  MAP_SCALE = 0.0125
  MAXIMUM_LATITUDE = 45.9694
  MINIMUM_LATITUDE = 34.4662
  POSITIVE_LONGITUDE_DIRECTION = EAST
  REFERENCE_LATITUDE = "N/A"
  REFERENCE_LONGITUDE = "N/A"
  SAMPLE_FIRST_PIXEL = 1
  SAMPLE_LAST_PIXEL = 7626
  SAMPLE_PROJECTION_OFFSET = 3781.0
  SECOND_STANDARD_PARALLEL = "N/A"
  WESTERNMOST_LONGITUDE = 188.858
END_OBJECT = IMAGE_MAP_PROJECTION
/* The JPEG2000 image data file associated with this label. */
OBJECT = COMPRESSED_FILE
  FILE_NAME = "H7370_0000_ND3.JP2"
  RECORD_TYPE = UNDEFINED
  FILE_RECORDS = UNK
  ENCODING_TYPE = "JP2"
  INTERCHANGE_FORMAT = BINARY
  UNCOMPRESSED_FILE_NAME = "H7370_0000_ND3.IMG"
  REQUIRED_STORAGE_BYTES = "416371974"
  ^DESCRIPTION = "JP2INFO.TXT"
END_OBJECT = COMPRESSED_FILE
END
