PDS_VERSION_ID = PDS3
/* FILE DATA ELEMENTS */
RECORD_TYPE = STREAM
/* POINTERS TO DATA OBJECTS */
^COMPRESSED_FILE = "H7370_0000_P23.JP2"
/* IDENTIFICATION DATA ELEMENTS */
DATA_SET_ID = "MEX-M-HRSC-5-REFDR-MAPPROJECTED-V3.0"
DATA_SET_NAME = "MARS EXPRESS HRSC MAP PROJECTED REFDR V3.0"
DETECTOR_ID = MEX_HRSC_P2
EVENT_TYPE = "MARS-REGIONAL-MAPPING-Vo-Te-Pf"
INSTRUMENT_HOST_ID = MEX
INSTRUMENT_HOST_NAME = "MARS EXPRESS"
INSTRUMENT_ID = HRSC
INSTRUMENT_NAME = "HIGH RESOLUTION STEREO CAMERA"
MISSION_NAME = "MARS EXPRESS"
MISSION_PHASE_NAME = ME_Phase_18
PROCESSING_LEVEL_ID = 3
PRODUCT_CREATION_TIME = 2016-06-30T16:05:12.000Z
PRODUCT_ID = "H7370_0000_P23.JP2"
RELEASE_ID = 0081
REVISION_ID = 0000
/* QUALITY DATA ELEMENTS */
DATA_QUALITY_ID = 1
DATA_QUALITY_DESC = "Data calculated based on original SPICE kernels"
/* TIME DATA ELEMENTS */
SPACECRAFT_CLOCK_START_COUNT = "1/0202458776.08272"
SPACECRAFT_CLOCK_STOP_COUNT = "1/0202459024.14297"
START_TIME = 2009-10-01T06:33:57.530Z
STOP_TIME = 2009-10-01T06:36:53.853Z
/* ORBITAL DATA ELEMENTS */
ASCENDING_NODE_LONGITUDE = 76.81
MAXIMUM_RESOLUTION = 58.6
FOOTPRINT_POINT_LATITUDE = (45.9181,45.9128,45.9078,45.902,45.8949 ,45.8878,45.9357,45.6686,45.4014, 45.0005,44.7333,44.3416,44.1175,43.7816 ,43.5575,43.3333,42.9971,42.773,42.4368 ,42.1007,41.8767,41.6525,41.4285, 41.0925,40.8684,40.6442,40.4202,40.1962 ,39.9713,39.7481,39.5236,39.1876, 38.9635,38.6273,38.2927,38.0697,37.8461 ,37.6227,37.2874,37.0639,36.8406, 36.5057,36.1709,35.8364,35.502,35.1676, 34.8335,34.4997,34.4731,34.4756,34.4785 ,34.4803,34.4829,34.4858,34.8202, 35.0432,35.2664,35.6013,35.8246,36.048, 36.2716,36.607,36.9427,37.1664,37.6143, 37.9504,38.2865,38.5106,38.7348,38.9591 ,39.1834,39.5194,39.8549,40.1934,40.418 ,40.6427,40.8673,41.0915,41.3161, 41.6531,41.9901,42.3271,42.6641,43.0014 ,43.3384,43.5632,43.7878,44.1248, 44.3495,44.6021,44.7362,44.8702,45.0043 ,45.1383,45.2724,45.4065,45.5405, 45.6745,45.8085,45.9181)
FOOTPRINT_POINT_LONGITUDE = (190.607,190.333,190.093,189.837, 189.546,189.273,188.866,188.887,188.908 ,188.938,188.958,188.986,189.001, 189.024,189.039,189.054,189.075,189.089 ,189.11,189.129,189.142,189.155,189.167 ,189.186,189.197,189.209,189.22,189.232 ,189.243,189.253,189.264,189.28,189.29, 189.305,189.318,189.327,189.336,189.345 ,189.357,189.366,189.374,189.386, 189.397,189.408,189.418,189.429,189.438 ,189.448,189.857,190.054,190.293, 190.462,190.73,190.96,190.957,190.954, 190.952,190.948,190.946,190.943,190.941 ,190.937,190.933,190.93,190.924,190.92, 190.915,190.912,190.909,190.906,190.903 ,190.898,190.892,190.888,190.885, 190.882,190.878,190.874,190.871,190.865 ,190.859,190.853,190.847,190.841, 190.835,190.831,190.827,190.82,190.815, 190.81,190.808,190.805,190.802,190.799, 190.796,190.793,190.79,190.787,190.784, 190.607)
ORBIT_NUMBER = 7370
ORBITAL_ECCENTRICITY = 0.572
ORBITAL_INCLINATION = 86.82
ORBITAL_SEMIMAJOR_AXIS = 8738.66
PERIAPSIS_ALTITUDE = 351.03
PERIAPSIS_ARGUMENT_ANGLE = 145.44
PERIAPSIS_TIME = 2009-10-01T06:36:32.000Z
SPACECRAFT_ORIENTATION = (0.0,-1.0,0.0)
^MEX_ORIENTATION_DESC = "MEX_ORIENTATION_DESC.TXT"
SPACECRAFT_POINTING_MODE = NADIR
^MEX_POINTING_DESC = "MEX_POINTING_DESC.TXT"
RIGHT_ASCENSION = -1e+32
DECLINATION = -1e+32
OFFSET_ANGLE = -1e+32
SPACECRAFT_SOLAR_DISTANCE = 2.28195e+08
TARGET_NAME = MARS
/* CAMERA DATA ELEMENTS */
DETECTOR_TEMPERATURE = 18.7783
FOCAL_PLANE_TEMPERATURE = 8.5833
INST_CMPRS_NAME = "DISCRETE COSINE TRANSFORMATION (DCT)"
INST_CMPRS_RATIO = 11.9125
INST_CMPRS_QUALITY = 0
INST_CMPRS_QUANTZ_TBL_ID = 0
INSTRUMENT_TEMPERATURE = 11.234
LENS_TEMPERATURE = 8.9911
MACROPIXEL_SIZE = 4
MISSING_FRAMES = 0
PIXEL_SUBSAMPLING_FLAG = N
SIGNAL_CHAIN_ID = 3
/* RADIOMETRIC DATA ELEMENTS */
BANDWIDTH = 177.0
CENTER_FILTER_WAVELENGTH = 676.5
RADIANCE_OFFSET = 4.70066
RADIANCE_SCALING_FACTOR = 0.011098
REFLECTANCE_SCALING_FACTOR = 0.000306416
MEX:REFLECTANCE_OFFSET = 0.129785
/* IMAGE OBJECT DEFINITIONS */
OBJECT = IMAGE
  INTERCHANGE_FORMAT = BINARY
  LINES = 13649
  LINE_SAMPLES = 1907
  SAMPLE_TYPE = UNSIGNED_INTEGER
  SAMPLE_BITS = 8
  BANDS = 1
  BAND_STORAGE_TYPE = BAND_SEQUENTIAL
  MAXIMUM = 255
  MEAN = 119.162
  MINIMUM = 1
  STANDARD_DEVIATION = 50.844
END_OBJECT = IMAGE
/* MAP OBJECT DEFINITIONS */
OBJECT = IMAGE_MAP_PROJECTION
  ^DATA_SET_MAP_PROJECTION_CATALOG= "DSMAP.CAT"
  A_AXIS_RADIUS = 3396.0
  B_AXIS_RADIUS = 3396.0
  C_AXIS_RADIUS = 3396.0
  CENTER_LATITUDE = 0.0
  CENTER_LONGITUDE = 190.0
  COORDINATE_SYSTEM_NAME = PLANETOGRAPHIC
  COORDINATE_SYSTEM_TYPE = "BODY-FIXED ROTATING"
  EASTERNMOST_LONGITUDE = 190.96
  FIRST_STANDARD_PARALLEL = "N/A"
  LINE_FIRST_PIXEL = 1
  LINE_LAST_PIXEL = 13649
  LINE_PROJECTION_OFFSET = 54499.375
  MAP_PROJECTION_ROTATION = 0.0
  MAP_PROJECTION_TYPE = SINUSOIDAL
  MAP_RESOLUTION = 1185.42760773333
  MAP_SCALE = 0.05
  MAXIMUM_LATITUDE = 45.9357
  MINIMUM_LATITUDE = 34.4731
  POSITIVE_LONGITUDE_DIRECTION = EAST
  REFERENCE_LATITUDE = "N/A"
  REFERENCE_LONGITUDE = "N/A"
  SAMPLE_FIRST_PIXEL = 1
  SAMPLE_LAST_PIXEL = 1907
  SAMPLE_PROJECTION_OFFSET = 944.875
  SECOND_STANDARD_PARALLEL = "N/A"
  WESTERNMOST_LONGITUDE = 188.866
END_OBJECT = IMAGE_MAP_PROJECTION
/* The JPEG2000 image data file associated with this label. */
OBJECT = COMPRESSED_FILE
  FILE_NAME = "H7370_0000_P23.JP2"
  RECORD_TYPE = UNDEFINED
  FILE_RECORDS = UNK
  ENCODING_TYPE = "JP2"
  INTERCHANGE_FORMAT = BINARY
  UNCOMPRESSED_FILE_NAME = "H7370_0000_P23.IMG"
  REQUIRED_STORAGE_BYTES = "26047713"
  ^DESCRIPTION = "JP2INFO.TXT"
END_OBJECT = COMPRESSED_FILE
END
