PDS_VERSION_ID = PDS3
/* FILE DATA ELEMENTS */
RECORD_TYPE = STREAM
/* POINTERS TO DATA OBJECTS */
^COMPRESSED_FILE = "H7373_0000_GR3.JP2"
/* IDENTIFICATION DATA ELEMENTS */
DATA_SET_ID = "MEX-M-HRSC-5-REFDR-MAPPROJECTED-V3.0"
DATA_SET_NAME = "MARS EXPRESS HRSC MAP PROJECTED REFDR V3.0"
DETECTOR_ID = MEX_HRSC_GREEN
EVENT_TYPE = "MARS-REGIONAL-MAPPING-Vo-Te"
INSTRUMENT_HOST_ID = MEX
INSTRUMENT_HOST_NAME = "MARS EXPRESS"
INSTRUMENT_ID = HRSC
INSTRUMENT_NAME = "HIGH RESOLUTION STEREO CAMERA"
MISSION_NAME = "MARS EXPRESS"
MISSION_PHASE_NAME = ME_Phase_18
PROCESSING_LEVEL_ID = 3
PRODUCT_CREATION_TIME = 2016-06-30T16:05:12.000Z
PRODUCT_ID = "H7373_0000_GR3.JP2"
RELEASE_ID = 0081
REVISION_ID = 0000
/* QUALITY DATA ELEMENTS */
DATA_QUALITY_ID = 1
DATA_QUALITY_DESC = "Data calculated based on original SPICE kernels"
/* TIME DATA ELEMENTS */
SPACECRAFT_CLOCK_START_COUNT = "1/0202533515.08399"
SPACECRAFT_CLOCK_STOP_COUNT = "1/0202533774.32320"
START_TIME = 2009-10-02T03:19:03.999Z
STOP_TIME = 2009-10-02T03:22:08.082Z
/* ORBITAL DATA ELEMENTS */
ASCENDING_NODE_LONGITUDE = 76.75
MAXIMUM_RESOLUTION = 112.2
FOOTPRINT_POINT_LATITUDE = (29.2602,29.256,29.2467,29.0345,28.8223 ,28.6101,28.3979,28.1859,27.9738, 27.6559,27.444,27.2321,27.0202,26.8085, 26.5968,26.3851,26.1735,25.7506,25.4336 ,25.1167,24.7999,24.3499,24.0983, 23.8467,23.5952,23.3439,23.0928,22.8417 ,22.5908,22.3401,22.0894,21.839,21.5886 ,21.3385,21.0885,20.8386,20.5889, 20.3394,20.09,19.8408,19.5918,19.343, 19.0944,18.8458,18.5976,18.3495,18.1016 ,17.8541,17.4513,17.4518,17.4517, 17.4507,17.4517,17.6994,17.9473,18.1955 ,18.4443,18.6928,19.0654,19.3148, 19.5636,19.8129,20.0624,20.3121,20.562, 20.8121,21.0623,21.3126,21.5631,21.8138 ,22.0646,22.3156,22.5667,22.818,23.0693 ,23.3209,23.5725,23.8243,24.0763, 24.3283,24.5725,24.9952,25.4183,25.63, 25.9472,26.2653,26.4772,26.6892,26.9013 ,27.1134,27.3257,27.538,27.8567,28.0691 ,28.2814,28.4939,28.7061,28.9183, 29.1309,29.2602)
FOOTPRINT_POINT_LONGITUDE = (247.633,247.268,246.8,246.804,246.807, 246.81,246.813,246.815,246.818,246.822, 246.825,246.827,246.829,246.831,246.833 ,246.835,246.837,246.84,246.842,246.844 ,246.846,246.847,246.848,246.849, 246.849,246.85,246.85,246.85,246.85, 246.85,246.85,246.849,246.849,246.848, 246.847,246.846,246.845,246.844,246.843 ,246.841,246.839,246.838,246.836, 246.834,246.831,246.829,246.827,246.825 ,246.943,247.206,247.633,248.058, 248.287,248.285,248.283,248.281,248.279 ,248.277,248.275,248.273,248.272,248.27 ,248.268,248.266,248.265,248.263, 248.261,248.259,248.257,248.255,248.254 ,248.252,248.25,248.248,248.246,248.244 ,248.242,248.24,248.238,248.236,248.234 ,248.23,248.227,248.225,248.223,248.219 ,248.217,248.216,248.214,248.212,248.21 ,248.207,248.204,248.202,248.2,248.198, 248.196,248.194,248.192,247.633)
ORBIT_NUMBER = 7373
ORBITAL_ECCENTRICITY = 0.573
ORBITAL_INCLINATION = 86.81
ORBITAL_SEMIMAJOR_AXIS = 8751.8
PERIAPSIS_ALTITUDE = 350.76
PERIAPSIS_ARGUMENT_ANGLE = 144.9
PERIAPSIS_TIME = 2009-10-02T03:17:39.000Z
SPACECRAFT_ORIENTATION = (0.0,-1.0,0.0)
^MEX_ORIENTATION_DESC = "MEX_ORIENTATION_DESC.TXT"
SPACECRAFT_POINTING_MODE = ACROSSTRACK
^MEX_POINTING_DESC = "MEX_POINTING_DESC.TXT"
RIGHT_ASCENSION = -1e+32
DECLINATION = -1e+32
OFFSET_ANGLE = -0.229
SPACECRAFT_SOLAR_DISTANCE = 2.28362e+08
TARGET_NAME = MARS
/* CAMERA DATA ELEMENTS */
DETECTOR_TEMPERATURE = 18.1666
FOCAL_PLANE_TEMPERATURE = 8.1755
INST_CMPRS_NAME = "DISCRETE COSINE TRANSFORMATION (DCT)"
INST_CMPRS_RATIO = 13.0165
INST_CMPRS_QUALITY = 0
INST_CMPRS_QUANTZ_TBL_ID = 0
INSTRUMENT_TEMPERATURE = 11.234
LENS_TEMPERATURE = 8.5833
MACROPIXEL_SIZE = 8
MISSING_FRAMES = 0
PIXEL_SUBSAMPLING_FLAG = N
SIGNAL_CHAIN_ID = 2
/* RADIOMETRIC DATA ELEMENTS */
BANDWIDTH = 88.0
CENTER_FILTER_WAVELENGTH = 538.0
RADIANCE_OFFSET = 1.31375
RADIANCE_SCALING_FACTOR = 0.00673187
REFLECTANCE_SCALING_FACTOR = 0.000302255
MEX:REFLECTANCE_OFFSET = 0.0589861
/* IMAGE OBJECT DEFINITIONS */
OBJECT = IMAGE
  INTERCHANGE_FORMAT = BINARY
  LINES = 6999
  LINE_SAMPLES = 900
  SAMPLE_TYPE = UNSIGNED_INTEGER
  SAMPLE_BITS = 8
  BANDS = 1
  BAND_STORAGE_TYPE = BAND_SEQUENTIAL
  MAXIMUM = 255
  MEAN = 158.994
  MINIMUM = 1
  STANDARD_DEVIATION = 22.8427
END_OBJECT = IMAGE
/* MAP OBJECT DEFINITIONS */
OBJECT = IMAGE_MAP_PROJECTION
  ^DATA_SET_MAP_PROJECTION_CATALOG= "DSMAP.CAT"
  A_AXIS_RADIUS = 3396.0
  B_AXIS_RADIUS = 3396.0
  C_AXIS_RADIUS = 3396.0
  CENTER_LATITUDE = 0.0
  CENTER_LONGITUDE = 248.0
  COORDINATE_SYSTEM_NAME = PLANETOGRAPHIC
  COORDINATE_SYSTEM_TYPE = "BODY-FIXED ROTATING"
  EASTERNMOST_LONGITUDE = 248.287
  FIRST_STANDARD_PARALLEL = "N/A"
  LINE_FIRST_PIXEL = 1
  LINE_LAST_PIXEL = 6999
  LINE_PROJECTION_OFFSET = 17340.1875
  MAP_PROJECTION_ROTATION = 0.0
  MAP_PROJECTION_TYPE = SINUSOIDAL
  MAP_RESOLUTION = 592.713803866667
  MAP_SCALE = 0.1
  MAXIMUM_LATITUDE = 29.2602
  MINIMUM_LATITUDE = 17.4507
  POSITIVE_LONGITUDE_DIRECTION = EAST
  REFERENCE_LATITUDE = "N/A"
  REFERENCE_LONGITUDE = "N/A"
  SAMPLE_FIRST_PIXEL = 1
  SAMPLE_LAST_PIXEL = 900
  SAMPLE_PROJECTION_OFFSET = 715.5625
  SECOND_STANDARD_PARALLEL = "N/A"
  WESTERNMOST_LONGITUDE = 246.8
END_OBJECT = IMAGE_MAP_PROJECTION
/* The JPEG2000 image data file associated with this label. */
OBJECT = COMPRESSED_FILE
  FILE_NAME = "H7373_0000_GR3.JP2"
  RECORD_TYPE = UNDEFINED
  FILE_RECORDS = UNK
  ENCODING_TYPE = "JP2"
  INTERCHANGE_FORMAT = BINARY
  UNCOMPRESSED_FILE_NAME = "H7373_0000_GR3.IMG"
  REQUIRED_STORAGE_BYTES = "6317100"
  ^DESCRIPTION = "JP2INFO.TXT"
END_OBJECT = COMPRESSED_FILE
END
