PDS_VERSION_ID = PDS3
/* FILE DATA ELEMENTS */
RECORD_TYPE = STREAM
/* POINTERS TO DATA OBJECTS */
^COMPRESSED_FILE = "H7375_0000_P23.JP2"
/* IDENTIFICATION DATA ELEMENTS */
DATA_SET_ID = "MEX-M-HRSC-5-REFDR-MAPPROJECTED-V3.0"
DATA_SET_NAME = "MARS EXPRESS HRSC MAP PROJECTED REFDR V3.0"
DETECTOR_ID = MEX_HRSC_P2
EVENT_TYPE = "MARS-REGIONAL-MAPPING-Im-Fl"
INSTRUMENT_HOST_ID = MEX
INSTRUMENT_HOST_NAME = "MARS EXPRESS"
INSTRUMENT_ID = HRSC
INSTRUMENT_NAME = "HIGH RESOLUTION STEREO CAMERA"
MISSION_NAME = "MARS EXPRESS"
MISSION_PHASE_NAME = ME_Phase_18
PROCESSING_LEVEL_ID = 3
PRODUCT_CREATION_TIME = 2016-06-30T16:05:12.000Z
PRODUCT_ID = "H7375_0000_P23.JP2"
RELEASE_ID = 0081
REVISION_ID = 0000
/* QUALITY DATA ELEMENTS */
DATA_QUALITY_ID = 1
DATA_QUALITY_DESC = "Data calculated based on original SPICE kernels"
/* TIME DATA ELEMENTS */
SPACECRAFT_CLOCK_START_COUNT = "1/0202583222.09077"
SPACECRAFT_CLOCK_STOP_COUNT = "1/0202583502.06687"
START_TIME = 2009-10-02T17:08:00.069Z
STOP_TIME = 2009-10-02T17:11:25.919Z
/* ORBITAL DATA ELEMENTS */
ASCENDING_NODE_LONGITUDE = 76.71
MAXIMUM_RESOLUTION = 61.7
FOOTPRINT_POINT_LATITUDE = (25.6531,25.6559,25.6582,25.6742, 25.2881,25.0308,24.7736,24.5168,24.2596 ,24.0039,23.7468,23.3642,23.1085, 22.8533,22.5988,22.3446,22.0907,21.8375 ,21.5844,21.332,21.08,20.8279,20.5762, 20.1996,19.9479,19.6984,19.448,19.1985, 18.949,18.7003,18.4525,18.2052,17.9576, 17.7105,17.4636,17.2172,16.9708,16.7249 ,16.4796,16.2339,15.9892,15.7447, 15.5001,15.2572,15.0145,14.534,14.1713, 13.9297,13.5669,13.3253,13.1669,13.1585 ,13.1541,13.1466,13.1421,13.3822, 13.8622,14.1059,14.3495,14.7135,14.9573 ,15.2007,15.4411,15.6853,15.9307, 16.1756,16.4211,16.667,17.0353,17.4056, 17.6534,17.9009,18.1486,18.521,18.7699, 19.0191,19.269,19.5181,19.7693,20.0209, 20.398,20.777,21.0296,21.2804,21.5338, 21.914,22.1675,22.4212,22.6755,22.9307, 23.3135,23.569,23.9522,24.209,24.4652, 24.7213,24.9787,25.2373,25.497,25.6531)
FOOTPRINT_POINT_LONGITUDE = (46.152,45.7231,45.2912,45.0178,45.0197 ,45.0209,45.0221,45.0231,45.0244, 45.0246,45.0259,45.0259,45.0264,45.0267 ,45.0264,45.0261,45.0257,45.0248, 45.0239,45.0227,45.0213,45.02,45.0186, 45.016,45.0148,45.0122,45.0104,45.008, 45.0059,45.0033,45.0001,44.9968,44.9939 ,44.9907,44.9875,44.9841,44.9809, 44.9774,44.9738,44.9705,44.9667,44.9629 ,44.9594,44.9549,44.9504,44.9389, 44.9321,44.9276,44.9214,44.9174,45.1187 ,45.5602,45.8581,46.28,46.5966,46.5943, 46.5893,46.5876,46.5859,46.5826,46.5806 ,46.5783,46.5751,46.5728,46.5707, 46.5685,46.5662,46.564,46.5602,46.5568, 46.5546,46.5523,46.5498,46.5462,46.5438 ,46.5415,46.5391,46.5365,46.5343, 46.5321,46.5286,46.5253,46.523,46.52, 46.5177,46.514,46.5114,46.5088,46.5062, 46.5037,46.4998,46.4972,46.4931,46.4905 ,46.4877,46.4848,46.4821,46.4796, 46.4773,46.152)
ORBIT_NUMBER = 7375
ORBITAL_ECCENTRICITY = 0.572
ORBITAL_INCLINATION = 86.81
ORBITAL_SEMIMAJOR_AXIS = 8746.23
PERIAPSIS_ALTITUDE = 351.46
PERIAPSIS_ARGUMENT_ANGLE = 144.59
PERIAPSIS_TIME = 2009-10-02T17:05:07.000Z
SPACECRAFT_ORIENTATION = (0.0,-1.0,0.0)
^MEX_ORIENTATION_DESC = "MEX_ORIENTATION_DESC.TXT"
SPACECRAFT_POINTING_MODE = ACROSSTRACK
^MEX_POINTING_DESC = "MEX_POINTING_DESC.TXT"
RIGHT_ASCENSION = -1e+32
DECLINATION = -1e+32
OFFSET_ANGLE = -0.3
SPACECRAFT_SOLAR_DISTANCE = 2.28474e+08
TARGET_NAME = MARS
/* CAMERA DATA ELEMENTS */
DETECTOR_TEMPERATURE = 18.7783
FOCAL_PLANE_TEMPERATURE = 8.3794
INST_CMPRS_NAME = "DISCRETE COSINE TRANSFORMATION (DCT)"
INST_CMPRS_RATIO = 10.6916
INST_CMPRS_QUALITY = 0
INST_CMPRS_QUANTZ_TBL_ID = 0
INSTRUMENT_TEMPERATURE = 11.234
LENS_TEMPERATURE = 8.7872
MACROPIXEL_SIZE = 4
MISSING_FRAMES = 0
PIXEL_SUBSAMPLING_FLAG = N
SIGNAL_CHAIN_ID = 3
/* RADIOMETRIC DATA ELEMENTS */
BANDWIDTH = 177.0
CENTER_FILTER_WAVELENGTH = 676.5
RADIANCE_OFFSET = 6.1876
RADIANCE_SCALING_FACTOR = 0.0144838
REFLECTANCE_SCALING_FACTOR = 0.00040088
MEX:REFLECTANCE_OFFSET = 0.171259
/* IMAGE OBJECT DEFINITIONS */
OBJECT = IMAGE
  INTERCHANGE_FORMAT = BINARY
  LINES = 14853
  LINE_SAMPLES = 1952
  SAMPLE_TYPE = UNSIGNED_INTEGER
  SAMPLE_BITS = 8
  BANDS = 1
  BAND_STORAGE_TYPE = BAND_SEQUENTIAL
  MAXIMUM = 255
  MEAN = 138.252
  MINIMUM = 1
  STANDARD_DEVIATION = 26.5285
END_OBJECT = IMAGE
/* MAP OBJECT DEFINITIONS */
OBJECT = IMAGE_MAP_PROJECTION
  ^DATA_SET_MAP_PROJECTION_CATALOG= "DSMAP.CAT"
  A_AXIS_RADIUS = 3396.0
  B_AXIS_RADIUS = 3396.0
  C_AXIS_RADIUS = 3396.0
  CENTER_LATITUDE = 0.0
  CENTER_LONGITUDE = 46.0
  COORDINATE_SYSTEM_NAME = PLANETOGRAPHIC
  COORDINATE_SYSTEM_TYPE = "BODY-FIXED ROTATING"
  EASTERNMOST_LONGITUDE = 46.5966
  FIRST_STANDARD_PARALLEL = "N/A"
  LINE_FIRST_PIXEL = 1
  LINE_LAST_PIXEL = 14853
  LINE_PROJECTION_OFFSET = 30452.875
  MAP_PROJECTION_ROTATION = 0.0
  MAP_PROJECTION_TYPE = SINUSOIDAL
  MAP_RESOLUTION = 1185.42760773333
  MAP_SCALE = 0.05
  MAXIMUM_LATITUDE = 25.6742
  MINIMUM_LATITUDE = 13.1421
  POSITIVE_LONGITUDE_DIRECTION = EAST
  REFERENCE_LATITUDE = "N/A"
  REFERENCE_LONGITUDE = "N/A"
  SAMPLE_FIRST_PIXEL = 1
  SAMPLE_LAST_PIXEL = 1952
  SAMPLE_PROJECTION_OFFSET = 1274.625
  SECOND_STANDARD_PARALLEL = "N/A"
  WESTERNMOST_LONGITUDE = 44.9174
END_OBJECT = IMAGE_MAP_PROJECTION
/* The JPEG2000 image data file associated with this label. */
OBJECT = COMPRESSED_FILE
  FILE_NAME = "H7375_0000_P23.JP2"
  RECORD_TYPE = UNDEFINED
  FILE_RECORDS = UNK
  ENCODING_TYPE = "JP2"
  INTERCHANGE_FORMAT = BINARY
  UNCOMPRESSED_FILE_NAME = "H7375_0000_P23.IMG"
  REQUIRED_STORAGE_BYTES = "29012576"
  ^DESCRIPTION = "JP2INFO.TXT"
END_OBJECT = COMPRESSED_FILE
END
