PDS_VERSION_ID = PDS3
/* FILE DATA ELEMENTS */
RECORD_TYPE = STREAM
/* POINTERS TO DATA OBJECTS */
^COMPRESSED_FILE = "H7376_0000_S13.JP2"
/* IDENTIFICATION DATA ELEMENTS */
DATA_SET_ID = "MEX-M-HRSC-5-REFDR-MAPPROJECTED-V3.0"
DATA_SET_NAME = "MARS EXPRESS HRSC MAP PROJECTED REFDR V3.0"
DETECTOR_ID = MEX_HRSC_S1
EVENT_TYPE = "MARS-REGIONAL-MAPPING-Fl-Gl-Pf"
INSTRUMENT_HOST_ID = MEX
INSTRUMENT_HOST_NAME = "MARS EXPRESS"
INSTRUMENT_ID = HRSC
INSTRUMENT_NAME = "HIGH RESOLUTION STEREO CAMERA"
MISSION_NAME = "MARS EXPRESS"
MISSION_PHASE_NAME = ME_Phase_18
PROCESSING_LEVEL_ID = 3
PRODUCT_CREATION_TIME = 2016-06-30T16:05:12.000Z
PRODUCT_ID = "H7376_0000_S13.JP2"
RELEASE_ID = 0081
REVISION_ID = 0000
/* QUALITY DATA ELEMENTS */
DATA_QUALITY_ID = 1
DATA_QUALITY_DESC = "Data calculated based on original SPICE kernels"
/* TIME DATA ELEMENTS */
SPACECRAFT_CLOCK_START_COUNT = "1/0202607987.08393"
SPACECRAFT_CLOCK_STOP_COUNT = "1/0202608295.64569"
START_TIME = 2009-10-02T23:59:49.604Z
STOP_TIME = 2009-10-03T00:03:32.710Z
/* ORBITAL DATA ELEMENTS */
ASCENDING_NODE_LONGITUDE = 76.69
MAXIMUM_RESOLUTION = 30.3
FOOTPRINT_POINT_LATITUDE = (29.8135,29.7848,29.7694,29.7531,29.736 ,29.6637,29.4056,29.1486,28.7614, 28.5026,28.2431,27.8635,27.6075,27.3466 ,27.0834,26.6863,26.4237,26.0288,25.769 ,25.5213,25.257,24.8693,24.6139,24.3037 ,23.9925,23.6843,23.3734,23.0617, 22.7505,22.4394,22.129,21.8172,21.3492, 20.8838,20.57,20.2587,19.7964,19.4832, 19.1726,18.8626,18.5458,18.0856,17.7753 ,17.4651,17.1541,16.6876,16.3785, 16.0617,15.744,15.4263,15.1095,15.1196, 15.1392,15.1521,15.1671,15.1795,15.5053 ,15.8229,16.1408,16.4582,16.7679,17.074 ,17.3877,17.6993,18.0093,18.3204, 18.6291,18.9401,19.4067,19.8724,20.1841 ,20.4953,20.8072,21.2683,21.7423,22.209 ,22.5204,22.9874,23.299,23.766,24.078, 24.3898,24.7013,24.9625,25.2183,25.4767 ,25.7339,25.9973,26.3903,26.6458, 26.9082,27.1696,27.5611,27.9502,28.341, 28.601,28.9882,29.2486,29.5074,29.8135)
FOOTPRINT_POINT_LONGITUDE = (304.728,304.29,304.066,303.841,303.612 ,303.345,303.353,303.361,303.373, 303.379,303.386,303.402,303.411,303.415 ,303.418,303.419,303.422,303.425,303.43 ,303.444,303.444,303.452,303.46,303.464 ,303.467,303.472,303.476,303.478,303.48 ,303.482,303.485,303.486,303.487,303.49 ,303.488,303.488,303.492,303.49,303.49, 303.49,303.485,303.488,303.487,303.486, 303.483,303.48,303.478,303.476,303.474, 303.472,303.469,303.669,304.048,304.332 ,304.614,304.863,305.01,305.008,305.005 ,305.002,304.999,304.996,304.993,304.99 ,304.987,304.984,304.981,304.978, 304.973,304.968,304.965,304.961,304.958 ,304.952,304.947,304.942,304.938, 304.932,304.928,304.922,304.918,304.914 ,304.91,304.906,304.902,304.898,304.893 ,304.89,304.884,304.88,304.876,304.872, 304.866,304.859,304.853,304.849,304.842 ,304.837,304.832,304.728)
ORBIT_NUMBER = 7376
ORBITAL_ECCENTRICITY = 0.572
ORBITAL_INCLINATION = 86.82
ORBITAL_SEMIMAJOR_AXIS = 8740.35
PERIAPSIS_ALTITUDE = 351.74
PERIAPSIS_ARGUMENT_ANGLE = 144.42
PERIAPSIS_TIME = 2009-10-02T23:58:52.000Z
SPACECRAFT_ORIENTATION = (0.0,-1.0,0.0)
^MEX_ORIENTATION_DESC = "MEX_ORIENTATION_DESC.TXT"
SPACECRAFT_POINTING_MODE = ACROSSTRACK
^MEX_POINTING_DESC = "MEX_POINTING_DESC.TXT"
RIGHT_ASCENSION = -1e+32
DECLINATION = -1e+32
OFFSET_ANGLE = -0.93
SPACECRAFT_SOLAR_DISTANCE = 2.28529e+08
TARGET_NAME = MARS
/* CAMERA DATA ELEMENTS */
DETECTOR_TEMPERATURE = 17.351
FOCAL_PLANE_TEMPERATURE = 8.7872
INST_CMPRS_NAME = "DISCRETE COSINE TRANSFORMATION (DCT)"
INST_CMPRS_RATIO = 11.9506
INST_CMPRS_QUALITY = 0
INST_CMPRS_QUANTZ_TBL_ID = 0
INSTRUMENT_TEMPERATURE = 11.4379
LENS_TEMPERATURE = 9.195
MACROPIXEL_SIZE = 2
MISSING_FRAMES = 0
PIXEL_SUBSAMPLING_FLAG = N
SIGNAL_CHAIN_ID = 1
/* RADIOMETRIC DATA ELEMENTS */
BANDWIDTH = 180.0
CENTER_FILTER_WAVELENGTH = 677.0
RADIANCE_OFFSET = 4.24801
RADIANCE_SCALING_FACTOR = 0.0199468
REFLECTANCE_SCALING_FACTOR = 0.000543502
MEX:REFLECTANCE_OFFSET = 0.115748
/* IMAGE OBJECT DEFINITIONS */
OBJECT = IMAGE
  INTERCHANGE_FORMAT = BINARY
  LINES = 34604
  LINE_SAMPLES = 3916
  SAMPLE_TYPE = UNSIGNED_INTEGER
  SAMPLE_BITS = 8
  BANDS = 1
  BAND_STORAGE_TYPE = BAND_SEQUENTIAL
  MAXIMUM = 255
  MEAN = 93.6745
  MINIMUM = 1
  STANDARD_DEVIATION = 46.1594
END_OBJECT = IMAGE
/* MAP OBJECT DEFINITIONS */
OBJECT = IMAGE_MAP_PROJECTION
  ^DATA_SET_MAP_PROJECTION_CATALOG= "DSMAP.CAT"
  A_AXIS_RADIUS = 3396.0
  B_AXIS_RADIUS = 3396.0
  C_AXIS_RADIUS = 3396.0
  CENTER_LATITUDE = 0.0
  CENTER_LONGITUDE = 304.0
  COORDINATE_SYSTEM_NAME = PLANETOGRAPHIC
  COORDINATE_SYSTEM_TYPE = "BODY-FIXED ROTATING"
  EASTERNMOST_LONGITUDE = 305.01
  FIRST_STANDARD_PARALLEL = "N/A"
  LINE_FIRST_PIXEL = 1
  LINE_LAST_PIXEL = 34604
  LINE_PROJECTION_OFFSET = 70500.25
  MAP_PROJECTION_ROTATION = 0.0
  MAP_PROJECTION_TYPE = SINUSOIDAL
  MAP_RESOLUTION = 2370.85521546667
  MAP_SCALE = 0.025
  MAXIMUM_LATITUDE = 29.8135
  MINIMUM_LATITUDE = 15.1095
  POSITIVE_LONGITUDE_DIRECTION = EAST
  REFERENCE_LATITUDE = "N/A"
  REFERENCE_LONGITUDE = "N/A"
  SAMPLE_FIRST_PIXEL = 1
  SAMPLE_LAST_PIXEL = 3916
  SAMPLE_PROJECTION_OFFSET = 1512.25
  SECOND_STANDARD_PARALLEL = "N/A"
  WESTERNMOST_LONGITUDE = 303.345
END_OBJECT = IMAGE_MAP_PROJECTION
/* The JPEG2000 image data file associated with this label. */
OBJECT = COMPRESSED_FILE
  FILE_NAME = "H7376_0000_S13.JP2"
  RECORD_TYPE = UNDEFINED
  FILE_RECORDS = UNK
  ENCODING_TYPE = "JP2"
  INTERCHANGE_FORMAT = BINARY
  UNCOMPRESSED_FILE_NAME = "H7376_0000_S13.IMG"
  REQUIRED_STORAGE_BYTES = "135532760"
  ^DESCRIPTION = "JP2INFO.TXT"
END_OBJECT = COMPRESSED_FILE
END
