PDS_VERSION_ID = PDS3
/* FILE DATA ELEMENTS */
RECORD_TYPE = STREAM
/* POINTERS TO DATA OBJECTS */
^COMPRESSED_FILE = "H7378_0000_ND3.JP2"
/* IDENTIFICATION DATA ELEMENTS */
DATA_SET_ID = "MEX-M-HRSC-5-REFDR-MAPPROJECTED-V3.0"
DATA_SET_NAME = "MARS EXPRESS HRSC MAP PROJECTED REFDR V3.0"
DETECTOR_ID = MEX_HRSC_NADIR
EVENT_TYPE = "MARS-REGIONAL-MAPPING-Vo-Gl-Pf"
INSTRUMENT_HOST_ID = MEX
INSTRUMENT_HOST_NAME = "MARS EXPRESS"
INSTRUMENT_ID = HRSC
INSTRUMENT_NAME = "HIGH RESOLUTION STEREO CAMERA"
MISSION_NAME = "MARS EXPRESS"
MISSION_PHASE_NAME = ME_Phase_18
PROCESSING_LEVEL_ID = 3
PRODUCT_CREATION_TIME = 2016-06-30T16:05:12.000Z
PRODUCT_ID = "H7378_0000_ND3.JP2"
RELEASE_ID = 0081
REVISION_ID = 0000
/* QUALITY DATA ELEMENTS */
DATA_QUALITY_ID = 1
DATA_QUALITY_DESC = "Data calculated based on original SPICE kernels"
/* TIME DATA ELEMENTS */
SPACECRAFT_CLOCK_START_COUNT = "1/0202657530.09056"
SPACECRAFT_CLOCK_STOP_COUNT = "1/0202657834.49663"
START_TIME = 2009-10-03T13:46:04.623Z
STOP_TIME = 2009-10-03T13:49:57.600Z
/* ORBITAL DATA ELEMENTS */
ASCENDING_NODE_LONGITUDE = 76.65
MAXIMUM_RESOLUTION = 14.2
FOOTPRINT_POINT_LATITUDE = (36.6759,36.6667,36.6575,36.3697, 36.0819,35.7941,35.5063,35.2185,34.7868 ,34.499,34.2112,33.9234,33.6357,33.348, 33.0604,32.7728,32.4853,32.1978,31.9103 ,31.623,31.3357,31.0485,30.7614,30.4744 ,30.1874,29.9006,29.6139,29.3273, 29.0408,28.7544,28.4682,28.1821,27.8961 ,27.6103,27.039,26.4685,25.8986,25.3965 ,25.0572,24.7181,24.3793,24.0408, 23.7026,23.3647,23.0271,22.6899,22.353, 22.0164,21.6802,21.6749,21.6752,21.6745 ,22.0112,22.3483,22.6856,23.0234, 23.3614,23.6998,24.0385,24.3775,24.7167 ,25.0563,25.3962,25.9001,26.4709, 27.0423,27.3282,27.6143,27.9006,28.187, 28.4735,28.7602,29.047,29.334,29.621, 29.9082,30.1955,30.4829,30.7704,31.058, 31.3456,31.6334,31.9212,32.2091,32.4971 ,32.7851,33.0732,33.3614,33.6496, 33.9378,34.2261,34.5144,34.8027,35.0911 ,35.3795,35.812,36.1004,36.3888,36.6772 ,36.6759)
FOOTPRINT_POINT_LONGITUDE = (103.495,102.947,102.463,102.474, 102.484,102.494,102.504,102.514,102.526 ,102.536,102.545,102.553,102.561, 102.569,102.576,102.583,102.59,102.596, 102.603,102.609,102.615,102.62,102.626, 102.631,102.636,102.64,102.645,102.649, 102.653,102.657,102.66,102.664,102.667, 102.67,102.675,102.679,102.683,102.685, 102.687,102.688,102.688,102.689,102.689 ,102.689,102.689,102.688,102.688, 102.687,102.685,103.3,103.679,104.166, 104.164,104.162,104.159,104.157,104.154 ,104.152,104.149,104.147,104.144, 104.141,104.139,104.135,104.13,104.125, 104.122,104.12,104.117,104.115,104.112, 104.11,104.107,104.104,104.101,104.098, 104.096,104.093,104.09,104.087,104.084, 104.081,104.077,104.074,104.071,104.067 ,104.064,104.061,104.057,104.054,104.05 ,104.046,104.043,104.039,104.035, 104.029,104.025,104.021,104.017, 103.495)
ORBIT_NUMBER = 7378
ORBITAL_ECCENTRICITY = 0.572
ORBITAL_INCLINATION = 86.81
ORBITAL_SEMIMAJOR_AXIS = 8747.15
PERIAPSIS_ALTITUDE = 351.28
PERIAPSIS_ARGUMENT_ANGLE = 144.03
PERIAPSIS_TIME = 2009-10-03T13:46:16.000Z
SPACECRAFT_ORIENTATION = (0.0,-1.0,0.0)
^MEX_ORIENTATION_DESC = "MEX_ORIENTATION_DESC.TXT"
SPACECRAFT_POINTING_MODE = ACROSSTRACK
^MEX_POINTING_DESC = "MEX_POINTING_DESC.TXT"
RIGHT_ASCENSION = -1e+32
DECLINATION = -1e+32
OFFSET_ANGLE = -0.13
SPACECRAFT_SOLAR_DISTANCE = 2.28641e+08
TARGET_NAME = MARS
/* CAMERA DATA ELEMENTS */
DETECTOR_TEMPERATURE = 18.3705
FOCAL_PLANE_TEMPERATURE = 8.7872
INST_CMPRS_NAME = "DISCRETE COSINE TRANSFORMATION (DCT)"
INST_CMPRS_RATIO = 7.57135
INST_CMPRS_QUALITY = 0
INST_CMPRS_QUANTZ_TBL_ID = 0
INSTRUMENT_TEMPERATURE = 11.234
LENS_TEMPERATURE = 9.195
MACROPIXEL_SIZE = 1
MISSING_FRAMES = 0
PIXEL_SUBSAMPLING_FLAG = N
SIGNAL_CHAIN_ID = 0
/* RADIOMETRIC DATA ELEMENTS */
BANDWIDTH = 177.0
CENTER_FILTER_WAVELENGTH = 677.5
RADIANCE_OFFSET = 4.45871
RADIANCE_SCALING_FACTOR = 0.0147243
REFLECTANCE_SCALING_FACTOR = 0.00040891
MEX:REFLECTANCE_OFFSET = 0.123823
/* IMAGE OBJECT DEFINITIONS */
OBJECT = IMAGE
  INTERCHANGE_FORMAT = BINARY
  LINES = 71173
  LINE_SAMPLES = 7376
  SAMPLE_TYPE = UNSIGNED_INTEGER
  SAMPLE_BITS = 8
  BANDS = 1
  BAND_STORAGE_TYPE = BAND_SEQUENTIAL
  MAXIMUM = 255
  MEAN = 125.68
  MINIMUM = 1
  STANDARD_DEVIATION = 19.5364
END_OBJECT = IMAGE
/* MAP OBJECT DEFINITIONS */
OBJECT = IMAGE_MAP_PROJECTION
  ^DATA_SET_MAP_PROJECTION_CATALOG= "DSMAP.CAT"
  A_AXIS_RADIUS = 3396.0
  B_AXIS_RADIUS = 3396.0
  C_AXIS_RADIUS = 3396.0
  CENTER_LATITUDE = 0.0
  CENTER_LONGITUDE = 103.0
  COORDINATE_SYSTEM_NAME = PLANETOGRAPHIC
  COORDINATE_SYSTEM_TYPE = "BODY-FIXED ROTATING"
  EASTERNMOST_LONGITUDE = 104.166
  FIRST_STANDARD_PARALLEL = "N/A"
  LINE_FIRST_PIXEL = 1
  LINE_LAST_PIXEL = 71173
  LINE_PROJECTION_OFFSET = 173936.0
  MAP_PROJECTION_ROTATION = 0.0
  MAP_PROJECTION_TYPE = SINUSOIDAL
  MAP_RESOLUTION = 4741.71043093333
  MAP_SCALE = 0.0125
  MAXIMUM_LATITUDE = 36.6772
  MINIMUM_LATITUDE = 21.6745
  POSITIVE_LONGITUDE_DIRECTION = EAST
  REFERENCE_LATITUDE = "N/A"
  REFERENCE_LONGITUDE = "N/A"
  SAMPLE_FIRST_PIXEL = 1
  SAMPLE_LAST_PIXEL = 7376
  SAMPLE_PROJECTION_OFFSET = 2140.0
  SECOND_STANDARD_PARALLEL = "N/A"
  WESTERNMOST_LONGITUDE = 102.463
END_OBJECT = IMAGE_MAP_PROJECTION
/* The JPEG2000 image data file associated with this label. */
OBJECT = COMPRESSED_FILE
  FILE_NAME = "H7378_0000_ND3.JP2"
  RECORD_TYPE = UNDEFINED
  FILE_RECORDS = UNK
  ENCODING_TYPE = "JP2"
  INTERCHANGE_FORMAT = BINARY
  UNCOMPRESSED_FILE_NAME = "H7378_0000_ND3.IMG"
  REQUIRED_STORAGE_BYTES = "525001552"
  ^DESCRIPTION = "JP2INFO.TXT"
END_OBJECT = COMPRESSED_FILE
END
