PDS_VERSION_ID = PDS3
/* FILE DATA ELEMENTS */
RECORD_TYPE = STREAM
/* POINTERS TO DATA OBJECTS */
^COMPRESSED_FILE = "H7385_0000_IR3.JP2"
/* IDENTIFICATION DATA ELEMENTS */
DATA_SET_ID = "MEX-M-HRSC-5-REFDR-MAPPROJECTED-V3.0"
DATA_SET_NAME = "MARS EXPRESS HRSC MAP PROJECTED REFDR V3.0"
DETECTOR_ID = MEX_HRSC_IR
EVENT_TYPE = "MARS-REGIONAL-MAPPING-Im-Lc-Pf"
INSTRUMENT_HOST_ID = MEX
INSTRUMENT_HOST_NAME = "MARS EXPRESS"
INSTRUMENT_ID = HRSC
INSTRUMENT_NAME = "HIGH RESOLUTION STEREO CAMERA"
MISSION_NAME = "MARS EXPRESS"
MISSION_PHASE_NAME = ME_Phase_18
PROCESSING_LEVEL_ID = 3
PRODUCT_CREATION_TIME = 2016-06-30T16:05:12.000Z
PRODUCT_ID = "H7385_0000_IR3.JP2"
RELEASE_ID = 0081
REVISION_ID = 0000
/* QUALITY DATA ELEMENTS */
DATA_QUALITY_ID = 1
DATA_QUALITY_DESC = "Data calculated based on original SPICE kernels"
/* TIME DATA ELEMENTS */
SPACECRAFT_CLOCK_START_COUNT = "1/0202831316.08254"
SPACECRAFT_CLOCK_STOP_COUNT = "1/0202831513.24186"
START_TIME = 2009-10-05T14:02:04.003Z
STOP_TIME = 2009-10-05T14:04:12.243Z
/* ORBITAL DATA ELEMENTS */
ASCENDING_NODE_LONGITUDE = 76.52
MAXIMUM_RESOLUTION = 59.4
FOOTPRINT_POINT_LATITUDE = (36.3472,36.3453,36.3412,36.3366, 36.3324,36.3264,36.1012,35.9374,35.7734 ,35.5272,35.3629,35.1988,35.0349, 34.8707,34.7064,34.5419,34.3774,34.1239 ,33.9591,33.7121,33.5473,33.3001, 33.0527,32.8878,32.7229,32.5579,32.3929 ,32.2278,32.0626,31.8974,31.7323,31.567 ,31.4018,31.2364,31.0711,30.9058, 30.7404,30.575,30.4095,30.2441,30.0786, 29.913,29.7473,29.4988,29.3336,29.168, 28.9196,28.7539,28.5883,28.4225,28.2569 ,28.0088,27.9391,27.9418,27.9448, 27.9455,28.1953,28.3612,28.5273,28.6931 ,28.9418,29.1076,29.3564,29.6051, 29.8537,30.0195,30.2683,30.434,30.5997, 30.7654,30.9311,31.0968,31.2626,31.5106 ,31.7591,31.9246,32.0901,32.2556, 32.4211,32.5865,32.7517,32.9173,33.1648 ,33.3299,33.5772,33.8246,33.9895, 34.1545,34.3262,34.491,34.6557,34.8203, 35.0672,35.2319,35.3965,35.5609,35.7252 ,35.8894,36.0537,36.3472)
FOOTPRINT_POINT_LONGITUDE = (118.267,118.057,117.722,117.429, 117.206,116.927,116.752,116.757,116.763 ,116.771,116.776,116.781,116.786, 116.791,116.796,116.8,116.805,116.812, 116.816,116.823,116.827,116.833,116.839 ,116.843,116.847,116.85,116.854,116.857 ,116.861,116.864,116.868,116.871, 116.874,116.877,116.88,116.883,116.885, 116.888,116.891,116.893,116.896,116.898 ,116.901,116.904,116.906,116.908, 116.911,116.913,116.915,116.917,116.919 ,116.921,117.312,117.555,117.919, 118.215,118.366,118.365,118.364,118.363 ,118.361,118.36,118.358,118.356,118.354 ,118.353,118.351,118.35,118.348,118.347 ,118.346,118.344,118.343,118.341, 118.338,118.337,118.335,118.334,118.332 ,118.331,118.329,118.328,118.326, 118.324,118.322,118.319,118.318,118.316 ,118.314,118.313,118.311,118.309, 118.307,118.305,118.303,118.301,118.3, 118.298,118.296,118.267)
ORBIT_NUMBER = 7385
ORBITAL_ECCENTRICITY = 0.572
ORBITAL_INCLINATION = 86.81
ORBITAL_SEMIMAJOR_AXIS = 8745.23
PERIAPSIS_ALTITUDE = 352.41
PERIAPSIS_ARGUMENT_ANGLE = 142.82
PERIAPSIS_TIME = 2009-10-05T14:02:17.000Z
SPACECRAFT_ORIENTATION = (0.0,-1.0,0.0)
^MEX_ORIENTATION_DESC = "MEX_ORIENTATION_DESC.TXT"
SPACECRAFT_POINTING_MODE = NADIR
^MEX_POINTING_DESC = "MEX_POINTING_DESC.TXT"
RIGHT_ASCENSION = -1e+32
DECLINATION = -1e+32
OFFSET_ANGLE = -1e+32
SPACECRAFT_SOLAR_DISTANCE = 2.2903e+08
TARGET_NAME = MARS
/* CAMERA DATA ELEMENTS */
DETECTOR_TEMPERATURE = 17.5549
FOCAL_PLANE_TEMPERATURE = 8.1755
INST_CMPRS_NAME = "DISCRETE COSINE TRANSFORMATION (DCT)"
INST_CMPRS_RATIO = 9.83107
INST_CMPRS_QUALITY = 0
INST_CMPRS_QUANTZ_TBL_ID = 0
INSTRUMENT_TEMPERATURE = 11.234
LENS_TEMPERATURE = 8.5833
MACROPIXEL_SIZE = 4
MISSING_FRAMES = 1
PIXEL_SUBSAMPLING_FLAG = N
SIGNAL_CHAIN_ID = 2
/* RADIOMETRIC DATA ELEMENTS */
BANDWIDTH = 81.0
CENTER_FILTER_WAVELENGTH = 955.5
RADIANCE_OFFSET = 1.43661
RADIANCE_SCALING_FACTOR = 0.00347763
REFLECTANCE_SCALING_FACTOR = 0.000393549
MEX:REFLECTANCE_OFFSET = 0.162575
/* IMAGE OBJECT DEFINITIONS */
OBJECT = IMAGE
  INTERCHANGE_FORMAT = BINARY
  LINES = 9898
  LINE_SAMPLES = 1650
  SAMPLE_TYPE = UNSIGNED_INTEGER
  SAMPLE_BITS = 8
  BANDS = 1
  BAND_STORAGE_TYPE = BAND_SEQUENTIAL
  MAXIMUM = 254
  MEAN = 129.374
  MINIMUM = 1
  STANDARD_DEVIATION = 18.2984
END_OBJECT = IMAGE
/* MAP OBJECT DEFINITIONS */
OBJECT = IMAGE_MAP_PROJECTION
  ^DATA_SET_MAP_PROJECTION_CATALOG= "DSMAP.CAT"
  A_AXIS_RADIUS = 3396.0
  B_AXIS_RADIUS = 3396.0
  C_AXIS_RADIUS = 3396.0
  CENTER_LATITUDE = 0.0
  CENTER_LONGITUDE = 118.0
  COORDINATE_SYSTEM_NAME = PLANETOGRAPHIC
  COORDINATE_SYSTEM_TYPE = "BODY-FIXED ROTATING"
  EASTERNMOST_LONGITUDE = 118.366
  FIRST_STANDARD_PARALLEL = "N/A"
  LINE_FIRST_PIXEL = 1
  LINE_LAST_PIXEL = 9898
  LINE_PROJECTION_OFFSET = 43028.125
  MAP_PROJECTION_ROTATION = 0.0
  MAP_PROJECTION_TYPE = SINUSOIDAL
  MAP_RESOLUTION = 1185.42760773333
  MAP_SCALE = 0.05
  MAXIMUM_LATITUDE = 36.3472
  MINIMUM_LATITUDE = 27.9391
  POSITIVE_LONGITUDE_DIRECTION = EAST
  REFERENCE_LATITUDE = "N/A"
  REFERENCE_LONGITUDE = "N/A"
  SAMPLE_FIRST_PIXEL = 1
  SAMPLE_LAST_PIXEL = 1650
  SAMPLE_PROJECTION_OFFSET = 1224.875
  SECOND_STANDARD_PARALLEL = "N/A"
  WESTERNMOST_LONGITUDE = 116.752
END_OBJECT = IMAGE_MAP_PROJECTION
/* The JPEG2000 image data file associated with this label. */
OBJECT = COMPRESSED_FILE
  FILE_NAME = "H7385_0000_IR3.JP2"
  RECORD_TYPE = UNDEFINED
  FILE_RECORDS = UNK
  ENCODING_TYPE = "JP2"
  INTERCHANGE_FORMAT = BINARY
  UNCOMPRESSED_FILE_NAME = "H7385_0000_IR3.IMG"
  REQUIRED_STORAGE_BYTES = "16351500"
  ^DESCRIPTION = "JP2INFO.TXT"
END_OBJECT = COMPRESSED_FILE
END
