PDS_VERSION_ID = PDS3
/* FILE DATA ELEMENTS */
RECORD_TYPE = STREAM
/* POINTERS TO DATA OBJECTS */
^COMPRESSED_FILE = "H7385_0000_ND3.JP2"
/* IDENTIFICATION DATA ELEMENTS */
DATA_SET_ID = "MEX-M-HRSC-5-REFDR-MAPPROJECTED-V3.0"
DATA_SET_NAME = "MARS EXPRESS HRSC MAP PROJECTED REFDR V3.0"
DETECTOR_ID = MEX_HRSC_NADIR
EVENT_TYPE = "MARS-REGIONAL-MAPPING-Im-Lc-Pf"
INSTRUMENT_HOST_ID = MEX
INSTRUMENT_HOST_NAME = "MARS EXPRESS"
INSTRUMENT_ID = HRSC
INSTRUMENT_NAME = "HIGH RESOLUTION STEREO CAMERA"
MISSION_NAME = "MARS EXPRESS"
MISSION_PHASE_NAME = ME_Phase_18
PROCESSING_LEVEL_ID = 3
PRODUCT_CREATION_TIME = 2016-06-30T16:05:12.000Z
PRODUCT_ID = "H7385_0000_ND3.JP2"
RELEASE_ID = 0081
REVISION_ID = 0000
/* QUALITY DATA ELEMENTS */
DATA_QUALITY_ID = 1
DATA_QUALITY_DESC = "Data calculated based on original SPICE kernels"
/* TIME DATA ELEMENTS */
SPACECRAFT_CLOCK_START_COUNT = "1/0202831316.08254"
SPACECRAFT_CLOCK_STOP_COUNT = "1/0202831513.24186"
START_TIME = 2009-10-05T14:02:30.463Z
STOP_TIME = 2009-10-05T14:04:39.480Z
/* ORBITAL DATA ELEMENTS */
ASCENDING_NODE_LONGITUDE = 76.52
MAXIMUM_RESOLUTION = 14.2
FOOTPRINT_POINT_LATITUDE = (36.2965,36.2926,36.2871,36.2828, 36.2774,36.0254,35.8584,35.6914,35.5245 ,35.3575,35.1905,35.0236,34.8566, 34.6897,34.5228,34.3559,34.189,34.0222, 33.8553,33.6885,33.5217,33.3549,33.1881 ,33.0214,32.8546,32.6879,32.5213, 32.3546,32.188,32.0214,31.8549,31.6883, 31.5218,31.3554,31.189,31.0226,30.8562, 30.6899,30.5236,30.3574,30.1912,30.025, 29.6928,29.3608,29.029,28.6974,28.366, 28.0347,27.9512,27.9544,27.9559,27.957, 27.9578,27.9586,28.2902,28.6221,28.9542 ,29.2865,29.4527,29.6189,29.7852, 29.9516,30.118,30.2844,30.4509,30.6174, 30.784,30.9506,31.1172,31.2839,31.4506, 31.6173,31.7841,31.9509,32.1178,32.2846 ,32.4515,32.6185,32.7854,32.9524, 33.1195,33.2865,33.4536,33.6207,33.7878 ,33.9549,34.1221,34.2892,34.4564, 34.6236,34.7908,34.9581,35.1253,35.2926 ,35.4599,35.6271,35.7944,35.9617,36.129 ,36.2965)
FOOTPRINT_POINT_LONGITUDE = (118.115,117.776,117.392,117.142, 116.861,116.748,116.754,116.759,116.764 ,116.769,116.774,116.779,116.784, 116.788,116.793,116.797,116.802,116.806 ,116.81,116.814,116.818,116.822,116.826 ,116.83,116.833,116.837,116.84,116.844, 116.847,116.85,116.853,116.856,116.859, 116.862,116.865,116.868,116.87,116.873, 116.875,116.878,116.88,116.882,116.887, 116.89,116.894,116.898,116.901,116.904, 117.107,117.455,117.687,117.89,118.093, 118.376,118.373,118.37,118.367,118.365, 118.363,118.362,118.36,118.359,118.357, 118.355,118.354,118.352,118.351,118.349 ,118.347,118.346,118.344,118.342, 118.341,118.339,118.337,118.335,118.333 ,118.332,118.33,118.328,118.326,118.324 ,118.323,118.321,118.319,118.317, 118.315,118.313,118.311,118.309,118.307 ,118.305,118.303,118.301,118.299, 118.297,118.295,118.293,118.291, 118.115)
ORBIT_NUMBER = 7385
ORBITAL_ECCENTRICITY = 0.572
ORBITAL_INCLINATION = 86.81
ORBITAL_SEMIMAJOR_AXIS = 8745.23
PERIAPSIS_ALTITUDE = 352.41
PERIAPSIS_ARGUMENT_ANGLE = 142.82
PERIAPSIS_TIME = 2009-10-05T14:02:17.000Z
SPACECRAFT_ORIENTATION = (0.0,-1.0,0.0)
^MEX_ORIENTATION_DESC = "MEX_ORIENTATION_DESC.TXT"
SPACECRAFT_POINTING_MODE = NADIR
^MEX_POINTING_DESC = "MEX_POINTING_DESC.TXT"
RIGHT_ASCENSION = -1e+32
DECLINATION = -1e+32
OFFSET_ANGLE = -1e+32
SPACECRAFT_SOLAR_DISTANCE = 2.2903e+08
TARGET_NAME = MARS
/* CAMERA DATA ELEMENTS */
DETECTOR_TEMPERATURE = 19.5939
FOCAL_PLANE_TEMPERATURE = 8.1755
INST_CMPRS_NAME = "DISCRETE COSINE TRANSFORMATION (DCT)"
INST_CMPRS_RATIO = 7.57616
INST_CMPRS_QUALITY = 0
INST_CMPRS_QUANTZ_TBL_ID = 0
INSTRUMENT_TEMPERATURE = 11.234
LENS_TEMPERATURE = 8.5833
MACROPIXEL_SIZE = 1
MISSING_FRAMES = 0
PIXEL_SUBSAMPLING_FLAG = N
SIGNAL_CHAIN_ID = 0
/* RADIOMETRIC DATA ELEMENTS */
BANDWIDTH = 177.0
CENTER_FILTER_WAVELENGTH = 677.5
RADIANCE_OFFSET = 5.0415
RADIANCE_SCALING_FACTOR = 0.0126312
REFLECTANCE_SCALING_FACTOR = 0.000351979
MEX:REFLECTANCE_OFFSET = 0.140486
/* IMAGE OBJECT DEFINITIONS */
OBJECT = IMAGE
  INTERCHANGE_FORMAT = BINARY
  LINES = 39590
  LINE_SAMPLES = 6600
  SAMPLE_TYPE = UNSIGNED_INTEGER
  SAMPLE_BITS = 8
  BANDS = 1
  BAND_STORAGE_TYPE = BAND_SEQUENTIAL
  MAXIMUM = 255
  MEAN = 129.943
  MINIMUM = 1
  STANDARD_DEVIATION = 16.8769
END_OBJECT = IMAGE
/* MAP OBJECT DEFINITIONS */
OBJECT = IMAGE_MAP_PROJECTION
  ^DATA_SET_MAP_PROJECTION_CATALOG= "DSMAP.CAT"
  A_AXIS_RADIUS = 3396.0
  B_AXIS_RADIUS = 3396.0
  C_AXIS_RADIUS = 3396.0
  CENTER_LATITUDE = 0.0
  CENTER_LONGITUDE = 118.0
  COORDINATE_SYSTEM_NAME = PLANETOGRAPHIC
  COORDINATE_SYSTEM_TYPE = "BODY-FIXED ROTATING"
  EASTERNMOST_LONGITUDE = 118.376
  FIRST_STANDARD_PARALLEL = "N/A"
  LINE_FIRST_PIXEL = 1
  LINE_LAST_PIXEL = 39590
  LINE_PROJECTION_OFFSET = 172114.0
  MAP_PROJECTION_ROTATION = 0.0
  MAP_PROJECTION_TYPE = SINUSOIDAL
  MAP_RESOLUTION = 4741.71043093333
  MAP_SCALE = 0.0125
  MAXIMUM_LATITUDE = 36.2965
  MINIMUM_LATITUDE = 27.9512
  POSITIVE_LONGITUDE_DIRECTION = EAST
  REFERENCE_LATITUDE = "N/A"
  REFERENCE_LONGITUDE = "N/A"
  SAMPLE_FIRST_PIXEL = 1
  SAMPLE_LAST_PIXEL = 6600
  SAMPLE_PROJECTION_OFFSET = 4901.0
  SECOND_STANDARD_PARALLEL = "N/A"
  WESTERNMOST_LONGITUDE = 116.748
END_OBJECT = IMAGE_MAP_PROJECTION
/* The JPEG2000 image data file associated with this label. */
OBJECT = COMPRESSED_FILE
  FILE_NAME = "H7385_0000_ND3.JP2"
  RECORD_TYPE = UNDEFINED
  FILE_RECORDS = UNK
  ENCODING_TYPE = "JP2"
  INTERCHANGE_FORMAT = BINARY
  UNCOMPRESSED_FILE_NAME = "H7385_0000_ND3.IMG"
  REQUIRED_STORAGE_BYTES = "261327000"
  ^DESCRIPTION = "JP2INFO.TXT"
END_OBJECT = COMPRESSED_FILE
END
