PDS_VERSION_ID = PDS3
/* FILE DATA ELEMENTS */
RECORD_TYPE = STREAM
/* POINTERS TO DATA OBJECTS */
^COMPRESSED_FILE = "H7385_0000_P13.JP2"
/* IDENTIFICATION DATA ELEMENTS */
DATA_SET_ID = "MEX-M-HRSC-5-REFDR-MAPPROJECTED-V3.0"
DATA_SET_NAME = "MARS EXPRESS HRSC MAP PROJECTED REFDR V3.0"
DETECTOR_ID = MEX_HRSC_P1
EVENT_TYPE = "MARS-REGIONAL-MAPPING-Im-Lc-Pf"
INSTRUMENT_HOST_ID = MEX
INSTRUMENT_HOST_NAME = "MARS EXPRESS"
INSTRUMENT_ID = HRSC
INSTRUMENT_NAME = "HIGH RESOLUTION STEREO CAMERA"
MISSION_NAME = "MARS EXPRESS"
MISSION_PHASE_NAME = ME_Phase_18
PROCESSING_LEVEL_ID = 3
PRODUCT_CREATION_TIME = 2016-06-30T16:05:12.000Z
PRODUCT_ID = "H7385_0000_P13.JP2"
RELEASE_ID = 0081
REVISION_ID = 0000
/* QUALITY DATA ELEMENTS */
DATA_QUALITY_ID = 1
DATA_QUALITY_DESC = "Data calculated based on original SPICE kernels"
/* TIME DATA ELEMENTS */
SPACECRAFT_CLOCK_START_COUNT = "1/0202831316.08254"
SPACECRAFT_CLOCK_STOP_COUNT = "1/0202831513.24186"
START_TIME = 2009-10-05T14:02:09.400Z
STOP_TIME = 2009-10-05T14:04:17.640Z
/* ORBITAL DATA ELEMENTS */
ASCENDING_NODE_LONGITUDE = 76.52
MAXIMUM_RESOLUTION = 58.5
FOOTPRINT_POINT_LATITUDE = (36.3431,36.3401,36.3352,36.3284, 36.3235,36.2734,36.0271,35.7809,35.6167 ,35.4523,35.2879,34.9594,34.7951, 34.6306,34.4661,34.3015,34.137,33.9724, 33.8075,33.6428,33.4781,33.3133,33.1485 ,32.9837,32.8188,32.6539,32.4064, 32.2415,31.994,31.8288,31.6638,31.4987, 31.3336,31.1685,31.0034,30.7556,30.5905 ,30.3427,30.1775,30.0123,29.8471, 29.6817,29.4337,29.2687,29.1036,28.8557 ,28.6905,28.5253,28.2775,28.0301, 27.9523,27.9562,27.9586,27.9594,28.0434 ,28.2088,28.3743,28.5399,28.7053, 28.8707,29.1189,29.2844,29.4499,29.6153 ,29.7808,29.9462,30.1117,30.2772, 30.4427,30.6081,30.7735,30.939,31.1045, 31.3525,31.6833,31.9313,32.0967,32.262, 32.51,32.7578,32.923,33.0881,33.2535, 33.4181,33.5832,33.8306,33.9956,34.243, 34.4079,34.5727,34.7375,34.9021,35.0669 ,35.2316,35.4786,35.6431,35.8076,35.972 ,36.1366,36.3431)
FOOTPRINT_POINT_LONGITUDE = (118.265,117.958,117.596,117.207,116.97 ,116.748,116.756,116.764,116.769, 116.774,116.779,116.789,116.794,116.799 ,116.804,116.808,116.813,116.817, 116.821,116.825,116.829,116.833,116.837 ,116.841,116.845,116.849,116.854, 116.858,116.863,116.866,116.869,116.872 ,116.875,116.878,116.881,116.885, 116.888,116.892,116.894,116.897,116.899 ,116.901,116.904,116.907,116.909, 116.912,116.913,116.915,116.918,116.92, 117.203,117.581,117.865,118.108,118.368 ,118.367,118.366,118.365,118.363, 118.362,118.36,118.359,118.358,118.356, 118.355,118.354,118.352,118.351,118.35, 118.348,118.347,118.346,118.344,118.342 ,118.339,118.337,118.335,118.334, 118.331,118.329,118.327,118.326,118.324 ,118.322,118.321,118.318,118.317, 118.314,118.312,118.311,118.309,118.307 ,118.305,118.304,118.301,118.299, 118.297,118.295,118.293,118.265)
ORBIT_NUMBER = 7385
ORBITAL_ECCENTRICITY = 0.572
ORBITAL_INCLINATION = 86.81
ORBITAL_SEMIMAJOR_AXIS = 8745.23
PERIAPSIS_ALTITUDE = 352.41
PERIAPSIS_ARGUMENT_ANGLE = 142.82
PERIAPSIS_TIME = 2009-10-05T14:02:17.000Z
SPACECRAFT_ORIENTATION = (0.0,-1.0,0.0)
^MEX_ORIENTATION_DESC = "MEX_ORIENTATION_DESC.TXT"
SPACECRAFT_POINTING_MODE = NADIR
^MEX_POINTING_DESC = "MEX_POINTING_DESC.TXT"
RIGHT_ASCENSION = -1e+32
DECLINATION = -1e+32
OFFSET_ANGLE = -1e+32
SPACECRAFT_SOLAR_DISTANCE = 2.2903e+08
TARGET_NAME = MARS
/* CAMERA DATA ELEMENTS */
DETECTOR_TEMPERATURE = 17.5549
FOCAL_PLANE_TEMPERATURE = 8.1755
INST_CMPRS_NAME = "DISCRETE COSINE TRANSFORMATION (DCT)"
INST_CMPRS_RATIO = 17.5842
INST_CMPRS_QUALITY = 0
INST_CMPRS_QUANTZ_TBL_ID = 0
INSTRUMENT_TEMPERATURE = 11.234
LENS_TEMPERATURE = 8.5833
MACROPIXEL_SIZE = 4
MISSING_FRAMES = 0
PIXEL_SUBSAMPLING_FLAG = N
SIGNAL_CHAIN_ID = 3
/* RADIOMETRIC DATA ELEMENTS */
BANDWIDTH = 174.0
CENTER_FILTER_WAVELENGTH = 675.0
RADIANCE_OFFSET = 5.54362
RADIANCE_SCALING_FACTOR = 0.0121285
REFLECTANCE_SCALING_FACTOR = 0.000342197
MEX:REFLECTANCE_OFFSET = 0.15641
/* IMAGE OBJECT DEFINITIONS */
OBJECT = IMAGE
  INTERCHANGE_FORMAT = BINARY
  LINES = 9898
  LINE_SAMPLES = 1650
  SAMPLE_TYPE = UNSIGNED_INTEGER
  SAMPLE_BITS = 8
  BANDS = 1
  BAND_STORAGE_TYPE = BAND_SEQUENTIAL
  MAXIMUM = 255
  MEAN = 128.418
  MINIMUM = 1
  STANDARD_DEVIATION = 16.5961
END_OBJECT = IMAGE
/* MAP OBJECT DEFINITIONS */
OBJECT = IMAGE_MAP_PROJECTION
  ^DATA_SET_MAP_PROJECTION_CATALOG= "DSMAP.CAT"
  A_AXIS_RADIUS = 3396.0
  B_AXIS_RADIUS = 3396.0
  C_AXIS_RADIUS = 3396.0
  CENTER_LATITUDE = 0.0
  CENTER_LONGITUDE = 118.0
  COORDINATE_SYSTEM_NAME = PLANETOGRAPHIC
  COORDINATE_SYSTEM_TYPE = "BODY-FIXED ROTATING"
  EASTERNMOST_LONGITUDE = 118.368
  FIRST_STANDARD_PARALLEL = "N/A"
  LINE_FIRST_PIXEL = 1
  LINE_LAST_PIXEL = 9898
  LINE_PROJECTION_OFFSET = 43028.125
  MAP_PROJECTION_ROTATION = 0.0
  MAP_PROJECTION_TYPE = SINUSOIDAL
  MAP_RESOLUTION = 1185.42760773333
  MAP_SCALE = 0.05
  MAXIMUM_LATITUDE = 36.3431
  MINIMUM_LATITUDE = 27.9523
  POSITIVE_LONGITUDE_DIRECTION = EAST
  REFERENCE_LATITUDE = "N/A"
  REFERENCE_LONGITUDE = "N/A"
  SAMPLE_FIRST_PIXEL = 1
  SAMPLE_LAST_PIXEL = 1650
  SAMPLE_PROJECTION_OFFSET = 1224.875
  SECOND_STANDARD_PARALLEL = "N/A"
  WESTERNMOST_LONGITUDE = 116.748
END_OBJECT = IMAGE_MAP_PROJECTION
/* The JPEG2000 image data file associated with this label. */
OBJECT = COMPRESSED_FILE
  FILE_NAME = "H7385_0000_P13.JP2"
  RECORD_TYPE = UNDEFINED
  FILE_RECORDS = UNK
  ENCODING_TYPE = "JP2"
  INTERCHANGE_FORMAT = BINARY
  UNCOMPRESSED_FILE_NAME = "H7385_0000_P13.IMG"
  REQUIRED_STORAGE_BYTES = "16351500"
  ^DESCRIPTION = "JP2INFO.TXT"
END_OBJECT = COMPRESSED_FILE
END
