PDS_VERSION_ID = PDS3
/* FILE DATA ELEMENTS */
RECORD_TYPE = STREAM
/* POINTERS TO DATA OBJECTS */
^COMPRESSED_FILE = "H7388_0000_S13.JP2"
/* IDENTIFICATION DATA ELEMENTS */
DATA_SET_ID = "MEX-M-HRSC-5-REFDR-MAPPROJECTED-V3.0"
DATA_SET_NAME = "MARS EXPRESS HRSC MAP PROJECTED REFDR V3.0"
DETECTOR_ID = MEX_HRSC_S1
EVENT_TYPE = "MARS-REGIONAL-MAPPING-Vo-Te-Pf"
INSTRUMENT_HOST_ID = MEX
INSTRUMENT_HOST_NAME = "MARS EXPRESS"
INSTRUMENT_ID = HRSC
INSTRUMENT_NAME = "HIGH RESOLUTION STEREO CAMERA"
MISSION_NAME = "MARS EXPRESS"
MISSION_PHASE_NAME = ME_Phase_18
PROCESSING_LEVEL_ID = 3
PRODUCT_CREATION_TIME = 2016-06-30T16:05:12.000Z
PRODUCT_ID = "H7388_0000_S13.JP2"
RELEASE_ID = 0081
REVISION_ID = 0000
/* QUALITY DATA ELEMENTS */
DATA_QUALITY_ID = 1
DATA_QUALITY_DESC = "Data calculated based on original SPICE kernels"
/* TIME DATA ELEMENTS */
SPACECRAFT_CLOCK_START_COUNT = "1/0202905842.09048"
SPACECRAFT_CLOCK_STOP_COUNT = "1/0202906106.25015"
START_TIME = 2009-10-06T10:44:04.638Z
STOP_TIME = 2009-10-06T10:47:11.739Z
/* ORBITAL DATA ELEMENTS */
ASCENDING_NODE_LONGITUDE = 76.45
MAXIMUM_RESOLUTION = 30.3
FOOTPRINT_POINT_LATITUDE = (33.9219,33.921,33.9194,33.9172,33.9139 ,33.7324,33.504,33.1614,32.9327,32.5897 ,32.2465,32.0175,31.7888,31.5597, 31.2158,30.9866,30.757,30.5278,30.1834, 29.9538,29.6062,29.3766,29.0317,28.8018 ,28.5717,28.3417,28.1115,27.7664, 27.5363,27.306,27.0761,26.8457,26.6155, 26.27,26.0394,25.6406,25.368,25.09, 24.6737,24.3981,24.1246,23.8481,23.5732 ,23.298,23.0226,22.7477,22.4724,22.0596 ,21.6477,21.6241,21.6242,21.6239, 21.6228,21.6212,21.6186,21.617,21.8924, 22.1677,22.4443,22.851,23.1332,23.5453, 23.8216,24.0993,24.378,24.651,24.9254, 25.0678,25.344,25.6152,26.0188,26.25, 26.5957,26.9417,27.1723,27.5176,27.7482 ,28.094,28.4395,28.6696,29.0149,29.2451 ,29.5904,30.0539,30.3989,30.629,30.8585 ,31.0879,31.3177,31.6618,31.8912, 32.1207,32.3503,32.5795,32.8087,33.1517 ,33.3803,33.6091,33.8377,33.9219)
FOOTPRINT_POINT_LONGITUDE = (175.521,175.294,175.067,174.841, 174.572,174.368,174.374,174.381,174.386 ,174.393,174.4,174.405,174.409,174.413, 174.419,174.422,174.426,174.429,174.434 ,174.437,174.441,174.444,174.448,174.45 ,174.452,174.454,174.456,174.459, 174.461,174.462,174.464,174.465,174.466 ,174.467,174.468,174.469,174.471,174.47 ,174.471,174.47,174.471,174.47,174.469, 174.469,174.468,174.467,174.466,174.464 ,174.461,174.704,174.862,175.048, 175.277,175.507,175.766,175.944,175.943 ,175.942,175.94,175.941,175.937,175.936 ,175.935,175.933,175.93,175.93,175.929, 175.928,175.927,175.927,175.925,175.924 ,175.922,175.92,175.919,175.918,175.916 ,175.915,175.913,175.912,175.91,175.908 ,175.906,175.904,175.901,175.9,175.898, 175.897,175.896,175.893,175.892,175.89, 175.888,175.887,175.885,175.883,175.881 ,175.879,175.877,175.521)
ORBIT_NUMBER = 7388
ORBITAL_ECCENTRICITY = 0.572
ORBITAL_INCLINATION = 86.82
ORBITAL_SEMIMAJOR_AXIS = 8734.53
PERIAPSIS_ALTITUDE = 353.41
PERIAPSIS_ARGUMENT_ANGLE = 142.3
PERIAPSIS_TIME = 2009-10-06T10:43:38.000Z
SPACECRAFT_ORIENTATION = (0.0,-1.0,0.0)
^MEX_ORIENTATION_DESC = "MEX_ORIENTATION_DESC.TXT"
SPACECRAFT_POINTING_MODE = ACROSSTRACK
^MEX_POINTING_DESC = "MEX_POINTING_DESC.TXT"
RIGHT_ASCENSION = -1e+32
DECLINATION = -1e+32
OFFSET_ANGLE = 0.1
SPACECRAFT_SOLAR_DISTANCE = 2.29197e+08
TARGET_NAME = MARS
/* CAMERA DATA ELEMENTS */
DETECTOR_TEMPERATURE = 17.7588
FOCAL_PLANE_TEMPERATURE = 8.5833
INST_CMPRS_NAME = "DISCRETE COSINE TRANSFORMATION (DCT)"
INST_CMPRS_RATIO = 8.41134
INST_CMPRS_QUALITY = 0
INST_CMPRS_QUANTZ_TBL_ID = 0
INSTRUMENT_TEMPERATURE = 11.4379
LENS_TEMPERATURE = 8.9911
MACROPIXEL_SIZE = 2
MISSING_FRAMES = 2
PIXEL_SUBSAMPLING_FLAG = N
SIGNAL_CHAIN_ID = 1
/* RADIOMETRIC DATA ELEMENTS */
BANDWIDTH = 180.0
CENTER_FILTER_WAVELENGTH = 677.0
RADIANCE_OFFSET = 5.5336
RADIANCE_SCALING_FACTOR = 0.0197276
REFLECTANCE_SCALING_FACTOR = 0.000540674
MEX:REFLECTANCE_OFFSET = 0.151659
/* IMAGE OBJECT DEFINITIONS */
OBJECT = IMAGE
  INTERCHANGE_FORMAT = BINARY
  LINES = 29002
  LINE_SAMPLES = 3498
  SAMPLE_TYPE = UNSIGNED_INTEGER
  SAMPLE_BITS = 8
  BANDS = 1
  BAND_STORAGE_TYPE = BAND_SEQUENTIAL
  MAXIMUM = 255
  MEAN = 136.77
  MINIMUM = 1
  STANDARD_DEVIATION = 30.3943
END_OBJECT = IMAGE
/* MAP OBJECT DEFINITIONS */
OBJECT = IMAGE_MAP_PROJECTION
  ^DATA_SET_MAP_PROJECTION_CATALOG= "DSMAP.CAT"
  A_AXIS_RADIUS = 3396.0
  B_AXIS_RADIUS = 3396.0
  C_AXIS_RADIUS = 3396.0
  CENTER_LATITUDE = 0.0
  CENTER_LONGITUDE = 175.0
  COORDINATE_SYSTEM_NAME = PLANETOGRAPHIC
  COORDINATE_SYSTEM_TYPE = "BODY-FIXED ROTATING"
  EASTERNMOST_LONGITUDE = 175.944
  FIRST_STANDARD_PARALLEL = "N/A"
  LINE_FIRST_PIXEL = 1
  LINE_LAST_PIXEL = 29002
  LINE_PROJECTION_OFFSET = 80303.25
  MAP_PROJECTION_ROTATION = 0.0
  MAP_PROJECTION_TYPE = SINUSOIDAL
  MAP_RESOLUTION = 2370.85521546667
  MAP_SCALE = 0.025
  MAXIMUM_LATITUDE = 33.9219
  MINIMUM_LATITUDE = 21.617
  POSITIVE_LONGITUDE_DIRECTION = EAST
  REFERENCE_LATITUDE = "N/A"
  REFERENCE_LONGITUDE = "N/A"
  SAMPLE_FIRST_PIXEL = 1
  SAMPLE_LAST_PIXEL = 3498
  SAMPLE_PROJECTION_OFFSET = 1300.75
  SECOND_STANDARD_PARALLEL = "N/A"
  WESTERNMOST_LONGITUDE = 174.368
END_OBJECT = IMAGE_MAP_PROJECTION
/* The JPEG2000 image data file associated with this label. */
OBJECT = COMPRESSED_FILE
  FILE_NAME = "H7388_0000_S13.JP2"
  RECORD_TYPE = UNDEFINED
  FILE_RECORDS = UNK
  ENCODING_TYPE = "JP2"
  INTERCHANGE_FORMAT = BINARY
  UNCOMPRESSED_FILE_NAME = "H7388_0000_S13.IMG"
  REQUIRED_STORAGE_BYTES = "101469984"
  ^DESCRIPTION = "JP2INFO.TXT"
END_OBJECT = COMPRESSED_FILE
END
