PDS_VERSION_ID = PDS3
/* FILE DATA ELEMENTS */
RECORD_TYPE = STREAM
/* POINTERS TO DATA OBJECTS */
^COMPRESSED_FILE = "H7391_0000_P13.JP2"
/* IDENTIFICATION DATA ELEMENTS */
DATA_SET_ID = "MEX-M-HRSC-5-REFDR-MAPPROJECTED-V3.0"
DATA_SET_NAME = "MARS EXPRESS HRSC MAP PROJECTED REFDR V3.0"
DETECTOR_ID = MEX_HRSC_P1
EVENT_TYPE = "MARS-REGIONAL-MAPPING-Vo-Te"
INSTRUMENT_HOST_ID = MEX
INSTRUMENT_HOST_NAME = "MARS EXPRESS"
INSTRUMENT_ID = HRSC
INSTRUMENT_NAME = "HIGH RESOLUTION STEREO CAMERA"
MISSION_NAME = "MARS EXPRESS"
MISSION_PHASE_NAME = ME_Phase_18
PROCESSING_LEVEL_ID = 3
PRODUCT_CREATION_TIME = 2016-06-30T16:05:12.000Z
PRODUCT_ID = "H7391_0000_P13.JP2"
RELEASE_ID = 0081
REVISION_ID = 0000
/* QUALITY DATA ELEMENTS */
DATA_QUALITY_ID = 1
DATA_QUALITY_DESC = "Data calculated based on original SPICE kernels"
/* TIME DATA ELEMENTS */
SPACECRAFT_CLOCK_START_COUNT = "1/0202980198.09066"
SPACECRAFT_CLOCK_STOP_COUNT = "1/0202980526.50112"
START_TIME = 2009-10-07T07:23:32.060Z
STOP_TIME = 2009-10-07T07:27:47.645Z
/* ORBITAL DATA ELEMENTS */
ASCENDING_NODE_LONGITUDE = 76.4
MAXIMUM_RESOLUTION = 57.7
FOOTPRINT_POINT_LATITUDE = (41.7915,41.7863,41.7804,41.5768,41.257 ,40.937,40.6166,40.1355,39.8148,39.4935 ,39.172,38.8502,38.5281,38.2057,37.8829 ,37.5601,37.2373,36.7523,36.4289, 36.1053,35.7815,35.4575,34.9711,34.6467 ,34.3222,33.9978,33.6726,33.348,32.8605 ,32.5355,32.2101,31.8848,31.5596, 31.0714,30.7459,30.4202,29.9319,29.4434 ,29.1174,28.7913,28.4647,28.1385, 27.8133,27.4881,27.1632,26.7788,26.3908 ,25.8121,25.4244,25.181,25.1804,25.1767 ,25.1735,25.5609,25.9489,26.338,26.5331 ,26.9225,27.2842,27.6099,27.936,28.425, 28.9138,29.2399,29.7288,30.055,30.3808, 30.8697,31.1957,31.5215,31.8476,32.1734 ,32.4992,32.8248,33.1503,33.4756, 33.8011,34.1266,34.4515,34.9388,35.2635 ,35.588,35.9128,36.2372,36.5612,37.0472 ,37.371,37.6946,38.0179,38.3408,38.8252 ,39.1476,39.4699,39.7918,40.1136, 40.4349,40.917,41.2378,41.5588,41.7915)
FOOTPRINT_POINT_LONGITUDE = (233.015,232.525,232.144,231.71,231.726 ,231.742,231.757,231.778,231.793, 231.806,231.819,231.832,231.844,231.856 ,231.867,231.879,231.889,231.905, 231.914,231.924,231.933,231.942,231.954 ,231.962,231.969,231.977,231.983,231.99 ,231.999,232.005,232.011,232.016, 232.021,232.027,232.031,232.035,232.041 ,232.045,232.048,232.05,232.052,232.054 ,232.056,232.057,232.059,232.06,232.061 ,232.063,232.063,232.398,232.843, 233.142,233.374,233.513,233.512,233.51, 233.508,233.506,233.504,233.502,233.5, 233.497,233.495,233.493,233.49,233.488, 233.486,233.482,233.48,233.478,233.476, 233.473,233.471,233.469,233.466,233.464 ,233.461,233.458,233.456,233.452, 233.449,233.447,233.444,233.441,233.438 ,233.433,233.43,233.427,233.424,233.421 ,233.416,233.412,233.409,233.406, 233.402,233.399,233.393,233.389,233.385 ,233.015)
ORBIT_NUMBER = 7391
ORBITAL_ECCENTRICITY = 0.572
ORBITAL_INCLINATION = 86.82
ORBITAL_SEMIMAJOR_AXIS = 8743.12
PERIAPSIS_ALTITUDE = 352.81
PERIAPSIS_ARGUMENT_ANGLE = 141.75
PERIAPSIS_TIME = 2009-10-07T07:24:48.000Z
SPACECRAFT_ORIENTATION = (0.0,-1.0,0.0)
^MEX_ORIENTATION_DESC = "MEX_ORIENTATION_DESC.TXT"
SPACECRAFT_POINTING_MODE = ACROSSTRACK
^MEX_POINTING_DESC = "MEX_POINTING_DESC.TXT"
RIGHT_ASCENSION = -1e+32
DECLINATION = -1e+32
OFFSET_ANGLE = 0.2
SPACECRAFT_SOLAR_DISTANCE = 2.29364e+08
TARGET_NAME = MARS
/* CAMERA DATA ELEMENTS */
DETECTOR_TEMPERATURE = 17.7588
FOCAL_PLANE_TEMPERATURE = 8.9911
INST_CMPRS_NAME = "DISCRETE COSINE TRANSFORMATION (DCT)"
INST_CMPRS_RATIO = 7.90813
INST_CMPRS_QUALITY = 0
INST_CMPRS_QUANTZ_TBL_ID = 0
INSTRUMENT_TEMPERATURE = 11.6418
LENS_TEMPERATURE = 9.3989
MACROPIXEL_SIZE = 4
MISSING_FRAMES = 0
PIXEL_SUBSAMPLING_FLAG = N
SIGNAL_CHAIN_ID = 3
/* RADIOMETRIC DATA ELEMENTS */
BANDWIDTH = 174.0
CENTER_FILTER_WAVELENGTH = 675.0
RADIANCE_OFFSET = 3.7158
RADIANCE_SCALING_FACTOR = 0.0289518
REFLECTANCE_SCALING_FACTOR = 0.000819237
MEX:REFLECTANCE_OFFSET = 0.105144
/* IMAGE OBJECT DEFINITIONS */
OBJECT = IMAGE
  INTERCHANGE_FORMAT = BINARY
  LINES = 19671
  LINE_SAMPLES = 1781
  SAMPLE_TYPE = UNSIGNED_INTEGER
  SAMPLE_BITS = 8
  BANDS = 1
  BAND_STORAGE_TYPE = BAND_SEQUENTIAL
  MAXIMUM = 255
  MEAN = 127.645
  MINIMUM = 1
  STANDARD_DEVIATION = 35.3816
END_OBJECT = IMAGE
/* MAP OBJECT DEFINITIONS */
OBJECT = IMAGE_MAP_PROJECTION
  ^DATA_SET_MAP_PROJECTION_CATALOG= "DSMAP.CAT"
  A_AXIS_RADIUS = 3396.0
  B_AXIS_RADIUS = 3396.0
  C_AXIS_RADIUS = 3396.0
  CENTER_LATITUDE = 0.0
  CENTER_LONGITUDE = 233.0
  COORDINATE_SYSTEM_NAME = PLANETOGRAPHIC
  COORDINATE_SYSTEM_TYPE = "BODY-FIXED ROTATING"
  EASTERNMOST_LONGITUDE = 233.513
  FIRST_STANDARD_PARALLEL = "N/A"
  LINE_FIRST_PIXEL = 1
  LINE_LAST_PIXEL = 19671
  LINE_PROJECTION_OFFSET = 49503.625
  MAP_PROJECTION_ROTATION = 0.0
  MAP_PROJECTION_TYPE = SINUSOIDAL
  MAP_RESOLUTION = 1185.42760773333
  MAP_SCALE = 0.05
  MAXIMUM_LATITUDE = 41.7915
  MINIMUM_LATITUDE = 25.1735
  POSITIVE_LONGITUDE_DIRECTION = EAST
  REFERENCE_LATITUDE = "N/A"
  REFERENCE_LONGITUDE = "N/A"
  SAMPLE_FIRST_PIXEL = 1
  SAMPLE_LAST_PIXEL = 1781
  SAMPLE_PROJECTION_OFFSET = 1163.375
  SECOND_STANDARD_PARALLEL = "N/A"
  WESTERNMOST_LONGITUDE = 231.71
END_OBJECT = IMAGE_MAP_PROJECTION
/* The JPEG2000 image data file associated with this label. */
OBJECT = COMPRESSED_FILE
  FILE_NAME = "H7391_0000_P13.JP2"
  RECORD_TYPE = UNDEFINED
  FILE_RECORDS = UNK
  ENCODING_TYPE = "JP2"
  INTERCHANGE_FORMAT = BINARY
  UNCOMPRESSED_FILE_NAME = "H7391_0000_P13.IMG"
  REQUIRED_STORAGE_BYTES = "35053642"
  ^DESCRIPTION = "JP2INFO.TXT"
END_OBJECT = COMPRESSED_FILE
END
