PDS_VERSION_ID = PDS3
/* FILE DATA ELEMENTS */
RECORD_TYPE = STREAM
/* POINTERS TO DATA OBJECTS */
^COMPRESSED_FILE = "H7393_0000_ND3.JP2"
/* IDENTIFICATION DATA ELEMENTS */
DATA_SET_ID = "MEX-M-HRSC-5-REFDR-MAPPROJECTED-V3.0"
DATA_SET_NAME = "MARS EXPRESS HRSC MAP PROJECTED REFDR V3.0"
DETECTOR_ID = MEX_HRSC_NADIR
EVENT_TYPE = "MARS-REGIONAL-MAPPING-Te-Fl-La"
INSTRUMENT_HOST_ID = MEX
INSTRUMENT_HOST_NAME = "MARS EXPRESS"
INSTRUMENT_ID = HRSC
INSTRUMENT_NAME = "HIGH RESOLUTION STEREO CAMERA"
MISSION_NAME = "MARS EXPRESS"
MISSION_PHASE_NAME = ME_Phase_18
PROCESSING_LEVEL_ID = 3
PRODUCT_CREATION_TIME = 2016-06-30T16:05:12.000Z
PRODUCT_ID = "H7393_0000_ND3.JP2"
RELEASE_ID = 0081
REVISION_ID = 0000
/* QUALITY DATA ELEMENTS */
DATA_QUALITY_ID = 1
DATA_QUALITY_DESC = "Data calculated based on original SPICE kernels"
/* TIME DATA ELEMENTS */
SPACECRAFT_CLOCK_START_COUNT = "1/0203029994.09060"
SPACECRAFT_CLOCK_STOP_COUNT = "1/0203030318.25760"
START_TIME = 2009-10-07T21:13:48.748Z
STOP_TIME = 2009-10-07T21:17:53.739Z
/* ORBITAL DATA ELEMENTS */
ASCENDING_NODE_LONGITUDE = 76.36
MAXIMUM_RESOLUTION = 14.3
FOOTPRINT_POINT_LATITUDE = (32.9824,32.9775,32.9733,32.5606, 32.2876,32.0147,31.7419,31.4693,31.1967 ,30.9243,30.652,30.3798,29.8359,29.2925 ,28.9937,28.6699,28.3464,28.0231, 27.6999,27.3771,27.0545,26.7322,26.4102 ,26.0885,25.7611,25.44,25.1191,24.7986, 24.4783,24.1584,23.8388,23.5195,23.2006 ,22.882,22.5638,22.246,21.9285,21.6114, 21.1267,20.802,20.4777,20.1538,19.6571, 19.326,18.9953,18.4909,18.1529,17.8155, 17.4501,17.4484,17.4466,17.4425,17.7854 ,18.1232,18.4616,18.9673,19.2984,19.796 ,20.1281,20.4524,20.7771,21.1023, 21.5883,21.9057,22.2237,22.542,22.8606, 23.1796,23.4989,23.8187,24.1387,24.459, 24.7797,25.1007,25.422,25.7436,26.2325, 26.555,26.8776,27.2005,27.5235,27.8468, 28.1704,28.4943,28.8185,29.2833,29.5554 ,29.8275,30.0998,30.3722,30.6448, 30.9175,31.1903,31.4633,31.7363,32.0095 ,32.2828,32.5562,32.9664,32.9824)
FOOTPRINT_POINT_LONGITUDE = (31.4055,30.8396,30.4932,30.2517, 30.2572,30.2614,30.2657,30.2691,30.2723 ,30.2756,30.2789,30.2818,30.2869, 30.2915,30.2936,30.2961,30.2982,30.2992 ,30.3018,30.3033,30.3043,30.3046, 30.3041,30.303,30.302,30.3014,30.3007, 30.2997,30.2987,30.2976,30.2963,30.2949 ,30.2931,30.2908,30.2885,30.2859, 30.2831,30.2804,30.2755,30.2718,30.2691 ,30.2652,30.2586,30.2535,30.2486, 30.2405,30.2349,30.2292,30.4621,30.941, 31.2772,31.8481,31.8459,31.8431,31.8406 ,31.8368,31.8341,31.8297,31.8298, 31.8295,31.8281,31.8267,31.8271,31.8218 ,31.8209,31.8192,31.8172,31.8152, 31.8138,31.8124,31.8106,31.8091,31.8067 ,31.8044,31.8023,31.8005,31.7945, 31.7968,31.7953,31.7934,31.7882,31.7826 ,31.7811,31.7795,31.7775,31.7751, 31.7735,31.7716,31.7693,31.7671,31.7648 ,31.7627,31.7605,31.7582,31.756,31.7537 ,31.7515,31.7488,31.7444,31.4055)
ORBIT_NUMBER = 7393
ORBITAL_ECCENTRICITY = 0.572
ORBITAL_INCLINATION = 86.81
ORBITAL_SEMIMAJOR_AXIS = 8740.24
PERIAPSIS_ALTITUDE = 353.74
PERIAPSIS_ARGUMENT_ANGLE = 141.43
PERIAPSIS_TIME = 2009-10-07T21:12:23.000Z
SPACECRAFT_ORIENTATION = (0.0,-1.0,0.0)
^MEX_ORIENTATION_DESC = "MEX_ORIENTATION_DESC.TXT"
SPACECRAFT_POINTING_MODE = ACROSSTRACK
^MEX_POINTING_DESC = "MEX_POINTING_DESC.TXT"
RIGHT_ASCENSION = -1e+32
DECLINATION = -1e+32
OFFSET_ANGLE = 0.2
SPACECRAFT_SOLAR_DISTANCE = 2.29474e+08
TARGET_NAME = MARS
/* CAMERA DATA ELEMENTS */
DETECTOR_TEMPERATURE = 18.1666
FOCAL_PLANE_TEMPERATURE = 8.7872
INST_CMPRS_NAME = "DISCRETE COSINE TRANSFORMATION (DCT)"
INST_CMPRS_RATIO = 7.11402
INST_CMPRS_QUALITY = 0
INST_CMPRS_QUANTZ_TBL_ID = 0
INSTRUMENT_TEMPERATURE = 11.234
LENS_TEMPERATURE = 9.195
MACROPIXEL_SIZE = 1
MISSING_FRAMES = 3
PIXEL_SUBSAMPLING_FLAG = N
SIGNAL_CHAIN_ID = 0
/* RADIOMETRIC DATA ELEMENTS */
BANDWIDTH = 177.0
CENTER_FILTER_WAVELENGTH = 677.5
RADIANCE_OFFSET = 4.98673
RADIANCE_SCALING_FACTOR = 0.0193257
REFLECTANCE_SCALING_FACTOR = 0.000540617
MEX:REFLECTANCE_OFFSET = 0.139499
/* IMAGE OBJECT DEFINITIONS */
OBJECT = IMAGE
  INTERCHANGE_FORMAT = BINARY
  LINES = 73705
  LINE_SAMPLES = 7685
  SAMPLE_TYPE = UNSIGNED_INTEGER
  SAMPLE_BITS = 8
  BANDS = 1
  BAND_STORAGE_TYPE = BAND_SEQUENTIAL
  MAXIMUM = 255
  MEAN = 156.792
  MINIMUM = 1
  STANDARD_DEVIATION = 23.5781
END_OBJECT = IMAGE
/* MAP OBJECT DEFINITIONS */
OBJECT = IMAGE_MAP_PROJECTION
  ^DATA_SET_MAP_PROJECTION_CATALOG= "DSMAP.CAT"
  A_AXIS_RADIUS = 3396.0
  B_AXIS_RADIUS = 3396.0
  C_AXIS_RADIUS = 3396.0
  CENTER_LATITUDE = 0.0
  CENTER_LONGITUDE = 31.0
  COORDINATE_SYSTEM_NAME = PLANETOGRAPHIC
  COORDINATE_SYSTEM_TYPE = "BODY-FIXED ROTATING"
  EASTERNMOST_LONGITUDE = 31.8481
  FIRST_STANDARD_PARALLEL = "N/A"
  LINE_FIRST_PIXEL = 1
  LINE_LAST_PIXEL = 73705
  LINE_PROJECTION_OFFSET = 156411.0
  MAP_PROJECTION_ROTATION = 0.0
  MAP_PROJECTION_TYPE = SINUSOIDAL
  MAP_RESOLUTION = 4741.71043093333
  MAP_SCALE = 0.0125
  MAXIMUM_LATITUDE = 32.9824
  MINIMUM_LATITUDE = 17.4425
  POSITIVE_LONGITUDE_DIRECTION = EAST
  REFERENCE_LATITUDE = "N/A"
  REFERENCE_LONGITUDE = "N/A"
  SAMPLE_FIRST_PIXEL = 1
  SAMPLE_LAST_PIXEL = 7685
  SAMPLE_PROJECTION_OFFSET = 3634.0
  SECOND_STANDARD_PARALLEL = "N/A"
  WESTERNMOST_LONGITUDE = 30.2292
END_OBJECT = IMAGE_MAP_PROJECTION
/* The JPEG2000 image data file associated with this label. */
OBJECT = COMPRESSED_FILE
  FILE_NAME = "H7393_0000_ND3.JP2"
  RECORD_TYPE = UNDEFINED
  FILE_RECORDS = UNK
  ENCODING_TYPE = "JP2"
  INTERCHANGE_FORMAT = BINARY
  UNCOMPRESSED_FILE_NAME = "H7393_0000_ND3.IMG"
  REQUIRED_STORAGE_BYTES = "566453665"
  ^DESCRIPTION = "JP2INFO.TXT"
END_OBJECT = COMPRESSED_FILE
END
