PDS_VERSION_ID = PDS3
/* FILE DATA ELEMENTS */
RECORD_TYPE = STREAM
/* POINTERS TO DATA OBJECTS */
^COMPRESSED_FILE = "H7394_0000_GR3.JP2"
/* IDENTIFICATION DATA ELEMENTS */
DATA_SET_ID = "MEX-M-HRSC-5-REFDR-MAPPROJECTED-V3.0"
DATA_SET_NAME = "MARS EXPRESS HRSC MAP PROJECTED REFDR V3.0"
DETECTOR_ID = MEX_HRSC_GREEN
EVENT_TYPE = "MARS-REGIONAL-MAPPING-Vo-Te"
INSTRUMENT_HOST_ID = MEX
INSTRUMENT_HOST_NAME = "MARS EXPRESS"
INSTRUMENT_ID = HRSC
INSTRUMENT_NAME = "HIGH RESOLUTION STEREO CAMERA"
MISSION_NAME = "MARS EXPRESS"
MISSION_PHASE_NAME = ME_Phase_18
PROCESSING_LEVEL_ID = 3
PRODUCT_CREATION_TIME = 2016-06-30T16:05:12.000Z
PRODUCT_ID = "H7394_0000_GR3.JP2"
RELEASE_ID = 0081
REVISION_ID = 0000
/* QUALITY DATA ELEMENTS */
DATA_QUALITY_ID = 1
DATA_QUALITY_DESC = "Data calculated based on original SPICE kernels"
/* TIME DATA ELEMENTS */
SPACECRAFT_CLOCK_START_COUNT = "1/0203055020.08929"
SPACECRAFT_CLOCK_STOP_COUNT = "1/0203055436.56798"
START_TIME = 2009-10-08T04:10:53.589Z
STOP_TIME = 2009-10-08T04:15:51.029Z
/* ORBITAL DATA ELEMENTS */
ASCENDING_NODE_LONGITUDE = 76.34
MAXIMUM_RESOLUTION = 133.2
FOOTPRINT_POINT_LATITUDE = (20.3278,20.3268,20.3204,20.0187,19.561 ,19.2521,18.9437,18.6357,18.3232,18.008 ,17.6933,17.3788,16.8976,16.5765, 16.2558,15.9289,15.6013,15.2743,14.9424 ,14.6086,14.2753,13.9372,13.5974, 13.2581,12.9125,12.3941,11.8672,11.5158 ,10.9799,10.6226,10.2585,9.89514, 9.52658,9.1573,8.78375,8.40847,8.02913, 7.64818,7.26245,6.67987,6.28743,5.89082 ,5.2906,4.68295,4.06696,3.65279,3.23351 ,2.81124,2.4156,2.41167,2.40641,2.39809 ,2.39015,2.81624,3.23914,3.659,4.07482, 4.48562,4.89571,5.30013,5.90119,6.49477 ,6.88755,7.27498,7.66102,8.04288, 8.42245,8.79856,9.17236,9.54253,9.91121 ,10.2756,10.6397,10.9977,11.5341, 11.8863,12.4136,12.7597,13.2787,13.6186 ,13.9591,14.2973,14.6312,14.9656, 15.2974,15.6251,15.9532,16.2801,16.6013 ,16.9231,17.4045,17.8771,18.1926, 18.5085,18.8171,19.1259,19.435,19.8965, 20.1985,20.3278)
FOOTPRINT_POINT_LONGITUDE = (289.792,289.376,288.873,288.87,288.866 ,288.863,288.859,288.856,288.852, 288.848,288.844,288.84,288.833,288.828, 288.822,288.817,288.811,288.805,288.799 ,288.792,288.786,288.779,288.772, 288.764,288.756,288.744,288.731,288.723 ,288.709,288.699,288.689,288.679, 288.668,288.658,288.646,288.635,288.622 ,288.61,288.597,288.578,288.564,288.55, 288.527,288.505,288.48,288.465,288.449, 288.432,288.798,289.06,289.402,289.924, 290.558,290.554,290.55,290.547,290.543, 290.54,290.535,290.532,290.527,290.521, 290.518,290.515,290.512,290.508,290.505 ,290.502,290.499,290.496,290.493,290.49 ,290.487,290.485,290.48,290.478,290.473 ,290.471,290.467,290.464,290.461, 290.458,290.456,290.453,290.45,290.448, 290.445,290.442,290.44,290.437,290.433, 290.429,290.426,290.423,290.421,290.418 ,290.415,290.411,290.409,289.792)
ORBIT_NUMBER = 7394
ORBITAL_ECCENTRICITY = 0.572
ORBITAL_INCLINATION = 86.81
ORBITAL_SEMIMAJOR_AXIS = 8739.37
PERIAPSIS_ALTITUDE = 353.65
PERIAPSIS_ARGUMENT_ANGLE = 141.26
PERIAPSIS_TIME = 2009-10-08T04:06:13.000Z
SPACECRAFT_ORIENTATION = (0.0,-1.0,0.0)
^MEX_ORIENTATION_DESC = "MEX_ORIENTATION_DESC.TXT"
SPACECRAFT_POINTING_MODE = ACROSSTRACK
^MEX_POINTING_DESC = "MEX_POINTING_DESC.TXT"
RIGHT_ASCENSION = -1e+32
DECLINATION = -1e+32
OFFSET_ANGLE = -0.3
SPACECRAFT_SOLAR_DISTANCE = 2.2953e+08
TARGET_NAME = MARS
/* CAMERA DATA ELEMENTS */
DETECTOR_TEMPERATURE = 18.1666
FOCAL_PLANE_TEMPERATURE = 8.5833
INST_CMPRS_NAME = "DISCRETE COSINE TRANSFORMATION (DCT)"
INST_CMPRS_RATIO = 23.9744
INST_CMPRS_QUALITY = 0
INST_CMPRS_QUANTZ_TBL_ID = 0
INSTRUMENT_TEMPERATURE = 11.234
LENS_TEMPERATURE = 9.195
MACROPIXEL_SIZE = 8
MISSING_FRAMES = 0
PIXEL_SUBSAMPLING_FLAG = N
SIGNAL_CHAIN_ID = 2
/* RADIOMETRIC DATA ELEMENTS */
BANDWIDTH = 88.0
CENTER_FILTER_WAVELENGTH = 538.0
RADIANCE_OFFSET = 1.54304
RADIANCE_SCALING_FACTOR = 0.00596937
REFLECTANCE_SCALING_FACTOR = 0.000270769
MEX:REFLECTANCE_OFFSET = 0.0699919
/* IMAGE OBJECT DEFINITIONS */
OBJECT = IMAGE
  INTERCHANGE_FORMAT = BINARY
  LINES = 10641
  LINE_SAMPLES = 1359
  SAMPLE_TYPE = UNSIGNED_INTEGER
  SAMPLE_BITS = 8
  BANDS = 1
  BAND_STORAGE_TYPE = BAND_SEQUENTIAL
  MAXIMUM = 255
  MEAN = 121.227
  MINIMUM = 1
  STANDARD_DEVIATION = 31.1905
END_OBJECT = IMAGE
/* MAP OBJECT DEFINITIONS */
OBJECT = IMAGE_MAP_PROJECTION
  ^DATA_SET_MAP_PROJECTION_CATALOG= "DSMAP.CAT"
  A_AXIS_RADIUS = 3396.0
  B_AXIS_RADIUS = 3396.0
  C_AXIS_RADIUS = 3396.0
  CENTER_LATITUDE = 0.0
  CENTER_LONGITUDE = 290.0
  COORDINATE_SYSTEM_NAME = PLANETOGRAPHIC
  COORDINATE_SYSTEM_TYPE = "BODY-FIXED ROTATING"
  EASTERNMOST_LONGITUDE = 290.558
  FIRST_STANDARD_PARALLEL = "N/A"
  LINE_FIRST_PIXEL = 1
  LINE_LAST_PIXEL = 10641
  LINE_PROJECTION_OFFSET = 12048.1875
  MAP_PROJECTION_ROTATION = 0.0
  MAP_PROJECTION_TYPE = SINUSOIDAL
  MAP_RESOLUTION = 592.713803866667
  MAP_SCALE = 0.1
  MAXIMUM_LATITUDE = 20.3278
  MINIMUM_LATITUDE = 2.39015
  POSITIVE_LONGITUDE_DIRECTION = EAST
  REFERENCE_LATITUDE = "N/A"
  REFERENCE_LONGITUDE = "N/A"
  SAMPLE_FIRST_PIXEL = 1
  SAMPLE_LAST_PIXEL = 1359
  SAMPLE_PROJECTION_OFFSET = 997.4375
  SECOND_STANDARD_PARALLEL = "N/A"
  WESTERNMOST_LONGITUDE = 288.432
END_OBJECT = IMAGE_MAP_PROJECTION
/* The JPEG2000 image data file associated with this label. */
OBJECT = COMPRESSED_FILE
  FILE_NAME = "H7394_0000_GR3.JP2"
  RECORD_TYPE = UNDEFINED
  FILE_RECORDS = UNK
  ENCODING_TYPE = "JP2"
  INTERCHANGE_FORMAT = BINARY
  UNCOMPRESSED_FILE_NAME = "H7394_0000_GR3.IMG"
  REQUIRED_STORAGE_BYTES = "14480145"
  ^DESCRIPTION = "JP2INFO.TXT"
END_OBJECT = COMPRESSED_FILE
END
