PDS_VERSION_ID = PDS3
/* FILE DATA ELEMENTS */
RECORD_TYPE = STREAM
/* POINTERS TO DATA OBJECTS */
^COMPRESSED_FILE = "H7394_0000_P23.JP2"
/* IDENTIFICATION DATA ELEMENTS */
DATA_SET_ID = "MEX-M-HRSC-5-REFDR-MAPPROJECTED-V3.0"
DATA_SET_NAME = "MARS EXPRESS HRSC MAP PROJECTED REFDR V3.0"
DETECTOR_ID = MEX_HRSC_P2
EVENT_TYPE = "MARS-REGIONAL-MAPPING-Vo-Te"
INSTRUMENT_HOST_ID = MEX
INSTRUMENT_HOST_NAME = "MARS EXPRESS"
INSTRUMENT_ID = HRSC
INSTRUMENT_NAME = "HIGH RESOLUTION STEREO CAMERA"
MISSION_NAME = "MARS EXPRESS"
MISSION_PHASE_NAME = ME_Phase_18
PROCESSING_LEVEL_ID = 3
PRODUCT_CREATION_TIME = 2016-06-30T16:05:12.000Z
PRODUCT_ID = "H7394_0000_P23.JP2"
RELEASE_ID = 0081
REVISION_ID = 0000
/* QUALITY DATA ELEMENTS */
DATA_QUALITY_ID = 1
DATA_QUALITY_DESC = "Data calculated based on original SPICE kernels"
/* TIME DATA ELEMENTS */
SPACECRAFT_CLOCK_START_COUNT = "1/0203055020.08929"
SPACECRAFT_CLOCK_STOP_COUNT = "1/0203055436.56798"
START_TIME = 2009-10-08T04:11:26.903Z
STOP_TIME = 2009-10-08T04:16:49.022Z
/* ORBITAL DATA ELEMENTS */
ASCENDING_NODE_LONGITUDE = 76.34
MAXIMUM_RESOLUTION = 35.7
FOOTPRINT_POINT_LATITUDE = (20.3095,20.3155,20.3184,20.3212, 20.3329,20.0248,19.7172,19.4087,19.0944 ,18.7811,18.4682,18.1502,17.8311, 17.5138,17.1907,16.8664,16.5429,16.2146 ,15.8852,15.3893,15.0557,14.721,14.3813 ,13.8724,13.5271,13.1829,12.6595, 12.3102,11.9552,11.6012,11.2409,10.699, 10.3349,9.9666,9.5978,9.22428,8.66003, 8.08992,7.51295,6.92859,6.53684,6.13979 ,5.74017,5.33828,4.93256,4.52249, 4.10968,3.48238,3.06332,2.64628,2.41758 ,2.40301,2.38978,2.37956,2.37315, 2.57372,2.99061,3.4105,4.03926,4.66373, 5.06784,5.47405,5.87633,6.27447,6.86711 ,7.45292,8.03152,8.60345,9.16899, 9.54403,9.91358,10.4677,10.8307,11.1909 ,11.552,11.9071,12.4386,12.789,13.1386, 13.4837,13.8297,14.1695,14.5099,15.015, 15.3504,15.8478,16.178,16.507,16.8312, 17.1557,17.4789,17.7977,18.1175,18.4366 ,18.7499,19.064,19.5341,19.842,20.151, 20.3095)
FOOTPRINT_POINT_LONGITUDE = (290.253,289.756,289.505,289.255, 288.819,288.815,288.811,288.808,288.804 ,288.799,288.795,288.79,288.785,288.779 ,288.774,288.768,288.762,288.756, 288.749,288.739,288.731,288.724,288.716 ,288.704,288.695,288.686,288.672, 288.663,288.653,288.642,288.632,288.615 ,288.604,288.592,288.58,288.567,288.547 ,288.527,288.505,288.483,288.467, 288.451,288.434,288.417,288.4,288.382, 288.363,288.335,288.316,288.297,288.494 ,289.002,289.53,289.965,290.263,290.657 ,290.651,290.645,290.636,290.629, 290.621,290.616,290.61,290.604,290.597, 290.589,290.582,290.575,290.568,290.563 ,290.559,290.553,290.548,290.544,290.54 ,290.536,290.53,290.526,290.522,290.518 ,290.514,290.51,290.507,290.501,290.497 ,290.492,290.488,290.485,290.481, 290.477,290.474,290.47,290.467,290.463, 290.46,290.456,290.451,290.448,290.444, 290.253)
ORBIT_NUMBER = 7394
ORBITAL_ECCENTRICITY = 0.572
ORBITAL_INCLINATION = 86.81
ORBITAL_SEMIMAJOR_AXIS = 8739.37
PERIAPSIS_ALTITUDE = 353.65
PERIAPSIS_ARGUMENT_ANGLE = 141.26
PERIAPSIS_TIME = 2009-10-08T04:06:13.000Z
SPACECRAFT_ORIENTATION = (0.0,-1.0,0.0)
^MEX_ORIENTATION_DESC = "MEX_ORIENTATION_DESC.TXT"
SPACECRAFT_POINTING_MODE = ACROSSTRACK
^MEX_POINTING_DESC = "MEX_POINTING_DESC.TXT"
RIGHT_ASCENSION = -1e+32
DECLINATION = -1e+32
OFFSET_ANGLE = -0.3
SPACECRAFT_SOLAR_DISTANCE = 2.2953e+08
TARGET_NAME = MARS
/* CAMERA DATA ELEMENTS */
DETECTOR_TEMPERATURE = 18.5744
FOCAL_PLANE_TEMPERATURE = 8.5833
INST_CMPRS_NAME = "DISCRETE COSINE TRANSFORMATION (DCT)"
INST_CMPRS_RATIO = 7.56739
INST_CMPRS_QUALITY = 0
INST_CMPRS_QUANTZ_TBL_ID = 0
INSTRUMENT_TEMPERATURE = 11.234
LENS_TEMPERATURE = 9.195
MACROPIXEL_SIZE = 2
MISSING_FRAMES = 0
PIXEL_SUBSAMPLING_FLAG = N
SIGNAL_CHAIN_ID = 3
/* RADIOMETRIC DATA ELEMENTS */
BANDWIDTH = 177.0
CENTER_FILTER_WAVELENGTH = 676.5
RADIANCE_OFFSET = 5.18358
RADIANCE_SCALING_FACTOR = 0.0227583
REFLECTANCE_SCALING_FACTOR = 0.000635736
MEX:REFLECTANCE_OFFSET = 0.1448
/* IMAGE OBJECT DEFINITIONS */
OBJECT = IMAGE
  INTERCHANGE_FORMAT = BINARY
  LINES = 42562
  LINE_SAMPLES = 5435
  SAMPLE_TYPE = UNSIGNED_INTEGER
  SAMPLE_BITS = 8
  BANDS = 1
  BAND_STORAGE_TYPE = BAND_SEQUENTIAL
  MAXIMUM = 255
  MEAN = 118.273
  MINIMUM = 1
  STANDARD_DEVIATION = 32.7228
END_OBJECT = IMAGE
/* MAP OBJECT DEFINITIONS */
OBJECT = IMAGE_MAP_PROJECTION
  ^DATA_SET_MAP_PROJECTION_CATALOG= "DSMAP.CAT"
  A_AXIS_RADIUS = 3396.0
  B_AXIS_RADIUS = 3396.0
  C_AXIS_RADIUS = 3396.0
  CENTER_LATITUDE = 0.0
  CENTER_LONGITUDE = 290.0
  COORDINATE_SYSTEM_NAME = PLANETOGRAPHIC
  COORDINATE_SYSTEM_TYPE = "BODY-FIXED ROTATING"
  EASTERNMOST_LONGITUDE = 290.657
  FIRST_STANDARD_PARALLEL = "N/A"
  LINE_FIRST_PIXEL = 1
  LINE_LAST_PIXEL = 42562
  LINE_PROJECTION_OFFSET = 48194.25
  MAP_PROJECTION_ROTATION = 0.0
  MAP_PROJECTION_TYPE = SINUSOIDAL
  MAP_RESOLUTION = 2370.85521546667
  MAP_SCALE = 0.025
  MAXIMUM_LATITUDE = 20.3329
  MINIMUM_LATITUDE = 2.37315
  POSITIVE_LONGITUDE_DIRECTION = EAST
  REFERENCE_LATITUDE = "N/A"
  REFERENCE_LONGITUDE = "N/A"
  SAMPLE_FIRST_PIXEL = 1
  SAMPLE_LAST_PIXEL = 5435
  SAMPLE_PROJECTION_OFFSET = 3991.25
  SECOND_STANDARD_PARALLEL = "N/A"
  WESTERNMOST_LONGITUDE = 288.297
END_OBJECT = IMAGE_MAP_PROJECTION
/* The JPEG2000 image data file associated with this label. */
OBJECT = COMPRESSED_FILE
  FILE_NAME = "H7394_0000_P23.JP2"
  RECORD_TYPE = UNDEFINED
  FILE_RECORDS = UNK
  ENCODING_TYPE = "JP2"
  INTERCHANGE_FORMAT = BINARY
  UNCOMPRESSED_FILE_NAME = "H7394_0000_P23.IMG"
  REQUIRED_STORAGE_BYTES = "231351645"
  ^DESCRIPTION = "JP2INFO.TXT"
END_OBJECT = COMPRESSED_FILE
END
