PDS_VERSION_ID = PDS3
/* FILE DATA ELEMENTS */
RECORD_TYPE = STREAM
/* POINTERS TO DATA OBJECTS */
^COMPRESSED_FILE = "H7394_0000_S23.JP2"
/* IDENTIFICATION DATA ELEMENTS */
DATA_SET_ID = "MEX-M-HRSC-5-REFDR-MAPPROJECTED-V3.0"
DATA_SET_NAME = "MARS EXPRESS HRSC MAP PROJECTED REFDR V3.0"
DETECTOR_ID = MEX_HRSC_S2
EVENT_TYPE = "MARS-REGIONAL-MAPPING-Vo-Te"
INSTRUMENT_HOST_ID = MEX
INSTRUMENT_HOST_NAME = "MARS EXPRESS"
INSTRUMENT_ID = HRSC
INSTRUMENT_NAME = "HIGH RESOLUTION STEREO CAMERA"
MISSION_NAME = "MARS EXPRESS"
MISSION_PHASE_NAME = ME_Phase_18
PROCESSING_LEVEL_ID = 3
PRODUCT_CREATION_TIME = 2016-06-30T16:05:12.000Z
PRODUCT_ID = "H7394_0000_S23.JP2"
RELEASE_ID = 0081
REVISION_ID = 0000
/* QUALITY DATA ELEMENTS */
DATA_QUALITY_ID = 1
DATA_QUALITY_DESC = "Data calculated based on original SPICE kernels"
/* TIME DATA ELEMENTS */
SPACECRAFT_CLOCK_START_COUNT = "1/0203055020.08929"
SPACECRAFT_CLOCK_STOP_COUNT = "1/0203055436.56798"
START_TIME = 2009-10-08T04:11:41.862Z
STOP_TIME = 2009-10-08T04:17:17.408Z
/* ORBITAL DATA ELEMENTS */
ASCENDING_NODE_LONGITUDE = 76.34
MAXIMUM_RESOLUTION = 37.7
FOOTPRINT_POINT_LATITUDE = (20.3015,20.3107,20.1785,19.4029, 19.0884,18.7728,18.4577,18.1393,17.8187 ,17.5004,17.1752,16.85,16.3601,16.0301, 15.7011,15.3661,15.0321,14.695,14.3556, 13.8428,13.4992,13.1522,12.804,12.4526, 12.1,11.744,11.3868,11.0245,10.4798, 10.1139,9.7431,9.37177,8.99669,8.61923, 8.23989,7.857,7.47043,7.08143,6.6909, 6.29572,5.89765,5.4971,5.09306,4.68624, 4.28251,3.87998,3.27732,2.87858,2.48159 ,2.41164,2.38993,2.37649,2.3675,2.35705 ,2.75312,3.15163,3.55373,4.16268, 4.57252,5.17463,5.57932,5.97929,6.37659 ,6.77174,7.16454,7.55263,8.13045, 8.51179,8.89115,9.2668,9.82567,10.1942, 10.7443,11.1073,11.6473,12.0052,12.3588 ,12.7119,13.0612,13.41,13.7541,14.0993, 14.4386,14.9476,15.2828,15.7844,16.1149 ,16.6093,17.0972,17.4226,17.7425, 18.0641,18.3845,18.6999,19.0159,19.332, 19.6423,19.9533,20.2658,20.3015)
FOOTPRINT_POINT_LONGITUDE = (289.982,289.471,288.798,288.788, 288.783,288.778,288.774,288.768,288.763 ,288.757,288.751,288.745,288.735, 288.728,288.72,288.713,288.705,288.697, 288.688,288.675,288.666,288.656,288.646 ,288.636,288.625,288.614,288.603, 288.592,288.573,288.561,288.548,288.535 ,288.521,288.507,288.492,288.477, 288.461,288.445,288.429,288.411,288.394 ,288.376,288.357,288.338,288.318, 288.299,288.27,288.251,288.231,288.689, 289.34,289.822,290.182,290.719,290.712, 290.704,290.698,290.688,290.682,290.669 ,290.662,290.655,290.649,290.643, 290.636,290.63,290.621,290.616,290.61, 290.605,290.597,290.591,290.584,290.579 ,290.572,290.567,290.562,290.557, 290.553,290.548,290.544,290.539,290.535 ,290.529,290.524,290.518,290.514, 290.508,290.502,290.497,290.493,290.49, 290.486,290.482,290.478,290.474,290.47, 290.466,290.462,289.982)
ORBIT_NUMBER = 7394
ORBITAL_ECCENTRICITY = 0.572
ORBITAL_INCLINATION = 86.81
ORBITAL_SEMIMAJOR_AXIS = 8739.37
PERIAPSIS_ALTITUDE = 353.65
PERIAPSIS_ARGUMENT_ANGLE = 141.26
PERIAPSIS_TIME = 2009-10-08T04:06:13.000Z
SPACECRAFT_ORIENTATION = (0.0,-1.0,0.0)
^MEX_ORIENTATION_DESC = "MEX_ORIENTATION_DESC.TXT"
SPACECRAFT_POINTING_MODE = ACROSSTRACK
^MEX_POINTING_DESC = "MEX_POINTING_DESC.TXT"
RIGHT_ASCENSION = -1e+32
DECLINATION = -1e+32
OFFSET_ANGLE = -0.3
SPACECRAFT_SOLAR_DISTANCE = 2.2953e+08
TARGET_NAME = MARS
/* CAMERA DATA ELEMENTS */
DETECTOR_TEMPERATURE = 18.5744
FOCAL_PLANE_TEMPERATURE = 8.5833
INST_CMPRS_NAME = "DISCRETE COSINE TRANSFORMATION (DCT)"
INST_CMPRS_RATIO = 12.4553
INST_CMPRS_QUALITY = 0
INST_CMPRS_QUANTZ_TBL_ID = 0
INSTRUMENT_TEMPERATURE = 11.234
LENS_TEMPERATURE = 9.195
MACROPIXEL_SIZE = 2
MISSING_FRAMES = 0
PIXEL_SUBSAMPLING_FLAG = N
SIGNAL_CHAIN_ID = 1
/* RADIOMETRIC DATA ELEMENTS */
BANDWIDTH = 178.0
CENTER_FILTER_WAVELENGTH = 679.0
RADIANCE_OFFSET = 5.56304
RADIANCE_SCALING_FACTOR = 0.0231461
REFLECTANCE_SCALING_FACTOR = 0.000645786
MEX:REFLECTANCE_OFFSET = 0.155211
/* IMAGE OBJECT DEFINITIONS */
OBJECT = IMAGE
  INTERCHANGE_FORMAT = BINARY
  LINES = 42562
  LINE_SAMPLES = 5435
  SAMPLE_TYPE = UNSIGNED_INTEGER
  SAMPLE_BITS = 8
  BANDS = 1
  BAND_STORAGE_TYPE = BAND_SEQUENTIAL
  MAXIMUM = 255
  MEAN = 118.054
  MINIMUM = 1
  STANDARD_DEVIATION = 34.3507
END_OBJECT = IMAGE
/* MAP OBJECT DEFINITIONS */
OBJECT = IMAGE_MAP_PROJECTION
  ^DATA_SET_MAP_PROJECTION_CATALOG= "DSMAP.CAT"
  A_AXIS_RADIUS = 3396.0
  B_AXIS_RADIUS = 3396.0
  C_AXIS_RADIUS = 3396.0
  CENTER_LATITUDE = 0.0
  CENTER_LONGITUDE = 290.0
  COORDINATE_SYSTEM_NAME = PLANETOGRAPHIC
  COORDINATE_SYSTEM_TYPE = "BODY-FIXED ROTATING"
  EASTERNMOST_LONGITUDE = 290.719
  FIRST_STANDARD_PARALLEL = "N/A"
  LINE_FIRST_PIXEL = 1
  LINE_LAST_PIXEL = 42562
  LINE_PROJECTION_OFFSET = 48194.25
  MAP_PROJECTION_ROTATION = 0.0
  MAP_PROJECTION_TYPE = SINUSOIDAL
  MAP_RESOLUTION = 2370.85521546667
  MAP_SCALE = 0.025
  MAXIMUM_LATITUDE = 20.3107
  MINIMUM_LATITUDE = 2.35705
  POSITIVE_LONGITUDE_DIRECTION = EAST
  REFERENCE_LATITUDE = "N/A"
  REFERENCE_LONGITUDE = "N/A"
  SAMPLE_FIRST_PIXEL = 1
  SAMPLE_LAST_PIXEL = 5435
  SAMPLE_PROJECTION_OFFSET = 3991.25
  SECOND_STANDARD_PARALLEL = "N/A"
  WESTERNMOST_LONGITUDE = 288.231
END_OBJECT = IMAGE_MAP_PROJECTION
/* The JPEG2000 image data file associated with this label. */
OBJECT = COMPRESSED_FILE
  FILE_NAME = "H7394_0000_S23.JP2"
  RECORD_TYPE = UNDEFINED
  FILE_RECORDS = UNK
  ENCODING_TYPE = "JP2"
  INTERCHANGE_FORMAT = BINARY
  UNCOMPRESSED_FILE_NAME = "H7394_0000_S23.IMG"
  REQUIRED_STORAGE_BYTES = "231351645"
  ^DESCRIPTION = "JP2INFO.TXT"
END_OBJECT = COMPRESSED_FILE
END
