PDS_VERSION_ID = PDS3
/* FILE DATA ELEMENTS */
RECORD_TYPE = STREAM
/* POINTERS TO DATA OBJECTS */
^COMPRESSED_FILE = "H7396_0000_BL3.JP2"
/* IDENTIFICATION DATA ELEMENTS */
DATA_SET_ID = "MEX-M-HRSC-5-REFDR-MAPPROJECTED-V3.0"
DATA_SET_NAME = "MARS EXPRESS HRSC MAP PROJECTED REFDR V3.0"
DETECTOR_ID = MEX_HRSC_BLUE
EVENT_TYPE = "MARS-REGIONAL-MAPPING-Vo-Te-Pf"
INSTRUMENT_HOST_ID = MEX
INSTRUMENT_HOST_NAME = "MARS EXPRESS"
INSTRUMENT_ID = HRSC
INSTRUMENT_NAME = "HIGH RESOLUTION STEREO CAMERA"
MISSION_NAME = "MARS EXPRESS"
MISSION_PHASE_NAME = ME_Phase_18
PROCESSING_LEVEL_ID = 3
PRODUCT_CREATION_TIME = 2016-06-30T16:05:12.000Z
PRODUCT_ID = "H7396_0000_BL3.JP2"
RELEASE_ID = 0081
REVISION_ID = 0000
/* QUALITY DATA ELEMENTS */
DATA_QUALITY_ID = 1
DATA_QUALITY_DESC = "Data calculated based on original SPICE kernels"
/* TIME DATA ELEMENTS */
SPACECRAFT_CLOCK_START_COUNT = "1/0203104510.09066"
SPACECRAFT_CLOCK_STOP_COUNT = "1/0203104800.49749"
START_TIME = 2009-10-08T17:55:51.033Z
STOP_TIME = 2009-10-08T17:59:23.448Z
/* ORBITAL DATA ELEMENTS */
ASCENDING_NODE_LONGITUDE = 76.3
MAXIMUM_RESOLUTION = 118
FOOTPRINT_POINT_LATITUDE = (30.9651,30.9619,30.9574,30.4038, 29.9575,29.7127,29.4467,29.1796,28.9143 ,28.6489,28.3837,28.1186,27.854,27.4572 ,27.1931,26.9292,26.6649,26.4014, 26.1381,25.7434,25.4806,25.2182,24.9558 ,24.6938,24.432,24.1708,23.9097,23.649, 23.3883,23.128,22.868,22.6083,22.3488, 22.0846,21.8188,21.5533,21.288,21.0231, 20.7544,20.4832,20.2123,19.9418,19.6717 ,19.3954,19.1191,18.8431,18.5675, 18.2868,18.0051,17.6639,17.6625,17.6611 ,17.6588,17.7971,18.0789,18.3612, 18.7785,19.0549,19.3317,19.745,20.0157, 20.2868,20.5581,20.9645,21.2297,21.4954 ,21.7615,22.0276,22.2938,22.5536, 22.8138,23.2045,23.4653,23.7266,23.9878 ,24.2497,24.5115,24.7737,25.0362, 25.2988,25.5619,25.8252,26.0886,26.3524 ,26.6163,26.8805,27.1449,27.4095, 27.6743,27.9394,28.2046,28.47,28.7357, 29.0016,29.2676,29.5339,29.9223,30.3694 ,30.9288,30.9651)
FOOTPRINT_POINT_LONGITUDE = (88.258,87.8224,87.3841,87.1685,87.1754 ,87.1753,87.1792,87.1863,87.1888, 87.1919,87.1948,87.1976,87.1995,87.203, 87.2047,87.2063,87.2089,87.2104,87.2116 ,87.2134,87.2144,87.2149,87.2156, 87.2158,87.2162,87.2156,87.2152,87.2142 ,87.2136,87.2127,87.2117,87.2105, 87.2092,87.2071,87.2055,87.2035,87.2016 ,87.1994,87.197,87.1945,87.192,87.189, 87.186,87.1828,87.1796,87.1761,87.1726, 87.1688,87.1648,87.2969,87.6531,87.8996 ,88.2532,88.7976,88.795,88.7923,88.7883 ,88.7857,88.7831,88.7791,88.7764, 88.7737,88.7709,88.7668,88.764,88.7614, 88.7588,88.7559,88.753,88.7503,88.7476, 88.7434,88.7406,88.7379,88.7348,88.7322 ,88.7291,88.7262,88.7233,88.7202, 88.7173,88.7143,88.7113,88.7082,88.705, 88.7019,88.6987,88.6954,88.6921,88.6887 ,88.6853,88.6818,88.6783,88.6748, 88.6712,88.6676,88.6622,88.6559,88.6478 ,88.258)
ORBIT_NUMBER = 7396
ORBITAL_ECCENTRICITY = 0.572
ORBITAL_INCLINATION = 86.82
ORBITAL_SEMIMAJOR_AXIS = 8742.2
PERIAPSIS_ALTITUDE = 353.13
PERIAPSIS_ARGUMENT_ANGLE = 140.88
PERIAPSIS_TIME = 2009-10-08T17:53:40.000Z
SPACECRAFT_ORIENTATION = (0.0,-1.0,0.0)
^MEX_ORIENTATION_DESC = "MEX_ORIENTATION_DESC.TXT"
SPACECRAFT_POINTING_MODE = ACROSSTRACK
^MEX_POINTING_DESC = "MEX_POINTING_DESC.TXT"
RIGHT_ASCENSION = -1e+32
DECLINATION = -1e+32
OFFSET_ANGLE = -0.269
SPACECRAFT_SOLAR_DISTANCE = 2.29641e+08
TARGET_NAME = MARS
/* CAMERA DATA ELEMENTS */
DETECTOR_TEMPERATURE = 18.3705
FOCAL_PLANE_TEMPERATURE = 8.5833
INST_CMPRS_NAME = "DISCRETE COSINE TRANSFORMATION (DCT)"
INST_CMPRS_RATIO = 36.4145
INST_CMPRS_QUALITY = 0
INST_CMPRS_QUANTZ_TBL_ID = 0
INSTRUMENT_TEMPERATURE = 11.234
LENS_TEMPERATURE = 9.195
MACROPIXEL_SIZE = 8
MISSING_FRAMES = 0
PIXEL_SUBSAMPLING_FLAG = N
SIGNAL_CHAIN_ID = 2
/* RADIOMETRIC DATA ELEMENTS */
BANDWIDTH = 76.0
CENTER_FILTER_WAVELENGTH = 444.0
RADIANCE_OFFSET = 0.648346
RADIANCE_SCALING_FACTOR = 0.00147199
REFLECTANCE_SCALING_FACTOR = 7.97556e-05
MEX:REFLECTANCE_OFFSET = 0.0351287
/* IMAGE OBJECT DEFINITIONS */
OBJECT = IMAGE
  INTERCHANGE_FORMAT = BINARY
  LINES = 7904
  LINE_SAMPLES = 962
  SAMPLE_TYPE = UNSIGNED_INTEGER
  SAMPLE_BITS = 8
  BANDS = 1
  BAND_STORAGE_TYPE = BAND_SEQUENTIAL
  MAXIMUM = 255
  MEAN = 138.036
  MINIMUM = 1
  STANDARD_DEVIATION = 25.5506
END_OBJECT = IMAGE
/* MAP OBJECT DEFINITIONS */
OBJECT = IMAGE_MAP_PROJECTION
  ^DATA_SET_MAP_PROJECTION_CATALOG= "DSMAP.CAT"
  A_AXIS_RADIUS = 3396.0
  B_AXIS_RADIUS = 3396.0
  C_AXIS_RADIUS = 3396.0
  CENTER_LATITUDE = 0.0
  CENTER_LONGITUDE = 88.0
  COORDINATE_SYSTEM_NAME = PLANETOGRAPHIC
  COORDINATE_SYSTEM_TYPE = "BODY-FIXED ROTATING"
  EASTERNMOST_LONGITUDE = 88.7976
  FIRST_STANDARD_PARALLEL = "N/A"
  LINE_FIRST_PIXEL = 1
  LINE_LAST_PIXEL = 7904
  LINE_PROJECTION_OFFSET = 18371.4375
  MAP_PROJECTION_ROTATION = 0.0
  MAP_PROJECTION_TYPE = SINUSOIDAL
  MAP_RESOLUTION = 592.713803866667
  MAP_SCALE = 0.1
  MAXIMUM_LATITUDE = 30.9651
  MINIMUM_LATITUDE = 17.6588
  POSITIVE_LONGITUDE_DIRECTION = EAST
  REFERENCE_LATITUDE = "N/A"
  REFERENCE_LONGITUDE = "N/A"
  SAMPLE_FIRST_PIXEL = 1
  SAMPLE_LAST_PIXEL = 962
  SAMPLE_PROJECTION_OFFSET = 504.0625
  SECOND_STANDARD_PARALLEL = "N/A"
  WESTERNMOST_LONGITUDE = 87.1648
END_OBJECT = IMAGE_MAP_PROJECTION
/* The JPEG2000 image data file associated with this label. */
OBJECT = COMPRESSED_FILE
  FILE_NAME = "H7396_0000_BL3.JP2"
  RECORD_TYPE = UNDEFINED
  FILE_RECORDS = UNK
  ENCODING_TYPE = "JP2"
  INTERCHANGE_FORMAT = BINARY
  UNCOMPRESSED_FILE_NAME = "H7396_0000_BL3.IMG"
  REQUIRED_STORAGE_BYTES = "7621926"
  ^DESCRIPTION = "JP2INFO.TXT"
END_OBJECT = COMPRESSED_FILE
END
