PDS_VERSION_ID = PDS3
/* FILE DATA ELEMENTS */
RECORD_TYPE = STREAM
/* POINTERS TO DATA OBJECTS */
^COMPRESSED_FILE = "H7396_0000_IR3.JP2"
/* IDENTIFICATION DATA ELEMENTS */
DATA_SET_ID = "MEX-M-HRSC-5-REFDR-MAPPROJECTED-V3.0"
DATA_SET_NAME = "MARS EXPRESS HRSC MAP PROJECTED REFDR V3.0"
DETECTOR_ID = MEX_HRSC_IR
EVENT_TYPE = "MARS-REGIONAL-MAPPING-Vo-Te-Pf"
INSTRUMENT_HOST_ID = MEX
INSTRUMENT_HOST_NAME = "MARS EXPRESS"
INSTRUMENT_ID = HRSC
INSTRUMENT_NAME = "HIGH RESOLUTION STEREO CAMERA"
MISSION_NAME = "MARS EXPRESS"
MISSION_PHASE_NAME = ME_Phase_18
PROCESSING_LEVEL_ID = 3
PRODUCT_CREATION_TIME = 2016-06-30T16:05:12.000Z
PRODUCT_ID = "H7396_0000_IR3.JP2"
RELEASE_ID = 0081
REVISION_ID = 0000
/* QUALITY DATA ELEMENTS */
DATA_QUALITY_ID = 1
DATA_QUALITY_DESC = "Data calculated based on original SPICE kernels"
/* TIME DATA ELEMENTS */
SPACECRAFT_CLOCK_START_COUNT = "1/0203104510.09066"
SPACECRAFT_CLOCK_STOP_COUNT = "1/0203104800.49749"
START_TIME = 2009-10-08T17:55:18.017Z
STOP_TIME = 2009-10-08T17:58:42.899Z
/* ORBITAL DATA ELEMENTS */
ASCENDING_NODE_LONGITUDE = 76.3
MAXIMUM_RESOLUTION = 120.9
FOOTPRINT_POINT_LATITUDE = (31.0362,31.0317,31.0268,31.0213, 31.0152,31.0042,30.7293,30.3827,30.1517 ,29.9212,29.6831,29.453,29.2276,28.9958 ,28.7647,28.5336,28.3026,28.0717, 27.7249,27.4578,27.1811,26.9051,26.493, 26.2174,25.9419,25.6657,25.3903,24.9769 ,24.7014,24.288,24.0125,23.7353,23.4597 ,23.0462,22.633,22.2195,21.9436,21.6682 ,21.3932,20.9808,20.7057,20.4309, 20.1569,19.882,19.6007,19.3191,19.0378, 18.6163,18.3327,18.0445,17.7566,17.6338 ,17.6382,17.6412,17.6444,17.6461, 17.6474,17.7943,18.0826,18.3713,18.6549 ,19.0773,19.359,19.6409,19.922,20.3345, 20.6097,20.8852,21.1607,21.4358,21.7109 ,22.1251,22.5386,22.8145,23.2283, 23.6414,24.0564,24.4702,24.7465,25.0224 ,25.2989,25.5747,25.9889,26.4033, 26.6795,27.0938,27.5085,27.7724,28.0042 ,28.2358,28.4676,28.8147,29.0463, 29.3937,29.741,30.0883,30.4355,30.667, 30.8985,31.0362)
FOOTPRINT_POINT_LONGITUDE = (88.412,88.1978,87.9829,87.7673,87.5513 ,87.1981,87.1713,87.1775,87.1815, 87.1857,87.1853,87.1894,87.1961,87.199, 87.2021,87.205,87.208,87.2107,87.2144, 87.2169,87.2189,87.2212,87.2253,87.2273 ,87.2291,87.2304,87.2319,87.2336, 87.2345,87.2353,87.2357,87.2349,87.2348 ,87.2342,87.2334,87.2318,87.2304,87.229 ,87.2276,87.2252,87.2233,87.2212, 87.2194,87.2169,87.2143,87.2117,87.2089 ,87.2046,87.2014,87.198,87.1945,87.2946 ,87.5765,87.8127,88.1367,88.3716, 88.6058,88.7606,88.7586,88.7566,88.7546 ,88.7515,88.7495,88.7474,88.7453, 88.7421,88.7399,88.7377,88.7354,88.7333 ,88.7311,88.7275,88.724,88.7217,88.7181 ,88.7147,88.7108,88.7071,88.7045,88.702 ,88.6993,88.6967,88.6927,88.6886, 88.6859,88.6816,88.6772,88.6744,88.6718 ,88.6693,88.6666,88.6627,88.6601,88.656 ,88.6518,88.6476,88.6432,88.6403, 88.6373,88.412)
ORBIT_NUMBER = 7396
ORBITAL_ECCENTRICITY = 0.572
ORBITAL_INCLINATION = 86.82
ORBITAL_SEMIMAJOR_AXIS = 8742.2
PERIAPSIS_ALTITUDE = 353.13
PERIAPSIS_ARGUMENT_ANGLE = 140.88
PERIAPSIS_TIME = 2009-10-08T17:53:40.000Z
SPACECRAFT_ORIENTATION = (0.0,-1.0,0.0)
^MEX_ORIENTATION_DESC = "MEX_ORIENTATION_DESC.TXT"
SPACECRAFT_POINTING_MODE = ACROSSTRACK
^MEX_POINTING_DESC = "MEX_POINTING_DESC.TXT"
RIGHT_ASCENSION = -1e+32
DECLINATION = -1e+32
OFFSET_ANGLE = -0.269
SPACECRAFT_SOLAR_DISTANCE = 2.29641e+08
TARGET_NAME = MARS
/* CAMERA DATA ELEMENTS */
DETECTOR_TEMPERATURE = 17.351
FOCAL_PLANE_TEMPERATURE = 8.5833
INST_CMPRS_NAME = "DISCRETE COSINE TRANSFORMATION (DCT)"
INST_CMPRS_RATIO = 26.1135
INST_CMPRS_QUALITY = 0
INST_CMPRS_QUANTZ_TBL_ID = 0
INSTRUMENT_TEMPERATURE = 11.234
LENS_TEMPERATURE = 9.195
MACROPIXEL_SIZE = 8
MISSING_FRAMES = 0
PIXEL_SUBSAMPLING_FLAG = N
SIGNAL_CHAIN_ID = 2
/* RADIOMETRIC DATA ELEMENTS */
BANDWIDTH = 81.0
CENTER_FILTER_WAVELENGTH = 955.5
RADIANCE_OFFSET = 1.43895
RADIANCE_SCALING_FACTOR = 0.00488492
REFLECTANCE_SCALING_FACTOR = 0.000555756
MEX:REFLECTANCE_OFFSET = 0.163708
/* IMAGE OBJECT DEFINITIONS */
OBJECT = IMAGE
  INTERCHANGE_FORMAT = BINARY
  LINES = 7904
  LINE_SAMPLES = 962
  SAMPLE_TYPE = UNSIGNED_INTEGER
  SAMPLE_BITS = 8
  BANDS = 1
  BAND_STORAGE_TYPE = BAND_SEQUENTIAL
  MAXIMUM = 254
  MEAN = 129.537
  MINIMUM = 1
  STANDARD_DEVIATION = 26.6971
END_OBJECT = IMAGE
/* MAP OBJECT DEFINITIONS */
OBJECT = IMAGE_MAP_PROJECTION
  ^DATA_SET_MAP_PROJECTION_CATALOG= "DSMAP.CAT"
  A_AXIS_RADIUS = 3396.0
  B_AXIS_RADIUS = 3396.0
  C_AXIS_RADIUS = 3396.0
  CENTER_LATITUDE = 0.0
  CENTER_LONGITUDE = 88.0
  COORDINATE_SYSTEM_NAME = PLANETOGRAPHIC
  COORDINATE_SYSTEM_TYPE = "BODY-FIXED ROTATING"
  EASTERNMOST_LONGITUDE = 88.7606
  FIRST_STANDARD_PARALLEL = "N/A"
  LINE_FIRST_PIXEL = 1
  LINE_LAST_PIXEL = 7904
  LINE_PROJECTION_OFFSET = 18371.4375
  MAP_PROJECTION_ROTATION = 0.0
  MAP_PROJECTION_TYPE = SINUSOIDAL
  MAP_RESOLUTION = 592.713803866667
  MAP_SCALE = 0.1
  MAXIMUM_LATITUDE = 31.0362
  MINIMUM_LATITUDE = 17.6338
  POSITIVE_LONGITUDE_DIRECTION = EAST
  REFERENCE_LATITUDE = "N/A"
  REFERENCE_LONGITUDE = "N/A"
  SAMPLE_FIRST_PIXEL = 1
  SAMPLE_LAST_PIXEL = 962
  SAMPLE_PROJECTION_OFFSET = 504.0625
  SECOND_STANDARD_PARALLEL = "N/A"
  WESTERNMOST_LONGITUDE = 87.1713
END_OBJECT = IMAGE_MAP_PROJECTION
/* The JPEG2000 image data file associated with this label. */
OBJECT = COMPRESSED_FILE
  FILE_NAME = "H7396_0000_IR3.JP2"
  RECORD_TYPE = UNDEFINED
  FILE_RECORDS = UNK
  ENCODING_TYPE = "JP2"
  INTERCHANGE_FORMAT = BINARY
  UNCOMPRESSED_FILE_NAME = "H7396_0000_IR3.IMG"
  REQUIRED_STORAGE_BYTES = "7621926"
  ^DESCRIPTION = "JP2INFO.TXT"
END_OBJECT = COMPRESSED_FILE
END
