PDS_VERSION_ID = PDS3
/* FILE DATA ELEMENTS */
RECORD_TYPE = STREAM
/* POINTERS TO DATA OBJECTS */
^COMPRESSED_FILE = "H7396_0001_GR3.JP2"
/* IDENTIFICATION DATA ELEMENTS */
DATA_SET_ID = "MEX-M-HRSC-5-REFDR-MAPPROJECTED-V3.0"
DATA_SET_NAME = "MARS EXPRESS HRSC MAP PROJECTED REFDR V3.0"
DETECTOR_ID = MEX_HRSC_GREEN
EVENT_TYPE = "MARS-REGIONAL-MAPPING-Im-Fl"
INSTRUMENT_HOST_ID = MEX
INSTRUMENT_HOST_NAME = "MARS EXPRESS"
INSTRUMENT_ID = HRSC
INSTRUMENT_NAME = "HIGH RESOLUTION STEREO CAMERA"
MISSION_NAME = "MARS EXPRESS"
MISSION_PHASE_NAME = ME_Phase_18
PROCESSING_LEVEL_ID = 3
PRODUCT_CREATION_TIME = 2016-06-30T16:05:12.000Z
PRODUCT_ID = "H7396_0001_GR3.JP2"
RELEASE_ID = 0081
REVISION_ID = 0000
/* QUALITY DATA ELEMENTS */
DATA_QUALITY_ID = 2
DATA_QUALITY_DESC = "Data calculated based on photogrammetrically improved orbit and attitude data"
/* TIME DATA ELEMENTS */
SPACECRAFT_CLOCK_START_COUNT = "1/0203104928.08270"
SPACECRAFT_CLOCK_STOP_COUNT = "1/0203105276.22745"
START_TIME = 2009-10-08T18:02:57.957Z
STOP_TIME = 2009-10-08T18:05:54.511Z
/* ORBITAL DATA ELEMENTS */
ASCENDING_NODE_LONGITUDE = 76.3
MAXIMUM_RESOLUTION = 97.2
FOOTPRINT_POINT_LATITUDE = (3.91135,3.91606,3.92116,3.92578, 3.93019,3.93516,3.93291,3.6524,3.18182, 2.80369,2.61267,2.41992,2.22808,2.03361 ,1.8394,1.54704,1.35031,1.15345, 0.955385,0.656926,0.458038,0.260282, 0.06229,-0.234376,-0.431688,-0.628599, -0.82487,-1.02178,-1.21793,-1.51123, -1.70688,-1.90174,-2.096,-2.29042, -2.48411,-2.67777,-2.87107,-3.06401, -3.25642,-3.44873,-3.64069,-3.83233, -4.02378,-4.2148,-4.40548,-4.59598, -4.78608,-4.97585,-5.44904,-5.81982, -5.82575,-5.83097,-5.83794,-5.84917, -5.85403,-5.86008,-5.86807,-5.87453, -5.68855,-5.31011,-4.83607,-4.54938, -4.35805,-4.1663,-3.97441,-3.78266, -3.49407,-3.20462,-3.0107,-2.81685, -2.62326,-2.42914,-2.23427,-2.03896, -1.84353,-1.64773,-1.35346,-1.15748, -0.863257,-0.66565,-0.467145,-0.269939, 0.0273935,0.225723,0.424483,0.623619, 0.8234,1.12322,1.32137,1.61642,1.81, 2.00505,2.20036,2.3938,2.58579,2.77663, 3.15621,3.53368,3.81496,3.91135)
FOOTPRINT_POINT_LONGITUDE = (88.64,88.3471,88.0142,87.7006,87.3864, 87.0117,86.7797,86.7703,86.75,86.7369, 86.7309,86.7211,86.7129,86.7045,86.6966 ,86.6847,86.6764,86.6668,86.6591, 86.6458,86.636,86.6283,86.6191,86.6045, 86.5949,86.5854,86.5767,86.5655,86.5553 ,86.5408,86.5297,86.5197,86.5104, 86.4998,86.4902,86.4798,86.4694,86.459, 86.4491,86.4386,86.4281,86.4175,86.4064 ,86.3957,86.3848,86.3736,86.3624, 86.3512,86.3225,86.3011,86.5259,86.7545 ,87.1103,87.6144,87.8409,88.118,88.4949 ,88.7719,89.003,88.9979,88.9931,88.9883 ,88.9854,88.9824,88.9797,88.9778, 88.9743,88.9707,88.9675,88.965,88.9632, 88.9613,88.9586,88.9559,88.9534,88.9509 ,88.9473,88.9457,88.9439,88.9412, 88.9376,88.9365,88.9333,88.9317,88.9299 ,88.928,88.9257,88.9214,88.918,88.9167, 88.9165,88.9145,88.9121,88.9087,88.9078 ,88.908,88.9054,88.9019,88.9,88.64)
ORBIT_NUMBER = 7396
ORBITAL_ECCENTRICITY = 0.572
ORBITAL_INCLINATION = 86.82
ORBITAL_SEMIMAJOR_AXIS = 8742.2
PERIAPSIS_ALTITUDE = 353.13
PERIAPSIS_ARGUMENT_ANGLE = 140.88
PERIAPSIS_TIME = 2009-10-08T17:53:40.000Z
SPACECRAFT_ORIENTATION = (0.0,-1.0,0.0)
^MEX_ORIENTATION_DESC = "MEX_ORIENTATION_DESC.TXT"
SPACECRAFT_POINTING_MODE = ACROSSTRACK
^MEX_POINTING_DESC = "MEX_POINTING_DESC.TXT"
RIGHT_ASCENSION = -1e+32
DECLINATION = -1e+32
OFFSET_ANGLE = -0.269
SPACECRAFT_SOLAR_DISTANCE = 2.29641e+08
TARGET_NAME = MARS
/* CAMERA DATA ELEMENTS */
DETECTOR_TEMPERATURE = 19.1861
FOCAL_PLANE_TEMPERATURE = 8.7872
INST_CMPRS_NAME = "DISCRETE COSINE TRANSFORMATION (DCT)"
INST_CMPRS_RATIO = 11.3256
INST_CMPRS_QUALITY = 0
INST_CMPRS_QUANTZ_TBL_ID = 0
INSTRUMENT_TEMPERATURE = 12.8652
LENS_TEMPERATURE = 9.195
MACROPIXEL_SIZE = 4
MISSING_FRAMES = 0
PIXEL_SUBSAMPLING_FLAG = N
SIGNAL_CHAIN_ID = 2
/* RADIOMETRIC DATA ELEMENTS */
BANDWIDTH = 88.0
CENTER_FILTER_WAVELENGTH = 538.0
RADIANCE_OFFSET = 1.56378
RADIANCE_SCALING_FACTOR = 0.00508348
REFLECTANCE_SCALING_FACTOR = 0.000230808
MEX:REFLECTANCE_OFFSET = 0.071001
/* IMAGE OBJECT DEFINITIONS */
OBJECT = IMAGE
  INTERCHANGE_FORMAT = BINARY
  LINES = 5830
  LINE_SAMPLES = 1683
  SAMPLE_TYPE = UNSIGNED_INTEGER
  SAMPLE_BITS = 8
  BANDS = 1
  BAND_STORAGE_TYPE = BAND_SEQUENTIAL
  MAXIMUM = 255
  MEAN = 149.136
  MINIMUM = 1
  STANDARD_DEVIATION = 33.8428
END_OBJECT = IMAGE
/* MAP OBJECT DEFINITIONS */
OBJECT = IMAGE_MAP_PROJECTION
  ^DATA_SET_MAP_PROJECTION_CATALOG= "DSMAP.CAT"
  A_AXIS_RADIUS = 3396.0
  B_AXIS_RADIUS = 3396.0
  C_AXIS_RADIUS = 3396.0
  CENTER_LATITUDE = 0.0
  CENTER_LONGITUDE = 88.0
  COORDINATE_SYSTEM_NAME = PLANETOGRAPHIC
  COORDINATE_SYSTEM_TYPE = "BODY-FIXED ROTATING"
  EASTERNMOST_LONGITUDE = 89.003
  FIRST_STANDARD_PARALLEL = "N/A"
  LINE_FIRST_PIXEL = 1
  LINE_LAST_PIXEL = 5830
  LINE_PROJECTION_OFFSET = 2348.375
  MAP_PROJECTION_ROTATION = 0.0
  MAP_PROJECTION_TYPE = SINUSOIDAL
  MAP_RESOLUTION = 592.713803866667
  MAP_SCALE = 0.1
  MAXIMUM_LATITUDE = 3.93516
  MINIMUM_LATITUDE = -5.87453
  POSITIVE_LONGITUDE_DIRECTION = EAST
  REFERENCE_LATITUDE = "N/A"
  REFERENCE_LONGITUDE = "N/A"
  SAMPLE_FIRST_PIXEL = 1
  SAMPLE_LAST_PIXEL = 1683
  SAMPLE_PROJECTION_OFFSET = 1049.625
  SECOND_STANDARD_PARALLEL = "N/A"
  WESTERNMOST_LONGITUDE = 86.30110000000001
END_OBJECT = IMAGE_MAP_PROJECTION
/* The JPEG2000 image data file associated with this label. */
OBJECT = COMPRESSED_FILE
  FILE_NAME = "H7396_0001_GR3.JP2"
  RECORD_TYPE = UNDEFINED
  FILE_RECORDS = UNK
  ENCODING_TYPE = "JP2"
  INTERCHANGE_FORMAT = BINARY
  UNCOMPRESSED_FILE_NAME = "H7396_0001_GR3.IMG"
  REQUIRED_STORAGE_BYTES = "9832086"
  ^DESCRIPTION = "JP2INFO.TXT"
END_OBJECT = COMPRESSED_FILE
END
