PDS_VERSION_ID = PDS3
/* FILE DATA ELEMENTS */
RECORD_TYPE = STREAM
/* POINTERS TO DATA OBJECTS */
^COMPRESSED_FILE = "H7400_0000_BL3.JP2"
/* IDENTIFICATION DATA ELEMENTS */
DATA_SET_ID = "MEX-M-HRSC-5-REFDR-MAPPROJECTED-V3.0"
DATA_SET_NAME = "MARS EXPRESS HRSC MAP PROJECTED REFDR V3.0"
DETECTOR_ID = MEX_HRSC_BLUE
EVENT_TYPE = "MARS-REGIONAL-MAPPING-Im-Fl"
INSTRUMENT_HOST_ID = MEX
INSTRUMENT_HOST_NAME = "MARS EXPRESS"
INSTRUMENT_ID = HRSC
INSTRUMENT_NAME = "HIGH RESOLUTION STEREO CAMERA"
MISSION_NAME = "MARS EXPRESS"
MISSION_PHASE_NAME = ME_Phase_18
PROCESSING_LEVEL_ID = 3
PRODUCT_CREATION_TIME = 2016-06-30T16:05:12.000Z
PRODUCT_ID = "H7400_0000_BL3.JP2"
RELEASE_ID = 0081
REVISION_ID = 0000
/* QUALITY DATA ELEMENTS */
DATA_QUALITY_ID = 1
DATA_QUALITY_DESC = "Data calculated based on original SPICE kernels"
/* TIME DATA ELEMENTS */
SPACECRAFT_CLOCK_START_COUNT = "1/0203203904.08260"
SPACECRAFT_CLOCK_STOP_COUNT = "1/0203204199.40521"
START_TIME = 2009-10-09T21:32:27.844Z
STOP_TIME = 2009-10-09T21:35:55.099Z
/* ORBITAL DATA ELEMENTS */
ASCENDING_NODE_LONGITUDE = 76.22
MAXIMUM_RESOLUTION = 126.3
FOOTPRINT_POINT_LATITUDE = (25.6392,25.6398,25.6391,25.5219,25.288 ,25.0543,24.8208,24.5872,24.3539, 24.0046,23.7719,23.5397,23.1911,22.8346 ,22.5969,22.3594,22.1221,21.8851, 21.5231,21.2805,21.0383,20.7965,20.5547 ,20.1841,19.9372,19.6907,19.4444, 19.0689,18.8173,18.5657,18.3145,18.0598 ,17.8034,17.5471,17.2909,17.0316, 16.7705,16.5098,16.2495,15.9838,15.5855 ,15.3206,15.0504,14.7806,14.5109,14.238 ,13.9636,13.6895,13.4127,12.9965, 12.9918,12.989,12.986,12.9799,13.1181, 13.3973,13.8133,14.0884,14.4994,14.7694 ,15.0392,15.3092,15.5747,15.8408,16.24, 16.5008,16.7622,17.0239,17.2838,17.5401 ,17.7967,18.0536,18.309,18.5605,18.8125 ,19.0652,19.3179,19.5644,19.8113, 20.0588,20.3065,20.5537,20.7958,21.0381 ,21.2807,21.5236,21.8859,22.1233, 22.3609,22.5987,22.837,23.1938,23.4264, 23.6587,24.0085,24.2416,24.5919,24.8258 ,25.0598,25.6392)
FOOTPRINT_POINT_LONGITUDE = (45.2113,44.765,44.3154,43.6999,43.7004 ,43.7008,43.7012,43.702,43.7025,43.7025 ,43.7025,43.7018,43.7021,43.702,43.7011 ,43.7002,43.6995,43.6983,43.6967, 43.6953,43.6933,43.6911,43.6893,43.6862 ,43.6835,43.6801,43.677,43.6722,43.6685 ,43.6654,43.6622,43.6572,43.6531, 43.6495,43.6465,43.6419,43.6374,43.6328 ,43.6281,43.6234,43.616,43.6108,43.6058 ,43.5997,43.5941,43.5878,43.5813, 43.5748,43.5681,43.5583,44.0649,44.3348 ,44.5706,45.0565,45.3499,45.3467, 45.3441,45.3415,45.3373,45.3345,45.3311 ,45.3281,45.3255,45.3231,45.3192, 45.3165,45.314,45.3114,45.3089,45.3062, 45.3035,45.3009,45.298,45.2953,45.2928, 45.2905,45.2879,45.2848,45.2821,45.2795 ,45.2769,45.2742,45.2716,45.2689, 45.2662,45.2635,45.2595,45.2568,45.2541 ,45.2514,45.2487,45.2448,45.2422, 45.2391,45.2352,45.2323,45.2282,45.2254 ,45.2225,45.2113)
ORBIT_NUMBER = 7400
ORBITAL_ECCENTRICITY = 0.572
ORBITAL_INCLINATION = 86.82
ORBITAL_SEMIMAJOR_AXIS = 8739.38
PERIAPSIS_ALTITUDE = 354.39
PERIAPSIS_ARGUMENT_ANGLE = 140.22
PERIAPSIS_TIME = 2009-10-09T21:28:42.000Z
SPACECRAFT_ORIENTATION = (0.0,-1.0,0.0)
^MEX_ORIENTATION_DESC = "MEX_ORIENTATION_DESC.TXT"
SPACECRAFT_POINTING_MODE = ACROSSTRACK
^MEX_POINTING_DESC = "MEX_POINTING_DESC.TXT"
RIGHT_ASCENSION = -1e+32
DECLINATION = -1e+32
OFFSET_ANGLE = -0.35
SPACECRAFT_SOLAR_DISTANCE = 2.29862e+08
TARGET_NAME = MARS
/* CAMERA DATA ELEMENTS */
DETECTOR_TEMPERATURE = 18.3705
FOCAL_PLANE_TEMPERATURE = 8.7872
INST_CMPRS_NAME = "DISCRETE COSINE TRANSFORMATION (DCT)"
INST_CMPRS_RATIO = 29.8282
INST_CMPRS_QUALITY = 0
INST_CMPRS_QUANTZ_TBL_ID = 0
INSTRUMENT_TEMPERATURE = 11.4379
LENS_TEMPERATURE = 9.195
MACROPIXEL_SIZE = 8
MISSING_FRAMES = 0
PIXEL_SUBSAMPLING_FLAG = N
SIGNAL_CHAIN_ID = 2
/* RADIOMETRIC DATA ELEMENTS */
BANDWIDTH = 76.0
CENTER_FILTER_WAVELENGTH = 444.0
RADIANCE_OFFSET = 0.746078
RADIANCE_SCALING_FACTOR = 0.00123784
REFLECTANCE_SCALING_FACTOR = 6.71977e-05
MEX:REFLECTANCE_OFFSET = 0.0405019
/* IMAGE OBJECT DEFINITIONS */
OBJECT = IMAGE
  INTERCHANGE_FORMAT = BINARY
  LINES = 7505
  LINE_SAMPLES = 1083
  SAMPLE_TYPE = UNSIGNED_INTEGER
  SAMPLE_BITS = 8
  BANDS = 1
  BAND_STORAGE_TYPE = BAND_SEQUENTIAL
  MAXIMUM = 255
  MEAN = 125.811
  MINIMUM = 1
  STANDARD_DEVIATION = 28.3518
END_OBJECT = IMAGE
/* MAP OBJECT DEFINITIONS */
OBJECT = IMAGE_MAP_PROJECTION
  ^DATA_SET_MAP_PROJECTION_CATALOG= "DSMAP.CAT"
  A_AXIS_RADIUS = 3396.0
  B_AXIS_RADIUS = 3396.0
  C_AXIS_RADIUS = 3396.0
  CENTER_LATITUDE = 0.0
  CENTER_LONGITUDE = 44.0
  COORDINATE_SYSTEM_NAME = PLANETOGRAPHIC
  COORDINATE_SYSTEM_TYPE = "BODY-FIXED ROTATING"
  EASTERNMOST_LONGITUDE = 45.3499
  FIRST_STANDARD_PARALLEL = "N/A"
  LINE_FIRST_PIXEL = 1
  LINE_LAST_PIXEL = 7505
  LINE_PROJECTION_OFFSET = 15203.4375
  MAP_PROJECTION_ROTATION = 0.0
  MAP_PROJECTION_TYPE = SINUSOIDAL
  MAP_RESOLUTION = 592.713803866667
  MAP_SCALE = 0.1
  MAXIMUM_LATITUDE = 25.6398
  MINIMUM_LATITUDE = 12.9799
  POSITIVE_LONGITUDE_DIRECTION = EAST
  REFERENCE_LATITUDE = "N/A"
  REFERENCE_LONGITUDE = "N/A"
  SAMPLE_FIRST_PIXEL = 1
  SAMPLE_LAST_PIXEL = 1083
  SAMPLE_PROJECTION_OFFSET = 292.5625
  SECOND_STANDARD_PARALLEL = "N/A"
  WESTERNMOST_LONGITUDE = 43.5583
END_OBJECT = IMAGE_MAP_PROJECTION
/* The JPEG2000 image data file associated with this label. */
OBJECT = COMPRESSED_FILE
  FILE_NAME = "H7400_0000_BL3.JP2"
  RECORD_TYPE = UNDEFINED
  FILE_RECORDS = UNK
  ENCODING_TYPE = "JP2"
  INTERCHANGE_FORMAT = BINARY
  UNCOMPRESSED_FILE_NAME = "H7400_0000_BL3.IMG"
  REQUIRED_STORAGE_BYTES = "8146326"
  ^DESCRIPTION = "JP2INFO.TXT"
END_OBJECT = COMPRESSED_FILE
END
