PDS_VERSION_ID = PDS3
/* FILE DATA ELEMENTS */
RECORD_TYPE = STREAM
/* POINTERS TO DATA OBJECTS */
^COMPRESSED_FILE = "H7403_0000_IR3.JP2"
/* IDENTIFICATION DATA ELEMENTS */
DATA_SET_ID = "MEX-M-HRSC-5-REFDR-MAPPROJECTED-V3.0"
DATA_SET_NAME = "MARS EXPRESS HRSC MAP PROJECTED REFDR V3.0"
DETECTOR_ID = MEX_HRSC_IR
EVENT_TYPE = "MARS-REGIONAL-MAPPING-Vo-Gl-Pf"
INSTRUMENT_HOST_ID = MEX
INSTRUMENT_HOST_NAME = "MARS EXPRESS"
INSTRUMENT_ID = HRSC
INSTRUMENT_NAME = "HIGH RESOLUTION STEREO CAMERA"
MISSION_NAME = "MARS EXPRESS"
MISSION_PHASE_NAME = ME_Phase_18
PROCESSING_LEVEL_ID = 3
PRODUCT_CREATION_TIME = 2016-07-01T01:18:39.000Z
PRODUCT_ID = "H7403_0000_IR3.JP2"
RELEASE_ID = 0082
REVISION_ID = 0000
/* QUALITY DATA ELEMENTS */
DATA_QUALITY_ID = 1
DATA_QUALITY_DESC = "Data calculated based on original SPICE kernels"
/* TIME DATA ELEMENTS */
SPACECRAFT_CLOCK_START_COUNT = "1/0203278221.07293"
SPACECRAFT_CLOCK_STOP_COUNT = "1/0203278532.04814"
START_TIME = 2009-10-10T18:10:29.037Z
STOP_TIME = 2009-10-10T18:14:19.278Z
/* ORBITAL DATA ELEMENTS */
ASCENDING_NODE_LONGITUDE = 76.16
MAXIMUM_RESOLUTION = 119.5
FOOTPRINT_POINT_LATITUDE = (36.7114,36.7045,36.6993,36.6936, 36.6872,36.6803,36.6138,36.3395,35.9282 ,35.5159,35.2409,34.8283,34.4156, 34.1404,33.8654,33.5896,33.3141,33.0386 ,32.6251,32.3493,31.9358,31.5221, 31.2463,30.9706,30.6945,30.2804,29.8666 ,29.5906,29.3148,28.8604,28.3664, 28.0371,27.5432,27.0492,26.7199,26.3904 ,26.0613,25.8948,25.5677,25.2386, 24.9098,24.5811,24.2523,23.7597,23.2673 ,22.9391,22.611,22.2829,21.9551,21.6315 ,21.6363,21.6409,21.6444,21.6456, 21.8127,22.1408,22.4692,22.7976,23.2907 ,23.6196,23.9488,24.4422,24.7715,25.101 ,25.5951,25.9246,26.2539,26.5836, 26.9136,27.0786,27.4082,27.7379,28.0677 ,28.3978,28.5629,28.728,29.0576,29.3466 ,29.623,30.0376,30.4523,30.8672,31.2816 ,31.5579,31.9724,32.2466,32.525,32.8012 ,33.2157,33.6295,33.9055,34.1813, 34.4572,34.7335,35.1462,35.5589,35.8341 ,36.2468,36.5217,36.7114)
FOOTPRINT_POINT_LONGITUDE = (102.673,102.323,102.098,101.873, 101.648,101.422,101.143,101.153,101.167 ,101.18,101.189,101.201,101.213,101.22, 101.228,101.234,101.241,101.248,101.257 ,101.263,101.272,101.28,101.285,101.29, 101.294,101.3,101.307,101.31,101.314, 101.319,101.324,101.328,101.332,101.335 ,101.337,101.339,101.34,101.34,101.342, 101.342,101.343,101.343,101.343,101.343 ,101.342,101.341,101.34,101.338,101.336 ,101.334,101.622,101.983,102.386, 102.616,102.868,102.866,102.863,102.86, 102.856,102.853,102.851,102.846,102.843 ,102.84,102.836,102.833,102.83,102.826, 102.823,102.821,102.818,102.815,102.811 ,102.808,102.806,102.804,102.8,102.797, 102.794,102.789,102.784,102.779,102.773 ,102.77,102.764,102.761,102.757,102.753 ,102.747,102.741,102.737,102.733, 102.728,102.724,102.718,102.711,102.706 ,102.699,102.695,102.673)
ORBIT_NUMBER = 7403
ORBITAL_ECCENTRICITY = 0.572
ORBITAL_INCLINATION = 86.82
ORBITAL_SEMIMAJOR_AXIS = 8740.76
PERIAPSIS_ALTITUDE = 354.1
PERIAPSIS_ARGUMENT_ANGLE = 139.66
PERIAPSIS_TIME = 2009-10-10T18:09:59.000Z
SPACECRAFT_ORIENTATION = (0.0,-1.0,0.0)
^MEX_ORIENTATION_DESC = "MEX_ORIENTATION_DESC.TXT"
SPACECRAFT_POINTING_MODE = ACROSSTRACK
^MEX_POINTING_DESC = "MEX_POINTING_DESC.TXT"
RIGHT_ASCENSION = -1e+32
DECLINATION = -1e+32
OFFSET_ANGLE = -0.18
SPACECRAFT_SOLAR_DISTANCE = 2.30027e+08
TARGET_NAME = MARS
/* CAMERA DATA ELEMENTS */
DETECTOR_TEMPERATURE = 15.5159
FOCAL_PLANE_TEMPERATURE = 7.9716
INST_CMPRS_NAME = "DISCRETE COSINE TRANSFORMATION (DCT)"
INST_CMPRS_RATIO = 24.0187
INST_CMPRS_QUALITY = 0
INST_CMPRS_QUANTZ_TBL_ID = 0
INSTRUMENT_TEMPERATURE = 11.0301
LENS_TEMPERATURE = 8.5833
MACROPIXEL_SIZE = 8
MISSING_FRAMES = 0
PIXEL_SUBSAMPLING_FLAG = N
SIGNAL_CHAIN_ID = 2
/* RADIOMETRIC DATA ELEMENTS */
BANDWIDTH = 81.0
CENTER_FILTER_WAVELENGTH = 955.5
RADIANCE_OFFSET = 1.31008
RADIANCE_SCALING_FACTOR = 0.00412691
REFLECTANCE_SCALING_FACTOR = 0.000471099
MEX:REFLECTANCE_OFFSET = 0.14955
/* IMAGE OBJECT DEFINITIONS */
OBJECT = IMAGE
  INTERCHANGE_FORMAT = BINARY
  LINES = 8889
  LINE_SAMPLES = 935
  SAMPLE_TYPE = UNSIGNED_INTEGER
  SAMPLE_BITS = 8
  BANDS = 1
  BAND_STORAGE_TYPE = BAND_SEQUENTIAL
  MAXIMUM = 255
  MEAN = 138.245
  MINIMUM = 1
  STANDARD_DEVIATION = 18.5729
END_OBJECT = IMAGE
/* MAP OBJECT DEFINITIONS */
OBJECT = IMAGE_MAP_PROJECTION
  ^DATA_SET_MAP_PROJECTION_CATALOG= "DSMAP.CAT"
  A_AXIS_RADIUS = 3396.0
  B_AXIS_RADIUS = 3396.0
  C_AXIS_RADIUS = 3396.0
  CENTER_LATITUDE = 0.0
  CENTER_LONGITUDE = 102.0
  COORDINATE_SYSTEM_NAME = PLANETOGRAPHIC
  COORDINATE_SYSTEM_TYPE = "BODY-FIXED ROTATING"
  EASTERNMOST_LONGITUDE = 102.868
  FIRST_STANDARD_PARALLEL = "N/A"
  LINE_FIRST_PIXEL = 1
  LINE_LAST_PIXEL = 8889
  LINE_PROJECTION_OFFSET = 21728.4375
  MAP_PROJECTION_ROTATION = 0.0
  MAP_PROJECTION_TYPE = SINUSOIDAL
  MAP_RESOLUTION = 592.713803866667
  MAP_SCALE = 0.1
  MAXIMUM_LATITUDE = 36.7114
  MINIMUM_LATITUDE = 21.6315
  POSITIVE_LONGITUDE_DIRECTION = EAST
  REFERENCE_LATITUDE = "N/A"
  REFERENCE_LONGITUDE = "N/A"
  SAMPLE_FIRST_PIXEL = 1
  SAMPLE_LAST_PIXEL = 935
  SAMPLE_PROJECTION_OFFSET = 430.9375
  SECOND_STANDARD_PARALLEL = "N/A"
  WESTERNMOST_LONGITUDE = 101.143
END_OBJECT = IMAGE_MAP_PROJECTION
/* The JPEG2000 image data file associated with this label. */
OBJECT = COMPRESSED_FILE
  FILE_NAME = "H7403_0000_IR3.JP2"
  RECORD_TYPE = UNDEFINED
  FILE_RECORDS = UNK
  ENCODING_TYPE = "JP2"
  INTERCHANGE_FORMAT = BINARY
  UNCOMPRESSED_FILE_NAME = "H7403_0000_IR3.IMG"
  REQUIRED_STORAGE_BYTES = "8328980"
  ^DESCRIPTION = "JP2INFO.TXT"
END_OBJECT = COMPRESSED_FILE
END
