PDS_VERSION_ID = PDS3
/* FILE DATA ELEMENTS */
RECORD_TYPE = STREAM
/* POINTERS TO DATA OBJECTS */
^COMPRESSED_FILE = "H7403_0000_ND3.JP2"
/* IDENTIFICATION DATA ELEMENTS */
DATA_SET_ID = "MEX-M-HRSC-5-REFDR-MAPPROJECTED-V3.0"
DATA_SET_NAME = "MARS EXPRESS HRSC MAP PROJECTED REFDR V3.0"
DETECTOR_ID = MEX_HRSC_NADIR
EVENT_TYPE = "MARS-REGIONAL-MAPPING-Vo-Gl-Pf"
INSTRUMENT_HOST_ID = MEX
INSTRUMENT_HOST_NAME = "MARS EXPRESS"
INSTRUMENT_ID = HRSC
INSTRUMENT_NAME = "HIGH RESOLUTION STEREO CAMERA"
MISSION_NAME = "MARS EXPRESS"
MISSION_PHASE_NAME = ME_Phase_18
PROCESSING_LEVEL_ID = 3
PRODUCT_CREATION_TIME = 2016-07-01T01:18:39.000Z
PRODUCT_ID = "H7403_0000_ND3.JP2"
RELEASE_ID = 0082
REVISION_ID = 0000
/* QUALITY DATA ELEMENTS */
DATA_QUALITY_ID = 1
DATA_QUALITY_DESC = "Data calculated based on original SPICE kernels"
/* TIME DATA ELEMENTS */
SPACECRAFT_CLOCK_START_COUNT = "1/0203278221.07293"
SPACECRAFT_CLOCK_STOP_COUNT = "1/0203278532.04814"
START_TIME = 2009-10-10T18:10:55.583Z
STOP_TIME = 2009-10-10T18:14:50.600Z
/* ORBITAL DATA ELEMENTS */
ASCENDING_NODE_LONGITUDE = 76.16
MAXIMUM_RESOLUTION = 14.4
FOOTPRINT_POINT_LATITUDE = (36.6591,36.6536,36.647,36.6366,36.3625 ,36.0904,35.8184,35.5464,35.2746, 35.0028,34.731,34.4594,34.1878,33.9164, 33.645,33.3738,33.1026,32.5607,32.0192, 31.4783,30.9379,30.6198,30.2979,29.9761 ,29.6546,29.3333,29.0123,28.6915,28.371 ,28.0508,27.7308,27.4111,27.0917, 26.7727,26.4539,26.1354,25.8173,25.4994 ,25.1819,24.8648,24.548,24.2315,23.9154 ,23.5997,23.2843,22.8013,22.4784, 22.1559,21.8339,21.6658,21.6663,21.6658 ,21.8304,22.153,22.476,22.7994,23.2833, 23.5992,23.9155,24.2321,24.5491,24.8664 ,25.1841,25.5021,25.8205,26.1391, 26.4581,26.7774,27.097,27.417,27.7372, 28.0577,28.3784,28.6995,29.0208,29.3423 ,29.6642,29.9862,30.3085,30.631,30.9504 ,31.4917,32.0335,32.3048,32.576,32.8474 ,33.1189,33.3905,33.6623,33.9341, 34.2061,34.4781,34.7503,35.0225,35.2949 ,35.5673,35.8398,36.1123,36.385, 36.6591)
FOOTPRINT_POINT_LONGITUDE = (102.586,102.169,101.764,101.253, 101.132,101.141,101.15,101.158,101.166, 101.174,101.181,101.189,101.196,101.203 ,101.209,101.216,101.222,101.233, 101.244,101.254,101.263,101.267,101.272 ,101.276,101.28,101.284,101.287,101.29, 101.293,101.296,101.298,101.3,101.302, 101.303,101.304,101.305,101.305,101.306 ,101.306,101.306,101.306,101.305, 101.305,101.304,101.302,101.3,101.298, 101.296,101.294,101.72,102.036,102.588, 102.892,102.889,102.886,102.883,102.878 ,102.875,102.871,102.868,102.865, 102.862,102.858,102.855,102.851,102.848 ,102.844,102.84,102.837,102.833,102.829 ,102.825,102.821,102.817,102.813, 102.809,102.805,102.801,102.796,102.792 ,102.787,102.78,102.772,102.769,102.764 ,102.759,102.755,102.751,102.746, 102.742,102.737,102.733,102.728,102.723 ,102.719,102.714,102.709,102.704, 102.699,102.586)
ORBIT_NUMBER = 7403
ORBITAL_ECCENTRICITY = 0.572
ORBITAL_INCLINATION = 86.82
ORBITAL_SEMIMAJOR_AXIS = 8740.76
PERIAPSIS_ALTITUDE = 354.1
PERIAPSIS_ARGUMENT_ANGLE = 139.66
PERIAPSIS_TIME = 2009-10-10T18:09:59.000Z
SPACECRAFT_ORIENTATION = (0.0,-1.0,0.0)
^MEX_ORIENTATION_DESC = "MEX_ORIENTATION_DESC.TXT"
SPACECRAFT_POINTING_MODE = ACROSSTRACK
^MEX_POINTING_DESC = "MEX_POINTING_DESC.TXT"
RIGHT_ASCENSION = -1e+32
DECLINATION = -1e+32
OFFSET_ANGLE = -0.18
SPACECRAFT_SOLAR_DISTANCE = 2.30027e+08
TARGET_NAME = MARS
/* CAMERA DATA ELEMENTS */
DETECTOR_TEMPERATURE = 18.1666
FOCAL_PLANE_TEMPERATURE = 7.9716
INST_CMPRS_NAME = "DISCRETE COSINE TRANSFORMATION (DCT)"
INST_CMPRS_RATIO = 6.73079
INST_CMPRS_QUALITY = 0
INST_CMPRS_QUANTZ_TBL_ID = 0
INSTRUMENT_TEMPERATURE = 11.0301
LENS_TEMPERATURE = 8.5833
MACROPIXEL_SIZE = 1
MISSING_FRAMES = 0
PIXEL_SUBSAMPLING_FLAG = N
SIGNAL_CHAIN_ID = 0
/* RADIOMETRIC DATA ELEMENTS */
BANDWIDTH = 177.0
CENTER_FILTER_WAVELENGTH = 677.5
RADIANCE_OFFSET = 4.49095
RADIANCE_SCALING_FACTOR = 0.0159501
REFLECTANCE_SCALING_FACTOR = 0.000448339
MEX:REFLECTANCE_OFFSET = 0.126235
/* IMAGE OBJECT DEFINITIONS */
OBJECT = IMAGE
  INTERCHANGE_FORMAT = BINARY
  LINES = 71109
  LINE_SAMPLES = 7477
  SAMPLE_TYPE = UNSIGNED_INTEGER
  SAMPLE_BITS = 8
  BANDS = 1
  BAND_STORAGE_TYPE = BAND_SEQUENTIAL
  MAXIMUM = 255
  MEAN = 137.147
  MINIMUM = 1
  STANDARD_DEVIATION = 18.2581
END_OBJECT = IMAGE
/* MAP OBJECT DEFINITIONS */
OBJECT = IMAGE_MAP_PROJECTION
  ^DATA_SET_MAP_PROJECTION_CATALOG= "DSMAP.CAT"
  A_AXIS_RADIUS = 3396.0
  B_AXIS_RADIUS = 3396.0
  C_AXIS_RADIUS = 3396.0
  CENTER_LATITUDE = 0.0
  CENTER_LONGITUDE = 102.0
  COORDINATE_SYSTEM_NAME = PLANETOGRAPHIC
  COORDINATE_SYSTEM_TYPE = "BODY-FIXED ROTATING"
  EASTERNMOST_LONGITUDE = 102.892
  FIRST_STANDARD_PARALLEL = "N/A"
  LINE_FIRST_PIXEL = 1
  LINE_LAST_PIXEL = 71109
  LINE_PROJECTION_OFFSET = 173831.0
  MAP_PROJECTION_ROTATION = 0.0
  MAP_PROJECTION_TYPE = SINUSOIDAL
  MAP_RESOLUTION = 4741.71043093333
  MAP_SCALE = 0.0125
  MAXIMUM_LATITUDE = 36.6591
  MINIMUM_LATITUDE = 21.6658
  POSITIVE_LONGITUDE_DIRECTION = EAST
  REFERENCE_LATITUDE = "N/A"
  REFERENCE_LONGITUDE = "N/A"
  SAMPLE_FIRST_PIXEL = 1
  SAMPLE_LAST_PIXEL = 7477
  SAMPLE_PROJECTION_OFFSET = 3451.0
  SECOND_STANDARD_PARALLEL = "N/A"
  WESTERNMOST_LONGITUDE = 101.132
END_OBJECT = IMAGE_MAP_PROJECTION
/* The JPEG2000 image data file associated with this label. */
OBJECT = COMPRESSED_FILE
  FILE_NAME = "H7403_0000_ND3.JP2"
  RECORD_TYPE = UNDEFINED
  FILE_RECORDS = UNK
  ENCODING_TYPE = "JP2"
  INTERCHANGE_FORMAT = BINARY
  UNCOMPRESSED_FILE_NAME = "H7403_0000_ND3.IMG"
  REQUIRED_STORAGE_BYTES = "531711901"
  ^DESCRIPTION = "JP2INFO.TXT"
END_OBJECT = COMPRESSED_FILE
END
