PDS_VERSION_ID = PDS3
/* FILE DATA ELEMENTS */
RECORD_TYPE = STREAM
/* POINTERS TO DATA OBJECTS */
^COMPRESSED_FILE = "H7405_0000_P13.JP2"
/* IDENTIFICATION DATA ELEMENTS */
DATA_SET_ID = "MEX-M-HRSC-5-REFDR-MAPPROJECTED-V3.0"
DATA_SET_NAME = "MARS EXPRESS HRSC MAP PROJECTED REFDR V3.0"
DETECTOR_ID = MEX_HRSC_P1
EVENT_TYPE = "MARS-REGIONAL-MAPPING-Vo-Te"
INSTRUMENT_HOST_ID = MEX
INSTRUMENT_HOST_NAME = "MARS EXPRESS"
INSTRUMENT_ID = HRSC
INSTRUMENT_NAME = "HIGH RESOLUTION STEREO CAMERA"
MISSION_NAME = "MARS EXPRESS"
MISSION_PHASE_NAME = ME_Phase_18
PROCESSING_LEVEL_ID = 3
PRODUCT_CREATION_TIME = 2016-07-01T01:18:39.000Z
PRODUCT_ID = "H7405_0000_P13.JP2"
RELEASE_ID = 0082
REVISION_ID = 0000
/* QUALITY DATA ELEMENTS */
DATA_QUALITY_ID = 1
DATA_QUALITY_DESC = "Data calculated based on original SPICE kernels"
/* TIME DATA ELEMENTS */
SPACECRAFT_CLOCK_START_COUNT = "1/0203327878.09058"
SPACECRAFT_CLOCK_STOP_COUNT = "1/0203328237.48198"
START_TIME = 2009-10-11T07:58:11.500Z
STOP_TIME = 2009-10-11T08:02:45.649Z
/* ORBITAL DATA ELEMENTS */
ASCENDING_NODE_LONGITUDE = 76.13
MAXIMUM_RESOLUTION = 28.9
FOOTPRINT_POINT_LATITUDE = (36.8383,36.8347,36.8288,36.8187, 36.4784,36.1604,35.8429,35.5246,35.0476 ,34.7297,34.2532,33.9353,33.4586, 33.1407,32.8229,32.3458,32.0275,31.7092 ,31.2323,30.755,30.4367,30.1186,29.7478 ,29.3685,28.7954,28.4159,28.0367,27.658 ,27.0896,26.7103,26.1422,25.5751,25.198 ,24.8206,24.4427,24.0653,23.688,23.3112 ,22.9343,22.5578,22.1815,21.796,21.2177 ,20.8325,20.2431,19.8488,19.4551,19.054 ,19.0534,19.0548,19.0541,19.0526, 19.0506,19.2528,19.4538,19.8485,20.2435 ,20.8336,21.2196,21.6057,22.185,22.5618 ,22.9388,23.3161,23.6936,24.0714, 24.4493,25.0167,25.3951,25.7738,26.3421 ,26.7211,27.1,27.4793,27.859,28.2383, 28.6182,29.1878,29.5723,29.9524,30.2927 ,30.6112,31.0892,31.4079,31.7265, 32.0451,32.3636,32.6822,33.001,33.3196, 33.7974,34.1159,34.4342,34.9116,35.2299 ,35.707,36.0253,36.3434,36.6617, 36.8383)
FOOTPRINT_POINT_LONGITUDE = (261.034,260.725,260.343,259.844, 259.663,259.673,259.682,259.691,259.704 ,259.712,259.724,259.731,259.742, 259.749,259.755,259.764,259.77,259.775, 259.782,259.789,259.793,259.797,259.801 ,259.805,259.81,259.813,259.815,259.817 ,259.82,259.821,259.822,259.823,259.823 ,259.823,259.822,259.821,259.819, 259.818,259.815,259.813,259.81,259.807, 259.802,259.799,259.792,259.788,259.783 ,259.778,260.115,260.529,260.775, 261.051,261.364,261.363,261.362,261.359 ,261.357,261.353,261.35,261.348,261.344 ,261.341,261.338,261.335,261.333,261.33 ,261.327,261.322,261.319,261.316, 261.312,261.309,261.306,261.302,261.299 ,261.296,261.292,261.287,261.283, 261.279,261.275,261.272,261.267,261.263 ,261.26,261.256,261.253,261.249,261.245 ,261.241,261.235,261.231,261.227, 261.221,261.216,261.21,261.205,261.2, 261.195,261.034)
ORBIT_NUMBER = 7405
ORBITAL_ECCENTRICITY = 0.572
ORBITAL_INCLINATION = 86.81
ORBITAL_SEMIMAJOR_AXIS = 8741.68
PERIAPSIS_ALTITUDE = 354.59
PERIAPSIS_ARGUMENT_ANGLE = 139.31
PERIAPSIS_TIME = 2009-10-11T07:57:33.000Z
SPACECRAFT_ORIENTATION = (0.0,-1.0,0.0)
^MEX_ORIENTATION_DESC = "MEX_ORIENTATION_DESC.TXT"
SPACECRAFT_POINTING_MODE = NADIR
^MEX_POINTING_DESC = "MEX_POINTING_DESC.TXT"
RIGHT_ASCENSION = -1e+32
DECLINATION = -1e+32
OFFSET_ANGLE = -1e+32
SPACECRAFT_SOLAR_DISTANCE = 2.30138e+08
TARGET_NAME = MARS
/* CAMERA DATA ELEMENTS */
DETECTOR_TEMPERATURE = 17.351
FOCAL_PLANE_TEMPERATURE = 8.1755
INST_CMPRS_NAME = "DISCRETE COSINE TRANSFORMATION (DCT)"
INST_CMPRS_RATIO = 8.34206
INST_CMPRS_QUALITY = 0
INST_CMPRS_QUANTZ_TBL_ID = 0
INSTRUMENT_TEMPERATURE = 11.234
LENS_TEMPERATURE = 8.7872
MACROPIXEL_SIZE = 2
MISSING_FRAMES = 1
PIXEL_SUBSAMPLING_FLAG = N
SIGNAL_CHAIN_ID = 3
/* RADIOMETRIC DATA ELEMENTS */
BANDWIDTH = 174.0
CENTER_FILTER_WAVELENGTH = 675.0
RADIANCE_OFFSET = 4.21961
RADIANCE_SCALING_FACTOR = 0.0277694
REFLECTANCE_SCALING_FACTOR = 0.000791091
MEX:REFLECTANCE_OFFSET = 0.120208
/* IMAGE OBJECT DEFINITIONS */
OBJECT = IMAGE
  INTERCHANGE_FORMAT = BINARY
  LINES = 42144
  LINE_SAMPLES = 3857
  SAMPLE_TYPE = UNSIGNED_INTEGER
  SAMPLE_BITS = 8
  BANDS = 1
  BAND_STORAGE_TYPE = BAND_SEQUENTIAL
  MAXIMUM = 255
  MEAN = 141.228
  MINIMUM = 1
  STANDARD_DEVIATION = 30.8218
END_OBJECT = IMAGE
/* MAP OBJECT DEFINITIONS */
OBJECT = IMAGE_MAP_PROJECTION
  ^DATA_SET_MAP_PROJECTION_CATALOG= "DSMAP.CAT"
  A_AXIS_RADIUS = 3396.0
  B_AXIS_RADIUS = 3396.0
  C_AXIS_RADIUS = 3396.0
  CENTER_LATITUDE = 0.0
  CENTER_LONGITUDE = 261.0
  COORDINATE_SYSTEM_NAME = PLANETOGRAPHIC
  COORDINATE_SYSTEM_TYPE = "BODY-FIXED ROTATING"
  EASTERNMOST_LONGITUDE = 261.364
  FIRST_STANDARD_PARALLEL = "N/A"
  LINE_FIRST_PIXEL = 1
  LINE_LAST_PIXEL = 42144
  LINE_PROJECTION_OFFSET = 87251.75
  MAP_PROJECTION_ROTATION = 0.0
  MAP_PROJECTION_TYPE = SINUSOIDAL
  MAP_RESOLUTION = 2370.85521546667
  MAP_SCALE = 0.025
  MAXIMUM_LATITUDE = 36.8383
  MINIMUM_LATITUDE = 19.0506
  POSITIVE_LONGITUDE_DIRECTION = EAST
  REFERENCE_LATITUDE = "N/A"
  REFERENCE_LONGITUDE = "N/A"
  SAMPLE_FIRST_PIXEL = 1
  SAMPLE_LAST_PIXEL = 3857
  SAMPLE_PROJECTION_OFFSET = 2888.75
  SECOND_STANDARD_PARALLEL = "N/A"
  WESTERNMOST_LONGITUDE = 259.663
END_OBJECT = IMAGE_MAP_PROJECTION
/* The JPEG2000 image data file associated with this label. */
OBJECT = COMPRESSED_FILE
  FILE_NAME = "H7405_0000_P13.JP2"
  RECORD_TYPE = UNDEFINED
  FILE_RECORDS = UNK
  ENCODING_TYPE = "JP2"
  INTERCHANGE_FORMAT = BINARY
  UNCOMPRESSED_FILE_NAME = "H7405_0000_P13.IMG"
  REQUIRED_STORAGE_BYTES = "162572550"
  ^DESCRIPTION = "JP2INFO.TXT"
END_OBJECT = COMPRESSED_FILE
END
