PDS_VERSION_ID = PDS3
/* FILE DATA ELEMENTS */
RECORD_TYPE = STREAM
/* POINTERS TO DATA OBJECTS */
^COMPRESSED_FILE = "H7405_0000_P23.JP2"
/* IDENTIFICATION DATA ELEMENTS */
DATA_SET_ID = "MEX-M-HRSC-5-REFDR-MAPPROJECTED-V3.0"
DATA_SET_NAME = "MARS EXPRESS HRSC MAP PROJECTED REFDR V3.0"
DETECTOR_ID = MEX_HRSC_P2
EVENT_TYPE = "MARS-REGIONAL-MAPPING-Vo-Te"
INSTRUMENT_HOST_ID = MEX
INSTRUMENT_HOST_NAME = "MARS EXPRESS"
INSTRUMENT_ID = HRSC
INSTRUMENT_NAME = "HIGH RESOLUTION STEREO CAMERA"
MISSION_NAME = "MARS EXPRESS"
MISSION_PHASE_NAME = ME_Phase_18
PROCESSING_LEVEL_ID = 3
PRODUCT_CREATION_TIME = 2016-07-01T01:18:39.000Z
PRODUCT_ID = "H7405_0000_P23.JP2"
RELEASE_ID = 0082
REVISION_ID = 0000
/* QUALITY DATA ELEMENTS */
DATA_QUALITY_ID = 1
DATA_QUALITY_DESC = "Data calculated based on original SPICE kernels"
/* TIME DATA ELEMENTS */
SPACECRAFT_CLOCK_START_COUNT = "1/0203327878.09058"
SPACECRAFT_CLOCK_STOP_COUNT = "1/0203328237.48198"
START_TIME = 2009-10-11T07:58:54.146Z
STOP_TIME = 2009-10-11T08:03:41.775Z
/* ORBITAL DATA ELEMENTS */
ASCENDING_NODE_LONGITUDE = 76.13
MAXIMUM_RESOLUTION = 29.4
FOOTPRINT_POINT_LATITUDE = (36.7546,36.749,36.7399,36.4437,36.132, 35.8199,35.5088,35.1973,34.7313,34.4202 ,34.11,33.6449,33.3348,33.0256,32.6846, 32.3163,31.949,31.582,31.2151,30.8493, 30.4842,30.1193,29.7551,29.3914,29.0283 ,28.6657,28.3041,27.9434,27.4021, 27.0426,26.6836,26.3257,25.9688,25.4342 ,25.0724,24.7074,24.3437,23.981,23.4255 ,23.0553,22.686,22.3082,21.9312,21.3628 ,20.9785,20.5954,20.0117,19.6218, 19.2276,19.0124,19.011,19.0087,19.2067, 19.6017,19.9921,20.5771,20.9614,21.3455 ,21.9152,22.2929,22.6713,23.0417, 23.4127,23.9693,24.3328,24.6971,25.0622 ,25.4242,25.7811,26.1389,26.4973, 26.8567,27.2167,27.5771,28.1195,28.4811 ,28.8443,29.3891,29.7534,30.1181, 30.4836,30.85,31.2159,31.5832,31.9508, 32.3191,32.6881,33.0313,33.3409,33.6512 ,33.9616,34.2724,34.7396,35.0512,35.363 ,35.6756,35.9879,36.3006,36.6134, 36.7546)
FOOTPRINT_POINT_LONGITUDE = (260.744,260.327,259.76,259.649,259.658 ,259.666,259.674,259.682,259.693,259.7, 259.707,259.716,259.722,259.728,259.734 ,259.74,259.745,259.75,259.755,259.759, 259.763,259.767,259.77,259.773,259.775, 259.777,259.779,259.78,259.782,259.782, 259.782,259.782,259.781,259.78,259.779, 259.778,259.776,259.774,259.77,259.766, 259.763,259.759,259.755,259.748,259.743 ,259.738,259.729,259.723,259.717, 260.259,260.673,261.136,261.422,261.418 ,261.414,261.408,261.405,261.401, 261.395,261.391,261.387,261.383,261.379 ,261.373,261.369,261.366,261.362, 261.358,261.354,261.35,261.346,261.342, 261.338,261.334,261.328,261.323,261.319 ,261.312,261.308,261.303,261.299, 261.294,261.289,261.284,261.279,261.274 ,261.269,261.264,261.259,261.254,261.25 ,261.245,261.238,261.233,261.228, 261.223,261.218,261.212,261.207, 260.744)
ORBIT_NUMBER = 7405
ORBITAL_ECCENTRICITY = 0.572
ORBITAL_INCLINATION = 86.81
ORBITAL_SEMIMAJOR_AXIS = 8741.68
PERIAPSIS_ALTITUDE = 354.59
PERIAPSIS_ARGUMENT_ANGLE = 139.31
PERIAPSIS_TIME = 2009-10-11T07:57:33.000Z
SPACECRAFT_ORIENTATION = (0.0,-1.0,0.0)
^MEX_ORIENTATION_DESC = "MEX_ORIENTATION_DESC.TXT"
SPACECRAFT_POINTING_MODE = NADIR
^MEX_POINTING_DESC = "MEX_POINTING_DESC.TXT"
RIGHT_ASCENSION = -1e+32
DECLINATION = -1e+32
OFFSET_ANGLE = -1e+32
SPACECRAFT_SOLAR_DISTANCE = 2.30138e+08
TARGET_NAME = MARS
/* CAMERA DATA ELEMENTS */
DETECTOR_TEMPERATURE = 18.5744
FOCAL_PLANE_TEMPERATURE = 8.1755
INST_CMPRS_NAME = "DISCRETE COSINE TRANSFORMATION (DCT)"
INST_CMPRS_RATIO = 6.14102
INST_CMPRS_QUALITY = 0
INST_CMPRS_QUANTZ_TBL_ID = 0
INSTRUMENT_TEMPERATURE = 11.234
LENS_TEMPERATURE = 8.7872
MACROPIXEL_SIZE = 2
MISSING_FRAMES = 0
PIXEL_SUBSAMPLING_FLAG = N
SIGNAL_CHAIN_ID = 3
/* RADIOMETRIC DATA ELEMENTS */
BANDWIDTH = 177.0
CENTER_FILTER_WAVELENGTH = 676.5
RADIANCE_OFFSET = 4.28242
RADIANCE_SCALING_FACTOR = 0.0272433
REFLECTANCE_SCALING_FACTOR = 0.000765052
MEX:REFLECTANCE_OFFSET = 0.12026
/* IMAGE OBJECT DEFINITIONS */
OBJECT = IMAGE
  INTERCHANGE_FORMAT = BINARY
  LINES = 42144
  LINE_SAMPLES = 3857
  SAMPLE_TYPE = UNSIGNED_INTEGER
  SAMPLE_BITS = 8
  BANDS = 1
  BAND_STORAGE_TYPE = BAND_SEQUENTIAL
  MAXIMUM = 255
  MEAN = 146.497
  MINIMUM = 1
  STANDARD_DEVIATION = 28.3842
END_OBJECT = IMAGE
/* MAP OBJECT DEFINITIONS */
OBJECT = IMAGE_MAP_PROJECTION
  ^DATA_SET_MAP_PROJECTION_CATALOG= "DSMAP.CAT"
  A_AXIS_RADIUS = 3396.0
  B_AXIS_RADIUS = 3396.0
  C_AXIS_RADIUS = 3396.0
  CENTER_LATITUDE = 0.0
  CENTER_LONGITUDE = 261.0
  COORDINATE_SYSTEM_NAME = PLANETOGRAPHIC
  COORDINATE_SYSTEM_TYPE = "BODY-FIXED ROTATING"
  EASTERNMOST_LONGITUDE = 261.422
  FIRST_STANDARD_PARALLEL = "N/A"
  LINE_FIRST_PIXEL = 1
  LINE_LAST_PIXEL = 42144
  LINE_PROJECTION_OFFSET = 87251.75
  MAP_PROJECTION_ROTATION = 0.0
  MAP_PROJECTION_TYPE = SINUSOIDAL
  MAP_RESOLUTION = 2370.85521546667
  MAP_SCALE = 0.025
  MAXIMUM_LATITUDE = 36.7546
  MINIMUM_LATITUDE = 19.0087
  POSITIVE_LONGITUDE_DIRECTION = EAST
  REFERENCE_LATITUDE = "N/A"
  REFERENCE_LONGITUDE = "N/A"
  SAMPLE_FIRST_PIXEL = 1
  SAMPLE_LAST_PIXEL = 3857
  SAMPLE_PROJECTION_OFFSET = 2888.75
  SECOND_STANDARD_PARALLEL = "N/A"
  WESTERNMOST_LONGITUDE = 259.649
END_OBJECT = IMAGE_MAP_PROJECTION
/* The JPEG2000 image data file associated with this label. */
OBJECT = COMPRESSED_FILE
  FILE_NAME = "H7405_0000_P23.JP2"
  RECORD_TYPE = UNDEFINED
  FILE_RECORDS = UNK
  ENCODING_TYPE = "JP2"
  INTERCHANGE_FORMAT = BINARY
  UNCOMPRESSED_FILE_NAME = "H7405_0000_P23.IMG"
  REQUIRED_STORAGE_BYTES = "162572550"
  ^DESCRIPTION = "JP2INFO.TXT"
END_OBJECT = COMPRESSED_FILE
END
