PDS_VERSION_ID = PDS3
/* FILE DATA ELEMENTS */
RECORD_TYPE = STREAM
/* POINTERS TO DATA OBJECTS */
^COMPRESSED_FILE = "H7415_0000_RE3.JP2"
/* IDENTIFICATION DATA ELEMENTS */
DATA_SET_ID = "MEX-M-HRSC-5-REFDR-MAPPROJECTED-V3.0"
DATA_SET_NAME = "MARS EXPRESS HRSC MAP PROJECTED REFDR V3.0"
DETECTOR_ID = MEX_HRSC_RED
EVENT_TYPE = "MARS-REGIONAL-MAPPING-Vo-Lc-Pf"
INSTRUMENT_HOST_ID = MEX
INSTRUMENT_HOST_NAME = "MARS EXPRESS"
INSTRUMENT_ID = HRSC
INSTRUMENT_NAME = "HIGH RESOLUTION STEREO CAMERA"
MISSION_NAME = "MARS EXPRESS"
MISSION_PHASE_NAME = ME_Phase_18
PROCESSING_LEVEL_ID = 3
PRODUCT_CREATION_TIME = 2016-07-01T01:18:39.000Z
PRODUCT_ID = "H7415_0000_RE3.JP2"
RELEASE_ID = 0082
REVISION_ID = 0000
/* QUALITY DATA ELEMENTS */
DATA_QUALITY_ID = 1
DATA_QUALITY_DESC = "Data calculated based on original SPICE kernels"
/* TIME DATA ELEMENTS */
SPACECRAFT_CLOCK_START_COUNT = "1/0203576088.08253"
SPACECRAFT_CLOCK_STOP_COUNT = "1/0203576377.24914"
START_TIME = 2009-10-14T04:55:49.860Z
STOP_TIME = 2009-10-14T04:59:30.904Z
/* ORBITAL DATA ELEMENTS */
ASCENDING_NODE_LONGITUDE = 75.93
MAXIMUM_RESOLUTION = 121.3
FOOTPRINT_POINT_LATITUDE = (41.0152,41.0054,41.0572,40.8018, 40.5471,40.2921,40.0377,39.7834,39.5292 ,39.2751,39.0214,38.7679,38.5144, 38.2612,38.0083,37.7556,37.5031,37.251, 36.9987,36.7469,36.4954,36.2439,35.9928 ,35.4915,35.0574,34.7592,34.4615, 34.1641,33.8671,33.5702,33.2739,32.9782 ,32.6828,32.3877,32.0933,31.7991, 31.5054,31.2119,30.919,30.6266,30.3344, 30.0427,29.7521,29.4616,29.1714,28.8817 ,28.5927,28.3043,28.0163,27.7286,27.218 ,27.2212,27.2229,27.2244,27.3724, 27.6598,27.9475,28.2356,28.5246,28.8142 ,29.1041,29.3946,29.8314,30.1226, 30.4147,30.707,31.147,31.4408,31.7348, 32.1773,32.4726,32.7683,33.0644,33.361, 33.8067,34.104,34.4018,34.7001,34.9988, 35.4467,36.0748,36.3264,36.5785,36.8307 ,37.2092,37.4616,37.7146,37.9677, 38.2209,38.4745,38.7284,38.9824,39.364, 39.6187,39.8735,40.1284,40.3835,40.6389 ,40.8943,41.0152)
FOOTPRINT_POINT_LONGITUDE = (332.283,331.799,331.114,331.125, 331.135,331.146,331.155,331.165,331.174 ,331.184,331.192,331.201,331.209, 331.217,331.225,331.233,331.24,331.247, 331.254,331.26,331.267,331.273,331.279, 331.29,331.299,331.305,331.31,331.316, 331.32,331.325,331.33,331.334,331.337, 331.341,331.344,331.347,331.35,331.353, 331.355,331.357,331.359,331.361,331.362 ,331.363,331.364,331.365,331.365, 331.365,331.365,331.365,331.364,331.93, 332.268,332.56,333.001,332.998,332.994, 332.991,332.987,332.984,332.98,332.977, 332.972,332.968,332.964,332.96,332.955, 332.951,332.947,332.941,332.937,332.933 ,332.929,332.925,332.919,332.914,332.91 ,332.905,332.901,332.894,332.884,332.88 ,332.876,332.871,332.865,332.86,332.856 ,332.851,332.846,332.842,332.837, 332.832,332.825,332.82,332.815,332.81, 332.805,332.799,332.794,332.283)
ORBIT_NUMBER = 7415
ORBITAL_ECCENTRICITY = 0.571
ORBITAL_INCLINATION = 86.83
ORBITAL_SEMIMAJOR_AXIS = 8727.63
PERIAPSIS_ALTITUDE = 356.16
PERIAPSIS_ARGUMENT_ANGLE = 137.57
PERIAPSIS_TIME = 2009-10-14T04:55:02.000Z
SPACECRAFT_ORIENTATION = (0.0,-1.0,0.0)
^MEX_ORIENTATION_DESC = "MEX_ORIENTATION_DESC.TXT"
SPACECRAFT_POINTING_MODE = ACROSSTRACK
^MEX_POINTING_DESC = "MEX_POINTING_DESC.TXT"
RIGHT_ASCENSION = -1e+32
DECLINATION = -1e+32
OFFSET_ANGLE = 0.1
SPACECRAFT_SOLAR_DISTANCE = 2.30687e+08
TARGET_NAME = MARS
/* CAMERA DATA ELEMENTS */
DETECTOR_TEMPERATURE = 17.9627
FOCAL_PLANE_TEMPERATURE = 8.1755
INST_CMPRS_NAME = "DISCRETE COSINE TRANSFORMATION (DCT)"
INST_CMPRS_RATIO = 21.3536
INST_CMPRS_QUALITY = 0
INST_CMPRS_QUANTZ_TBL_ID = 0
INSTRUMENT_TEMPERATURE = 11.234
LENS_TEMPERATURE = 8.5833
MACROPIXEL_SIZE = 8
MISSING_FRAMES = 0
PIXEL_SUBSAMPLING_FLAG = N
SIGNAL_CHAIN_ID = 2
/* RADIOMETRIC DATA ELEMENTS */
BANDWIDTH = 48.0
CENTER_FILTER_WAVELENGTH = 748.0
RADIANCE_OFFSET = 0.928365
RADIANCE_SCALING_FACTOR = 0.00389613
REFLECTANCE_SCALING_FACTOR = 0.000473159
MEX:REFLECTANCE_OFFSET = 0.112744
/* IMAGE OBJECT DEFINITIONS */
OBJECT = IMAGE
  INTERCHANGE_FORMAT = BINARY
  LINES = 8222
  LINE_SAMPLES = 935
  SAMPLE_TYPE = UNSIGNED_INTEGER
  SAMPLE_BITS = 8
  BANDS = 1
  BAND_STORAGE_TYPE = BAND_SEQUENTIAL
  MAXIMUM = 255
  MEAN = 81.2888
  MINIMUM = 1
  STANDARD_DEVIATION = 28.7315
END_OBJECT = IMAGE
/* MAP OBJECT DEFINITIONS */
OBJECT = IMAGE_MAP_PROJECTION
  ^DATA_SET_MAP_PROJECTION_CATALOG= "DSMAP.CAT"
  A_AXIS_RADIUS = 3396.0
  B_AXIS_RADIUS = 3396.0
  C_AXIS_RADIUS = 3396.0
  CENTER_LATITUDE = 0.0
  CENTER_LONGITUDE = 332.0
  COORDINATE_SYSTEM_NAME = PLANETOGRAPHIC
  COORDINATE_SYSTEM_TYPE = "BODY-FIXED ROTATING"
  EASTERNMOST_LONGITUDE = 333.001
  FIRST_STANDARD_PARALLEL = "N/A"
  LINE_FIRST_PIXEL = 1
  LINE_LAST_PIXEL = 8222
  LINE_PROJECTION_OFFSET = 24348.1875
  MAP_PROJECTION_ROTATION = 0.0
  MAP_PROJECTION_TYPE = SINUSOIDAL
  MAP_RESOLUTION = 592.713803866667
  MAP_SCALE = 0.1
  MAXIMUM_LATITUDE = 41.0572
  MINIMUM_LATITUDE = 27.218
  POSITIVE_LONGITUDE_DIRECTION = EAST
  REFERENCE_LATITUDE = "N/A"
  REFERENCE_LONGITUDE = "N/A"
  SAMPLE_FIRST_PIXEL = 1
  SAMPLE_LAST_PIXEL = 935
  SAMPLE_PROJECTION_OFFSET = 407.1875
  SECOND_STANDARD_PARALLEL = "N/A"
  WESTERNMOST_LONGITUDE = 331.114
END_OBJECT = IMAGE_MAP_PROJECTION
/* The JPEG2000 image data file associated with this label. */
OBJECT = COMPRESSED_FILE
  FILE_NAME = "H7415_0000_RE3.JP2"
  RECORD_TYPE = UNDEFINED
  FILE_RECORDS = UNK
  ENCODING_TYPE = "JP2"
  INTERCHANGE_FORMAT = BINARY
  UNCOMPRESSED_FILE_NAME = "H7415_0000_RE3.IMG"
  REQUIRED_STORAGE_BYTES = "7705335"
  ^DESCRIPTION = "JP2INFO.TXT"
END_OBJECT = COMPRESSED_FILE
END
