PDS_VERSION_ID = PDS3
/* FILE DATA ELEMENTS */
RECORD_TYPE = STREAM
/* POINTERS TO DATA OBJECTS */
^COMPRESSED_FILE = "H7421_0000_IR3.JP2"
/* IDENTIFICATION DATA ELEMENTS */
DATA_SET_ID = "MEX-M-HRSC-5-REFDR-MAPPROJECTED-V3.0"
DATA_SET_NAME = "MARS EXPRESS HRSC MAP PROJECTED REFDR V3.0"
DETECTOR_ID = MEX_HRSC_IR
EVENT_TYPE = "MARS-REGIONAL-MAPPING-Vo-Te-Pf"
INSTRUMENT_HOST_ID = MEX
INSTRUMENT_HOST_NAME = "MARS EXPRESS"
INSTRUMENT_ID = HRSC
INSTRUMENT_NAME = "HIGH RESOLUTION STEREO CAMERA"
MISSION_NAME = "MARS EXPRESS"
MISSION_PHASE_NAME = ME_Phase_18
PROCESSING_LEVEL_ID = 3
PRODUCT_CREATION_TIME = 2016-07-01T01:18:39.000Z
PRODUCT_ID = "H7421_0000_IR3.JP2"
RELEASE_ID = 0082
REVISION_ID = 0000
/* QUALITY DATA ELEMENTS */
DATA_QUALITY_ID = 1
DATA_QUALITY_DESC = "Data calculated based on original SPICE kernels"
/* TIME DATA ELEMENTS */
SPACECRAFT_CLOCK_START_COUNT = "1/0203725212.08271"
SPACECRAFT_CLOCK_STOP_COUNT = "1/0203725499.55600"
START_TIME = 2009-10-15T22:20:20.227Z
STOP_TIME = 2009-10-15T22:23:33.487Z
/* ORBITAL DATA ELEMENTS */
ASCENDING_NODE_LONGITUDE = 75.81
MAXIMUM_RESOLUTION = 126.4
FOOTPRINT_POINT_LATITUDE = (31.0494,31.0374,31.0304,31.0229, 31.0147,31.0047,30.718,30.354,30.1114, 29.7478,29.3839,29.1416,28.8996,28.6581 ,28.4157,28.1734,27.9317,27.6898, 27.4475,27.0853,26.8434,26.6019,26.2394 ,25.9976,25.6362,25.3941,25.1521, 24.9105,24.669,24.4228,24.1749,23.8041, 23.4315,23.1836,22.9305,22.6766,22.4232 ,22.1695,21.9155,21.5282,21.2685,20.879 ,20.6194,20.3554,20.0901,19.8251, 19.5607,19.158,18.8871,18.6166,18.4665, 18.4706,18.475,18.4812,18.4875,18.7584, 19.0295,19.436,19.7013,20.0997,20.3655, 20.6299,20.8897,21.1495,21.5393,21.9274 ,22.1817,22.4364,22.6903,22.9442, 23.1983,23.4462,23.6941,23.9431,24.3155 ,24.6867,24.9283,25.1701,25.4116, 25.6534,25.8957,26.1375,26.3795,26.6215 ,26.8626,27.104,27.3476,27.5905,27.8324 ,28.0755,28.3181,28.6821,28.9247, 29.1682,29.5268,29.8969,30.1394,30.504, 30.7471,31.0494)
FOOTPRINT_POINT_LONGITUDE = (87.062,86.6137,86.3879,86.1612,85.9334 ,85.6755,85.6449,85.6507,85.6544, 85.6596,85.6643,85.6674,85.6704,85.6737 ,85.6761,85.6784,85.6808,85.683,85.6847 ,85.6876,85.6891,85.6906,85.6924, 85.6932,85.6949,85.695,85.695,85.6951, 85.695,85.6949,85.6945,85.6941,85.6922, 85.6909,85.6896,85.6882,85.6868,85.685, 85.6829,85.6796,85.6772,85.6734,85.6705 ,85.6677,85.6646,85.6616,85.6586, 85.6533,85.6496,85.6458,85.9955,86.2038 ,86.4592,86.9197,87.3403,87.3378, 87.3353,87.3314,87.3288,87.3248,87.3221 ,87.3195,87.3168,87.314,87.3099,87.3057 ,87.3028,87.2998,87.297,87.2941,87.2912 ,87.2883,87.2854,87.2822,87.2777, 87.2731,87.2702,87.2671,87.2641,87.261, 87.2578,87.2546,87.2514,87.2482,87.245, 87.2418,87.2382,87.2346,87.2312,87.2276 ,87.224,87.2185,87.2148,87.2109,87.2061 ,87.1992,87.1953,87.1891,87.185,87.062)
ORBIT_NUMBER = 7421
ORBITAL_ECCENTRICITY = 0.572
ORBITAL_INCLINATION = 86.83
ORBITAL_SEMIMAJOR_AXIS = 8734.69
PERIAPSIS_ALTITUDE = 355.9
PERIAPSIS_ARGUMENT_ANGLE = 136.52
PERIAPSIS_TIME = 2009-10-15T22:17:36.000Z
SPACECRAFT_ORIENTATION = (0.0,-1.0,0.0)
^MEX_ORIENTATION_DESC = "MEX_ORIENTATION_DESC.TXT"
SPACECRAFT_POINTING_MODE = ACROSSTRACK
^MEX_POINTING_DESC = "MEX_POINTING_DESC.TXT"
RIGHT_ASCENSION = -1e+32
DECLINATION = -1e+32
OFFSET_ANGLE = -0.41
SPACECRAFT_SOLAR_DISTANCE = 2.31015e+08
TARGET_NAME = MARS
/* CAMERA DATA ELEMENTS */
DETECTOR_TEMPERATURE = 17.1471
FOCAL_PLANE_TEMPERATURE = 7.7677
INST_CMPRS_NAME = "DISCRETE COSINE TRANSFORMATION (DCT)"
INST_CMPRS_RATIO = 19.4568
INST_CMPRS_QUALITY = 0
INST_CMPRS_QUANTZ_TBL_ID = 0
INSTRUMENT_TEMPERATURE = 11.0301
LENS_TEMPERATURE = 8.3794
MACROPIXEL_SIZE = 8
MISSING_FRAMES = 0
PIXEL_SUBSAMPLING_FLAG = N
SIGNAL_CHAIN_ID = 2
/* RADIOMETRIC DATA ELEMENTS */
BANDWIDTH = 81.0
CENTER_FILTER_WAVELENGTH = 955.5
RADIANCE_OFFSET = 1.4947
RADIANCE_SCALING_FACTOR = 0.00482282
REFLECTANCE_SCALING_FACTOR = 0.000555278
MEX:REFLECTANCE_OFFSET = 0.172094
/* IMAGE OBJECT DEFINITIONS */
OBJECT = IMAGE
  INTERCHANGE_FORMAT = BINARY
  LINES = 7414
  LINE_SAMPLES = 1043
  SAMPLE_TYPE = UNSIGNED_INTEGER
  SAMPLE_BITS = 8
  BANDS = 1
  BAND_STORAGE_TYPE = BAND_SEQUENTIAL
  MAXIMUM = 255
  MEAN = 135.831
  MINIMUM = 1
  STANDARD_DEVIATION = 28.1016
END_OBJECT = IMAGE
/* MAP OBJECT DEFINITIONS */
OBJECT = IMAGE_MAP_PROJECTION
  ^DATA_SET_MAP_PROJECTION_CATALOG= "DSMAP.CAT"
  A_AXIS_RADIUS = 3396.0
  B_AXIS_RADIUS = 3396.0
  C_AXIS_RADIUS = 3396.0
  CENTER_LATITUDE = 0.0
  CENTER_LONGITUDE = 86.0
  COORDINATE_SYSTEM_NAME = PLANETOGRAPHIC
  COORDINATE_SYSTEM_TYPE = "BODY-FIXED ROTATING"
  EASTERNMOST_LONGITUDE = 87.3403
  FIRST_STANDARD_PARALLEL = "N/A"
  LINE_FIRST_PIXEL = 1
  LINE_LAST_PIXEL = 7414
  LINE_PROJECTION_OFFSET = 18377.0625
  MAP_PROJECTION_ROTATION = 0.0
  MAP_PROJECTION_TYPE = SINUSOIDAL
  MAP_RESOLUTION = 592.713803866667
  MAP_SCALE = 0.1
  MAXIMUM_LATITUDE = 31.0494
  MINIMUM_LATITUDE = 18.4665
  POSITIVE_LONGITUDE_DIRECTION = EAST
  REFERENCE_LATITUDE = "N/A"
  REFERENCE_LONGITUDE = "N/A"
  SAMPLE_FIRST_PIXEL = 1
  SAMPLE_LAST_PIXEL = 1043
  SAMPLE_PROJECTION_OFFSET = 256.8125
  SECOND_STANDARD_PARALLEL = "N/A"
  WESTERNMOST_LONGITUDE = 85.64490000000001
END_OBJECT = IMAGE_MAP_PROJECTION
/* The JPEG2000 image data file associated with this label. */
OBJECT = COMPRESSED_FILE
  FILE_NAME = "H7421_0000_IR3.JP2"
  RECORD_TYPE = UNDEFINED
  FILE_RECORDS = UNK
  ENCODING_TYPE = "JP2"
  INTERCHANGE_FORMAT = BINARY
  UNCOMPRESSED_FILE_NAME = "H7421_0000_IR3.IMG"
  REQUIRED_STORAGE_BYTES = "7750533"
  ^DESCRIPTION = "JP2INFO.TXT"
END_OBJECT = COMPRESSED_FILE
END
