PDS_VERSION_ID = PDS3
/* FILE DATA ELEMENTS */
RECORD_TYPE = STREAM
/* POINTERS TO DATA OBJECTS */
^COMPRESSED_FILE = "H7421_0000_P13.JP2"
/* IDENTIFICATION DATA ELEMENTS */
DATA_SET_ID = "MEX-M-HRSC-5-REFDR-MAPPROJECTED-V3.0"
DATA_SET_NAME = "MARS EXPRESS HRSC MAP PROJECTED REFDR V3.0"
DETECTOR_ID = MEX_HRSC_P1
EVENT_TYPE = "MARS-REGIONAL-MAPPING-Vo-Te-Pf"
INSTRUMENT_HOST_ID = MEX
INSTRUMENT_HOST_NAME = "MARS EXPRESS"
INSTRUMENT_ID = HRSC
INSTRUMENT_NAME = "HIGH RESOLUTION STEREO CAMERA"
MISSION_NAME = "MARS EXPRESS"
MISSION_PHASE_NAME = ME_Phase_18
PROCESSING_LEVEL_ID = 3
PRODUCT_CREATION_TIME = 2016-07-01T01:18:39.000Z
PRODUCT_ID = "H7421_0000_P13.JP2"
RELEASE_ID = 0082
REVISION_ID = 0000
/* QUALITY DATA ELEMENTS */
DATA_QUALITY_ID = 1
DATA_QUALITY_DESC = "Data calculated based on original SPICE kernels"
/* TIME DATA ELEMENTS */
SPACECRAFT_CLOCK_START_COUNT = "1/0203725212.08271"
SPACECRAFT_CLOCK_STOP_COUNT = "1/0203725499.55600"
START_TIME = 2009-10-15T22:20:26.112Z
STOP_TIME = 2009-10-15T22:23:40.584Z
/* ORBITAL DATA ELEMENTS */
ASCENDING_NODE_LONGITUDE = 75.81
MAXIMUM_RESOLUTION = 31.2
FOOTPRINT_POINT_LATITUDE = (31.0305,31.0184,31.0038,30.9623, 30.7208,30.3586,29.9964,29.7551,29.5138 ,29.152,28.911,28.5502,28.3093,28.0686, 27.8282,27.467,27.107,26.8664,26.6262, 26.3869,26.1422,25.9021,25.6626,25.3025 ,25.0626,24.8175,24.5717,24.3255, 24.0797,23.8347,23.4624,23.2103,22.9585 ,22.5812,22.33,21.9449,21.6873,21.43, 21.173,20.9136,20.6502,20.3873,20.1246, 19.8623,19.5943,19.3259,19.0578,18.7899 ,18.4789,18.4848,18.4886,18.4918, 18.4943,18.4962,18.7717,19.0401,19.3085 ,19.5773,19.9784,20.2416,20.6359, 20.8995,21.289,21.5463,21.8041,22.0621, 22.4456,22.6973,23.0752,23.3274,23.5799 ,23.8265,24.0737,24.3197,24.5659, 24.8122,25.0587,25.2987,25.5386,25.7789 ,26.1395,26.5043,26.7447,26.9846, 27.3461,27.5874,27.8281,28.0697,28.3109 ,28.6729,28.9143,29.1563,29.5142, 29.7552,30.0021,30.2437,30.4858,30.7277 ,30.9698,31.0305)
FOOTPRINT_POINT_LONGITUDE = (86.8271,86.3564,85.8814,85.6239, 85.6279,85.6337,85.6389,85.6423,85.6454 ,85.6498,85.6527,85.6571,85.6594, 85.6616,85.6639,85.6664,85.6694,85.6706 ,85.6719,85.6737,85.6741,85.6748, 85.6758,85.676,85.676,85.676,85.676, 85.6754,85.6749,85.6747,85.6726,85.6712 ,85.6699,85.6676,85.6661,85.6625, 85.6602,85.6579,85.6555,85.6527,85.6496 ,85.6466,85.6435,85.6404,85.6371, 85.6335,85.6297,85.6259,85.7561,86.1103 ,86.3785,86.6456,86.945,87.2099,87.3454 ,87.3428,87.3402,87.3374,87.3333, 87.3305,87.3264,87.3236,87.3193,87.3164 ,87.3135,87.3106,87.306,87.3031,87.2987 ,87.2957,87.2926,87.2896,87.2863, 87.2832,87.2802,87.277,87.2739,87.2708, 87.2677,87.2645,87.2596,87.2546,87.2513 ,87.2481,87.2429,87.2393,87.2358, 87.2321,87.2284,87.2229,87.2191,87.2151 ,87.2103,87.2064,87.2013,87.1973, 87.1931,87.1889,87.1847,86.8271)
ORBIT_NUMBER = 7421
ORBITAL_ECCENTRICITY = 0.572
ORBITAL_INCLINATION = 86.83
ORBITAL_SEMIMAJOR_AXIS = 8734.69
PERIAPSIS_ALTITUDE = 355.9
PERIAPSIS_ARGUMENT_ANGLE = 136.52
PERIAPSIS_TIME = 2009-10-15T22:17:36.000Z
SPACECRAFT_ORIENTATION = (0.0,-1.0,0.0)
^MEX_ORIENTATION_DESC = "MEX_ORIENTATION_DESC.TXT"
SPACECRAFT_POINTING_MODE = ACROSSTRACK
^MEX_POINTING_DESC = "MEX_POINTING_DESC.TXT"
RIGHT_ASCENSION = -1e+32
DECLINATION = -1e+32
OFFSET_ANGLE = -0.41
SPACECRAFT_SOLAR_DISTANCE = 2.31015e+08
TARGET_NAME = MARS
/* CAMERA DATA ELEMENTS */
DETECTOR_TEMPERATURE = 17.1471
FOCAL_PLANE_TEMPERATURE = 7.7677
INST_CMPRS_NAME = "DISCRETE COSINE TRANSFORMATION (DCT)"
INST_CMPRS_RATIO = 14.4848
INST_CMPRS_QUALITY = 0
INST_CMPRS_QUANTZ_TBL_ID = 0
INSTRUMENT_TEMPERATURE = 11.0301
LENS_TEMPERATURE = 8.3794
MACROPIXEL_SIZE = 2
MISSING_FRAMES = 1
PIXEL_SUBSAMPLING_FLAG = N
SIGNAL_CHAIN_ID = 3
/* RADIOMETRIC DATA ELEMENTS */
BANDWIDTH = 174.0
CENTER_FILTER_WAVELENGTH = 675.0
RADIANCE_OFFSET = 5.64038
RADIANCE_SCALING_FACTOR = 0.0165311
REFLECTANCE_SCALING_FACTOR = 0.000474536
MEX:REFLECTANCE_OFFSET = 0.16191
/* IMAGE OBJECT DEFINITIONS */
OBJECT = IMAGE
  INTERCHANGE_FORMAT = BINARY
  LINES = 29656
  LINE_SAMPLES = 4170
  SAMPLE_TYPE = UNSIGNED_INTEGER
  SAMPLE_BITS = 8
  BANDS = 1
  BAND_STORAGE_TYPE = BAND_SEQUENTIAL
  MAXIMUM = 255
  MEAN = 131.872
  MINIMUM = 1
  STANDARD_DEVIATION = 27.272
END_OBJECT = IMAGE
/* MAP OBJECT DEFINITIONS */
OBJECT = IMAGE_MAP_PROJECTION
  ^DATA_SET_MAP_PROJECTION_CATALOG= "DSMAP.CAT"
  A_AXIS_RADIUS = 3396.0
  B_AXIS_RADIUS = 3396.0
  C_AXIS_RADIUS = 3396.0
  CENTER_LATITUDE = 0.0
  CENTER_LONGITUDE = 86.0
  COORDINATE_SYSTEM_NAME = PLANETOGRAPHIC
  COORDINATE_SYSTEM_TYPE = "BODY-FIXED ROTATING"
  EASTERNMOST_LONGITUDE = 87.3454
  FIRST_STANDARD_PARALLEL = "N/A"
  LINE_FIRST_PIXEL = 1
  LINE_LAST_PIXEL = 29656
  LINE_PROJECTION_OFFSET = 73509.75
  MAP_PROJECTION_ROTATION = 0.0
  MAP_PROJECTION_TYPE = SINUSOIDAL
  MAP_RESOLUTION = 2370.85521546667
  MAP_SCALE = 0.025
  MAXIMUM_LATITUDE = 31.0305
  MINIMUM_LATITUDE = 18.4789
  POSITIVE_LONGITUDE_DIRECTION = EAST
  REFERENCE_LATITUDE = "N/A"
  REFERENCE_LONGITUDE = "N/A"
  SAMPLE_FIRST_PIXEL = 1
  SAMPLE_LAST_PIXEL = 4170
  SAMPLE_PROJECTION_OFFSET = 1028.75
  SECOND_STANDARD_PARALLEL = "N/A"
  WESTERNMOST_LONGITUDE = 85.62390000000001
END_OBJECT = IMAGE_MAP_PROJECTION
/* The JPEG2000 image data file associated with this label. */
OBJECT = COMPRESSED_FILE
  FILE_NAME = "H7421_0000_P13.JP2"
  RECORD_TYPE = UNDEFINED
  FILE_RECORDS = UNK
  ENCODING_TYPE = "JP2"
  INTERCHANGE_FORMAT = BINARY
  UNCOMPRESSED_FILE_NAME = "H7421_0000_P13.IMG"
  REQUIRED_STORAGE_BYTES = "123690540"
  ^DESCRIPTION = "JP2INFO.TXT"
END_OBJECT = COMPRESSED_FILE
END
