PDS_VERSION_ID = PDS3
/* FILE DATA ELEMENTS */
RECORD_TYPE = STREAM
/* POINTERS TO DATA OBJECTS */
^COMPRESSED_FILE = "H7421_0001_P13.JP2"
/* IDENTIFICATION DATA ELEMENTS */
DATA_SET_ID = "MEX-M-HRSC-5-REFDR-MAPPROJECTED-V3.0"
DATA_SET_NAME = "MARS EXPRESS HRSC MAP PROJECTED REFDR V3.0"
DETECTOR_ID = MEX_HRSC_P1
EVENT_TYPE = "MARS-REGIONAL-MAPPING-Im-Fl"
INSTRUMENT_HOST_ID = MEX
INSTRUMENT_HOST_NAME = "MARS EXPRESS"
INSTRUMENT_ID = HRSC
INSTRUMENT_NAME = "HIGH RESOLUTION STEREO CAMERA"
MISSION_NAME = "MARS EXPRESS"
MISSION_PHASE_NAME = ME_Phase_18
PROCESSING_LEVEL_ID = 3
PRODUCT_CREATION_TIME = 2016-07-01T01:18:39.000Z
PRODUCT_ID = "H7421_0001_P13.JP2"
RELEASE_ID = 0082
REVISION_ID = 0000
/* QUALITY DATA ELEMENTS */
DATA_QUALITY_ID = 2
DATA_QUALITY_DESC = "Data calculated based on photogrammetrically improved orbit and attitude data"
/* TIME DATA ELEMENTS */
SPACECRAFT_CLOCK_START_COUNT = "1/0203725630.09072"
SPACECRAFT_CLOCK_STOP_COUNT = "1/0203726020.28530"
START_TIME = 2009-10-15T22:27:33.629Z
STOP_TIME = 2009-10-15T22:30:27.456Z
/* ORBITAL DATA ELEMENTS */
ASCENDING_NODE_LONGITUDE = 75.81
MAXIMUM_RESOLUTION = 53.1
FOOTPRINT_POINT_LATITUDE = (4.19277,4.19615,4.19865,4.20085, 4.20234,4.20314,4.09395,3.72632,3.17415 ,2.98496,2.70575,2.42073,2.23056, 2.04291,1.66012,1.46124,1.16475,0.97023 ,0.773028,0.575528,0.375957,0.17851, -0.0138402,-0.218816,-0.524311, -0.832719,-1.03729,-1.34673,-1.55361, -1.86219,-2.06837,-2.27362,-2.47937, -2.68391,-2.99066,-3.19504,-3.39865, -3.59998,-3.80301,-4.00693,-4.20974, -4.41217,-4.61389,-4.9159,-5.11745, -5.31816,-5.51718,-5.71668,-5.73125, -5.73597,-5.73936,-5.74098,-5.74525, -5.74891,-5.75803,-5.76245,-5.76417, -5.76907,-5.67302,-5.4723,-5.27117, -5.06977,-4.86831,-4.5667,-4.26222, -4.05728,-3.85362,-3.64948,-3.449, -3.24461,-3.03786,-2.83417,-2.62893, -2.31998,-2.00997,-1.80363,-1.49397, -1.18266,-0.873465,-0.668664,-0.466973, -0.261793,-0.0570197,0.142416,0.44107, 0.737339,1.03434,1.33011,1.52701,1.7163 ,1.90859,2.10293,2.30127,2.67259, 2.95506,3.14326,3.42532,3.61175,3.97793 ,4.19277)
FOOTPRINT_POINT_LONGITUDE = (87.2227,86.8757,86.571,86.2222,85.8723 ,85.5207,85.1898,85.1738,85.1531, 85.1441,85.1336,85.1203,85.1118,85.1049 ,85.0888,85.0761,85.0596,85.0506, 85.0411,85.0312,85.0207,85.0121,85.0065 ,84.9942,84.9767,84.9592,84.9481, 84.9315,84.9197,84.9027,84.8907,84.879, 84.8668,84.855,84.837,84.8247,84.8126, 84.8017,84.7895,84.7764,84.7638,84.7511 ,84.7386,84.7198,84.7068,84.694,84.6821 ,84.6695,84.9496,85.2865,85.5103, 85.7061,85.9569,86.1518,86.4854,86.708, 86.9299,87.29,87.5482,87.5461,87.544, 87.5419,87.5399,87.5374,87.5341,87.5315 ,87.5294,87.5273,87.5264,87.5244, 87.5218,87.5202,87.5182,87.5152,87.5121 ,87.5102,87.5076,87.5047,87.5019, 87.5002,87.4992,87.4968,87.4946,87.4932 ,87.4914,87.4894,87.487,87.4841,87.4823 ,87.482,87.4809,87.479,87.4756,87.4756, 87.4738,87.4727,87.47,87.4687,87.467, 87.2227)
ORBIT_NUMBER = 7421
ORBITAL_ECCENTRICITY = 0.572
ORBITAL_INCLINATION = 86.83
ORBITAL_SEMIMAJOR_AXIS = 8734.69
PERIAPSIS_ALTITUDE = 355.9
PERIAPSIS_ARGUMENT_ANGLE = 136.52
PERIAPSIS_TIME = 2009-10-15T22:17:36.000Z
SPACECRAFT_ORIENTATION = (0.0,-1.0,0.0)
^MEX_ORIENTATION_DESC = "MEX_ORIENTATION_DESC.TXT"
SPACECRAFT_POINTING_MODE = ACROSSTRACK
^MEX_POINTING_DESC = "MEX_POINTING_DESC.TXT"
RIGHT_ASCENSION = -1e+32
DECLINATION = -1e+32
OFFSET_ANGLE = -0.41
SPACECRAFT_SOLAR_DISTANCE = 2.31015e+08
TARGET_NAME = MARS
/* CAMERA DATA ELEMENTS */
DETECTOR_TEMPERATURE = 18.5744
FOCAL_PLANE_TEMPERATURE = 8.1755
INST_CMPRS_NAME = "DISCRETE COSINE TRANSFORMATION (DCT)"
INST_CMPRS_RATIO = 9.05295
INST_CMPRS_QUALITY = 0
INST_CMPRS_QUANTZ_TBL_ID = 0
INSTRUMENT_TEMPERATURE = 12.6613
LENS_TEMPERATURE = 8.7872
MACROPIXEL_SIZE = 2
MISSING_FRAMES = 0
PIXEL_SUBSAMPLING_FLAG = N
SIGNAL_CHAIN_ID = 3
/* RADIOMETRIC DATA ELEMENTS */
BANDWIDTH = 174.0
CENTER_FILTER_WAVELENGTH = 675.0
RADIANCE_OFFSET = 4.37199
RADIANCE_SCALING_FACTOR = 0.0189187
REFLECTANCE_SCALING_FACTOR = 0.000543078
MEX:REFLECTANCE_OFFSET = 0.125502
/* IMAGE OBJECT DEFINITIONS */
OBJECT = IMAGE
  INTERCHANGE_FORMAT = BINARY
  LINES = 11891
  LINE_SAMPLES = 3778
  SAMPLE_TYPE = UNSIGNED_INTEGER
  SAMPLE_BITS = 8
  BANDS = 1
  BAND_STORAGE_TYPE = BAND_SEQUENTIAL
  MAXIMUM = 255
  MEAN = 142.604
  MINIMUM = 1
  STANDARD_DEVIATION = 39.3286
END_OBJECT = IMAGE
/* MAP OBJECT DEFINITIONS */
OBJECT = IMAGE_MAP_PROJECTION
  ^DATA_SET_MAP_PROJECTION_CATALOG= "DSMAP.CAT"
  A_AXIS_RADIUS = 3396.0
  B_AXIS_RADIUS = 3396.0
  C_AXIS_RADIUS = 3396.0
  CENTER_LATITUDE = 0.0
  CENTER_LONGITUDE = 86.0
  COORDINATE_SYSTEM_NAME = PLANETOGRAPHIC
  COORDINATE_SYSTEM_TYPE = "BODY-FIXED ROTATING"
  EASTERNMOST_LONGITUDE = 87.54819999999999
  FIRST_STANDARD_PARALLEL = "N/A"
  LINE_FIRST_PIXEL = 1
  LINE_LAST_PIXEL = 11891
  LINE_PROJECTION_OFFSET = 5008.75
  MAP_PROJECTION_ROTATION = 0.0
  MAP_PROJECTION_TYPE = SINUSOIDAL
  MAP_RESOLUTION = 1185.42760773333
  MAP_SCALE = 0.05
  MAXIMUM_LATITUDE = 4.20314
  MINIMUM_LATITUDE = -5.76907
  POSITIVE_LONGITUDE_DIRECTION = EAST
  REFERENCE_LATITUDE = "N/A"
  REFERENCE_LONGITUDE = "N/A"
  SAMPLE_FIRST_PIXEL = 1
  SAMPLE_LAST_PIXEL = 3778
  SAMPLE_PROJECTION_OFFSET = 1769.75
  SECOND_STANDARD_PARALLEL = "N/A"
  WESTERNMOST_LONGITUDE = 84.6695
END_OBJECT = IMAGE_MAP_PROJECTION
/* The JPEG2000 image data file associated with this label. */
OBJECT = COMPRESSED_FILE
  FILE_NAME = "H7421_0001_P13.JP2"
  RECORD_TYPE = UNDEFINED
  FILE_RECORDS = UNK
  ENCODING_TYPE = "JP2"
  INTERCHANGE_FORMAT = BINARY
  UNCOMPRESSED_FILE_NAME = "H7421_0001_P13.IMG"
  REQUIRED_STORAGE_BYTES = "44946866"
  ^DESCRIPTION = "JP2INFO.TXT"
END_OBJECT = COMPRESSED_FILE
END
