PDS_VERSION_ID = PDS3
/* FILE DATA ELEMENTS */
RECORD_TYPE = STREAM
/* POINTERS TO DATA OBJECTS */
^COMPRESSED_FILE = "H7424_0000_P13.JP2"
/* IDENTIFICATION DATA ELEMENTS */
DATA_SET_ID = "MEX-M-HRSC-5-REFDR-MAPPROJECTED-V3.0"
DATA_SET_NAME = "MARS EXPRESS HRSC MAP PROJECTED REFDR V3.0"
DETECTOR_ID = MEX_HRSC_P1
EVENT_TYPE = "MARS-REGIONAL-MAPPING-Vo-Te-Fl"
INSTRUMENT_HOST_ID = MEX
INSTRUMENT_HOST_NAME = "MARS EXPRESS"
INSTRUMENT_ID = HRSC
INSTRUMENT_NAME = "HIGH RESOLUTION STEREO CAMERA"
MISSION_NAME = "MARS EXPRESS"
MISSION_PHASE_NAME = ME_Phase_18
PROCESSING_LEVEL_ID = 3
PRODUCT_CREATION_TIME = 2016-07-01T01:18:39.000Z
PRODUCT_ID = "H7424_0000_P13.JP2"
RELEASE_ID = 0082
REVISION_ID = 0000
/* QUALITY DATA ELEMENTS */
DATA_QUALITY_ID = 1
DATA_QUALITY_DESC = "Data calculated based on original SPICE kernels"
/* TIME DATA ELEMENTS */
SPACECRAFT_CLOCK_START_COUNT = "1/0203799634.09050"
SPACECRAFT_CLOCK_STOP_COUNT = "1/0203799972.21194"
START_TIME = 2009-10-16T19:00:47.982Z
STOP_TIME = 2009-10-16T19:04:52.990Z
/* ORBITAL DATA ELEMENTS */
ASCENDING_NODE_LONGITUDE = 75.75
MAXIMUM_RESOLUTION = 30.4
FOOTPRINT_POINT_LATITUDE = (35.0934,35.0692,35.0419,35.0269, 34.8212,34.5143,34.2074,33.9008,33.5944 ,33.2876,32.9813,32.6752,32.3696, 31.9119,31.6065,31.1491,30.6916,30.3867 ,30.0816,29.7765,29.472,29.167,28.8617, 28.5563,28.2517,27.9473,27.6432,27.3356 ,27.0301,26.7295,26.4251,26.1185,25.806 ,25.4938,25.0255,24.7137,24.3941, 23.9147,23.4357,23.1111,22.7842,22.4575 ,22.1312,21.6322,21.2984,20.9652, 20.4563,20.1153,19.7745,19.4276,19.2622 ,19.2725,19.2866,19.2954,19.3024, 19.4835,19.8312,20.3431,20.6847,21.0238 ,21.358,21.6924,22.1921,22.5192,22.8465 ,23.1742,23.4994,23.8195,24.14,24.4613, 24.7813,25.0941,25.5632,25.8763,26.3443 ,26.8018,27.1067,27.5639,27.8697, 28.1749,28.4805,28.9388,29.3969,29.7022 ,30.1604,30.466,30.9242,31.2303,31.5354 ,31.8418,32.1475,32.4533,32.7598, 33.0659,33.3723,33.6798,34.141,34.6025, 34.9101,35.0934)
FOOTPRINT_POINT_LONGITUDE = (143.698,143.216,142.725,142.475, 142.308,142.32,142.331,142.342,142.353, 142.363,142.374,142.384,142.395,142.41, 142.42,142.435,142.448,142.457,142.465, 142.472,142.48,142.486,142.492,142.498, 142.503,142.509,142.515,142.515,142.518 ,142.526,142.53,142.533,142.535,142.538 ,142.54,142.542,142.543,142.544,142.545 ,142.544,142.544,142.544,142.543, 142.541,142.539,142.538,142.534,142.531 ,142.528,142.525,142.729,143.02,143.442 ,143.742,144.006,144.256,144.251, 144.244,144.239,144.234,144.229,144.224 ,144.216,144.211,144.206,144.201, 144.196,144.19,144.185,144.179,144.174, 144.168,144.16,144.154,144.145,144.136, 144.13,144.12,144.114,144.108,144.101, 144.091,144.08,144.073,144.062,144.054, 144.043,144.035,144.027,144.018,144.01, 144.002,143.993,143.984,143.976,143.967 ,143.953,143.94,143.93,143.698)
ORBIT_NUMBER = 7424
ORBITAL_ECCENTRICITY = 0.571
ORBITAL_INCLINATION = 86.81
ORBITAL_SEMIMAJOR_AXIS = 8729.1
PERIAPSIS_ALTITUDE = 357.6
PERIAPSIS_ARGUMENT_ANGLE = 136.02
PERIAPSIS_TIME = 2009-10-16T18:58:53.000Z
SPACECRAFT_ORIENTATION = (0.0,-1.0,0.0)
^MEX_ORIENTATION_DESC = "MEX_ORIENTATION_DESC.TXT"
SPACECRAFT_POINTING_MODE = ACROSSTRACK
^MEX_POINTING_DESC = "MEX_POINTING_DESC.TXT"
RIGHT_ASCENSION = -1e+32
DECLINATION = -1e+32
OFFSET_ANGLE = -0.9
SPACECRAFT_SOLAR_DISTANCE = 2.31179e+08
TARGET_NAME = MARS
/* CAMERA DATA ELEMENTS */
DETECTOR_TEMPERATURE = 17.351
FOCAL_PLANE_TEMPERATURE = 8.5833
INST_CMPRS_NAME = "DISCRETE COSINE TRANSFORMATION (DCT)"
INST_CMPRS_RATIO = 11.1888
INST_CMPRS_QUALITY = 0
INST_CMPRS_QUANTZ_TBL_ID = 0
INSTRUMENT_TEMPERATURE = 11.234
LENS_TEMPERATURE = 8.7872
MACROPIXEL_SIZE = 2
MISSING_FRAMES = 0
PIXEL_SUBSAMPLING_FLAG = N
SIGNAL_CHAIN_ID = 3
/* RADIOMETRIC DATA ELEMENTS */
BANDWIDTH = 174.0
CENTER_FILTER_WAVELENGTH = 675.0
RADIANCE_OFFSET = 3.86396
RADIANCE_SCALING_FACTOR = 0.0324703
REFLECTANCE_SCALING_FACTOR = 0.000933402
MEX:REFLECTANCE_OFFSET = 0.111075
/* IMAGE OBJECT DEFINITIONS */
OBJECT = IMAGE
  INTERCHANGE_FORMAT = BINARY
  LINES = 37371
  LINE_SAMPLES = 4392
  SAMPLE_TYPE = UNSIGNED_INTEGER
  SAMPLE_BITS = 8
  BANDS = 1
  BAND_STORAGE_TYPE = BAND_SEQUENTIAL
  MAXIMUM = 255
  MEAN = 139.627
  MINIMUM = 1
  STANDARD_DEVIATION = 24.6343
END_OBJECT = IMAGE
/* MAP OBJECT DEFINITIONS */
OBJECT = IMAGE_MAP_PROJECTION
  ^DATA_SET_MAP_PROJECTION_CATALOG= "DSMAP.CAT"
  A_AXIS_RADIUS = 3396.0
  B_AXIS_RADIUS = 3396.0
  C_AXIS_RADIUS = 3396.0
  CENTER_LATITUDE = 0.0
  CENTER_LONGITUDE = 143.0
  COORDINATE_SYSTEM_NAME = PLANETOGRAPHIC
  COORDINATE_SYSTEM_TYPE = "BODY-FIXED ROTATING"
  EASTERNMOST_LONGITUDE = 144.256
  FIRST_STANDARD_PARALLEL = "N/A"
  LINE_FIRST_PIXEL = 1
  LINE_LAST_PIXEL = 37371
  LINE_PROJECTION_OFFSET = 83086.25
  MAP_PROJECTION_ROTATION = 0.0
  MAP_PROJECTION_TYPE = SINUSOIDAL
  MAP_RESOLUTION = 2370.85521546667
  MAP_SCALE = 0.025
  MAXIMUM_LATITUDE = 35.0934
  MINIMUM_LATITUDE = 19.2622
  POSITIVE_LONGITUDE_DIRECTION = EAST
  REFERENCE_LATITUDE = "N/A"
  REFERENCE_LONGITUDE = "N/A"
  SAMPLE_FIRST_PIXEL = 1
  SAMPLE_LAST_PIXEL = 4392
  SAMPLE_PROJECTION_OFFSET = 1504.25
  SECOND_STANDARD_PARALLEL = "N/A"
  WESTERNMOST_LONGITUDE = 142.308
END_OBJECT = IMAGE_MAP_PROJECTION
/* The JPEG2000 image data file associated with this label. */
OBJECT = COMPRESSED_FILE
  FILE_NAME = "H7424_0000_P13.JP2"
  RECORD_TYPE = UNDEFINED
  FILE_RECORDS = UNK
  ENCODING_TYPE = "JP2"
  INTERCHANGE_FORMAT = BINARY
  UNCOMPRESSED_FILE_NAME = "H7424_0000_P13.IMG"
  REQUIRED_STORAGE_BYTES = "164159784"
  ^DESCRIPTION = "JP2INFO.TXT"
END_OBJECT = COMPRESSED_FILE
END
