PDS_VERSION_ID = PDS3
/* FILE DATA ELEMENTS */
RECORD_TYPE = STREAM
/* POINTERS TO DATA OBJECTS */
^COMPRESSED_FILE = "H7425_0000_ND3.JP2"
/* IDENTIFICATION DATA ELEMENTS */
DATA_SET_ID = "MEX-M-HRSC-5-REFDR-MAPPROJECTED-V3.0"
DATA_SET_NAME = "MARS EXPRESS HRSC MAP PROJECTED REFDR V3.0"
DETECTOR_ID = MEX_HRSC_NADIR
EVENT_TYPE = "MARS-REGIONAL-MAPPING-Im-Fl-Pf"
INSTRUMENT_HOST_ID = MEX
INSTRUMENT_HOST_NAME = "MARS EXPRESS"
INSTRUMENT_ID = HRSC
INSTRUMENT_NAME = "HIGH RESOLUTION STEREO CAMERA"
MISSION_NAME = "MARS EXPRESS"
MISSION_PHASE_NAME = ME_Phase_18
PROCESSING_LEVEL_ID = 3
PRODUCT_CREATION_TIME = 2016-07-01T01:18:39.000Z
PRODUCT_ID = "H7425_0000_ND3.JP2"
RELEASE_ID = 0082
REVISION_ID = 0000
/* QUALITY DATA ELEMENTS */
DATA_QUALITY_ID = 1
DATA_QUALITY_DESC = "Data calculated based on original SPICE kernels"
/* TIME DATA ELEMENTS */
SPACECRAFT_CLOCK_START_COUNT = "1/0203824530.09042"
SPACECRAFT_CLOCK_STOP_COUNT = "1/0203824900.34448"
START_TIME = 2009-10-17T01:56:07.601Z
STOP_TIME = 2009-10-17T02:00:40.596Z
/* ORBITAL DATA ELEMENTS */
ASCENDING_NODE_LONGITUDE = 75.73
MAXIMUM_RESOLUTION = 15.6
FOOTPRINT_POINT_LATITUDE = (30.5388,30.5345,30.5282,30.5227, 30.0551,29.7438,29.4328,28.8117,28.1919 ,27.5734,27.1003,26.7838,26.4677,26.152 ,25.8308,25.5077,25.1849,24.8626, 24.5353,24.2057,23.8766,23.5477,23.2113 ,22.8755,22.5402,22.2002,21.8579, 21.5161,21.1704,20.8217,20.4737,20.1212 ,19.7664,19.4124,19.059,18.7063,18.3544 ,18.0031,17.6525,17.3027,16.9536, 16.6053,16.2577,15.9109,15.5648,15.2195 ,14.875,14.5313,14.1884,13.8462,13.8418 ,13.8357,13.828,14.171,14.5148,14.8593, 15.2047,15.5508,15.8977,16.2453,16.5937 ,16.9428,17.2927,17.6433,17.9946, 18.3466,18.6994,19.0529,19.407,19.7618, 20.1173,20.4706,20.8194,21.1688,21.5152 ,21.8577,22.2007,22.5414,22.8774, 23.2139,23.5509,23.8804,24.2102,24.5405 ,24.8685,25.1914,25.5148,25.8386, 26.1605,26.4768,26.7934,27.1105,27.5845 ,28.2041,28.8251,29.136,29.4473,29.7589 ,30.0708,30.5388)
FOOTPRINT_POINT_LONGITUDE = (43.6002,43.1068,42.6093,42.2377, 42.2447,42.2482,42.2511,42.2563,42.2604 ,42.264,42.2653,42.2666,42.2676,42.2678 ,42.2677,42.2678,42.268,42.267,42.2671, 42.266,42.2622,42.2622,42.2615,42.2593, 42.2568,42.2538,42.2504,42.2472,42.244, 42.2395,42.2348,42.2302,42.2243,42.2189 ,42.2124,42.2051,42.199,42.1924,42.1855 ,42.1788,42.1716,42.1645,42.1569, 42.1491,42.141,42.1326,42.123,42.1146, 42.1046,42.0952,42.5838,43.34,44.0615, 44.0578,44.0542,44.0503,44.0467,44.043, 44.0392,44.0354,44.0315,44.0272,44.0235 ,44.0196,44.015,44.0109,44.0072,44.0027 ,43.9982,43.9939,43.9896,43.9854, 43.9812,43.9766,43.9724,43.9681,43.9638 ,43.9594,43.9552,43.9509,43.9464, 43.9421,43.9373,43.933,43.9284,43.9238, 43.9191,43.9143,43.9101,43.9056,43.8995 ,43.8946,43.8868,43.8764,43.8659, 43.8605,43.855,43.8493,43.8436,43.6002)
ORBIT_NUMBER = 7425
ORBITAL_ECCENTRICITY = 0.571
ORBITAL_INCLINATION = 86.82
ORBITAL_SEMIMAJOR_AXIS = 8731.62
PERIAPSIS_ALTITUDE = 357.22
PERIAPSIS_ARGUMENT_ANGLE = 135.85
PERIAPSIS_TIME = 2009-10-17T01:52:37.000Z
SPACECRAFT_ORIENTATION = (0.0,-1.0,0.0)
^MEX_ORIENTATION_DESC = "MEX_ORIENTATION_DESC.TXT"
SPACECRAFT_POINTING_MODE = ACROSSTRACK
^MEX_POINTING_DESC = "MEX_POINTING_DESC.TXT"
RIGHT_ASCENSION = -1e+32
DECLINATION = -1e+32
OFFSET_ANGLE = -0.38
SPACECRAFT_SOLAR_DISTANCE = 2.31233e+08
TARGET_NAME = MARS
/* CAMERA DATA ELEMENTS */
DETECTOR_TEMPERATURE = 18.3705
FOCAL_PLANE_TEMPERATURE = 8.3794
INST_CMPRS_NAME = "DISCRETE COSINE TRANSFORMATION (DCT)"
INST_CMPRS_RATIO = 7.76206
INST_CMPRS_QUALITY = 0
INST_CMPRS_QUANTZ_TBL_ID = 0
INSTRUMENT_TEMPERATURE = 11.234
LENS_TEMPERATURE = 8.5833
MACROPIXEL_SIZE = 1
MISSING_FRAMES = 0
PIXEL_SUBSAMPLING_FLAG = N
SIGNAL_CHAIN_ID = 0
/* RADIOMETRIC DATA ELEMENTS */
BANDWIDTH = 177.0
CENTER_FILTER_WAVELENGTH = 677.5
RADIANCE_OFFSET = 5.88565
RADIANCE_SCALING_FACTOR = 0.0182218
REFLECTANCE_SCALING_FACTOR = 0.000517579
MEX:REFLECTANCE_OFFSET = 0.167178
/* IMAGE OBJECT DEFINITIONS */
OBJECT = IMAGE
  INTERCHANGE_FORMAT = BINARY
  LINES = 79246
  LINE_SAMPLES = 9416
  SAMPLE_TYPE = UNSIGNED_INTEGER
  SAMPLE_BITS = 8
  BANDS = 1
  BAND_STORAGE_TYPE = BAND_SEQUENTIAL
  MAXIMUM = 255
  MEAN = 150.704
  MINIMUM = 1
  STANDARD_DEVIATION = 30.2475
END_OBJECT = IMAGE
/* MAP OBJECT DEFINITIONS */
OBJECT = IMAGE_MAP_PROJECTION
  ^DATA_SET_MAP_PROJECTION_CATALOG= "DSMAP.CAT"
  A_AXIS_RADIUS = 3396.0
  B_AXIS_RADIUS = 3396.0
  C_AXIS_RADIUS = 3396.0
  CENTER_LATITUDE = 0.0
  CENTER_LONGITUDE = 43.0
  COORDINATE_SYSTEM_NAME = PLANETOGRAPHIC
  COORDINATE_SYSTEM_TYPE = "BODY-FIXED ROTATING"
  EASTERNMOST_LONGITUDE = 44.0615
  FIRST_STANDARD_PARALLEL = "N/A"
  LINE_FIRST_PIXEL = 1
  LINE_LAST_PIXEL = 79246
  LINE_PROJECTION_OFFSET = 144812.0
  MAP_PROJECTION_ROTATION = 0.0
  MAP_PROJECTION_TYPE = SINUSOIDAL
  MAP_RESOLUTION = 4741.71043093333
  MAP_SCALE = 0.0125
  MAXIMUM_LATITUDE = 30.5388
  MINIMUM_LATITUDE = 13.828
  POSITIVE_LONGITUDE_DIRECTION = EAST
  REFERENCE_LATITUDE = "N/A"
  REFERENCE_LONGITUDE = "N/A"
  SAMPLE_FIRST_PIXEL = 1
  SAMPLE_LAST_PIXEL = 9416
  SAMPLE_PROJECTION_OFFSET = 4417.0
  SECOND_STANDARD_PARALLEL = "N/A"
  WESTERNMOST_LONGITUDE = 42.0952
END_OBJECT = IMAGE_MAP_PROJECTION
/* The JPEG2000 image data file associated with this label. */
OBJECT = COMPRESSED_FILE
  FILE_NAME = "H7425_0000_ND3.JP2"
  RECORD_TYPE = UNDEFINED
  FILE_RECORDS = UNK
  ENCODING_TYPE = "JP2"
  INTERCHANGE_FORMAT = BINARY
  UNCOMPRESSED_FILE_NAME = "H7425_0000_ND3.IMG"
  REQUIRED_STORAGE_BYTES = "746208584"
  ^DESCRIPTION = "JP2INFO.TXT"
END_OBJECT = COMPRESSED_FILE
END
