PDS_VERSION_ID = PDS3
/* FILE DATA ELEMENTS */
RECORD_TYPE = STREAM
/* POINTERS TO DATA OBJECTS */
^COMPRESSED_FILE = "H7425_0000_S13.JP2"
/* IDENTIFICATION DATA ELEMENTS */
DATA_SET_ID = "MEX-M-HRSC-5-REFDR-MAPPROJECTED-V3.0"
DATA_SET_NAME = "MARS EXPRESS HRSC MAP PROJECTED REFDR V3.0"
DETECTOR_ID = MEX_HRSC_S1
EVENT_TYPE = "MARS-REGIONAL-MAPPING-Im-Fl-Pf"
INSTRUMENT_HOST_ID = MEX
INSTRUMENT_HOST_NAME = "MARS EXPRESS"
INSTRUMENT_ID = HRSC
INSTRUMENT_NAME = "HIGH RESOLUTION STEREO CAMERA"
MISSION_NAME = "MARS EXPRESS"
MISSION_PHASE_NAME = ME_Phase_18
PROCESSING_LEVEL_ID = 3
PRODUCT_CREATION_TIME = 2016-07-01T01:18:39.000Z
PRODUCT_ID = "H7425_0000_S13.JP2"
RELEASE_ID = 0082
REVISION_ID = 0000
/* QUALITY DATA ELEMENTS */
DATA_QUALITY_ID = 1
DATA_QUALITY_DESC = "Data calculated based on original SPICE kernels"
/* TIME DATA ELEMENTS */
SPACECRAFT_CLOCK_START_COUNT = "1/0203824530.09042"
SPACECRAFT_CLOCK_STOP_COUNT = "1/0203824900.34448"
START_TIME = 2009-10-17T01:55:32.646Z
STOP_TIME = 2009-10-17T01:59:50.351Z
/* ORBITAL DATA ELEMENTS */
ASCENDING_NODE_LONGITUDE = 75.73
MAXIMUM_RESOLUTION = 32.3
FOOTPRINT_POINT_LATITUDE = (30.5921,30.5787,30.5625,30.5533, 30.5084,30.0436,29.7321,29.4192,29.1072 ,28.6386,28.3269,27.8599,27.5485, 27.2365,26.9251,26.6148,26.3035,25.9914 ,25.6816,25.2162,24.7411,24.2641, 23.9412,23.6287,23.303,22.9769,22.488, 21.9924,21.6584,21.3258,20.992,20.6498, 20.1368,19.6145,19.0888,18.7372,18.2038 ,17.8475,17.4891,17.1255,16.7615, 16.3993,16.0361,15.493,14.9485,14.4072, 14.0454,13.8256,13.8302,13.8354,13.8397 ,13.8423,13.8437,13.8464,14.208,14.5698 ,14.9325,15.2939,15.6565,16.0204, 16.5665,16.9324,17.2962,17.839,18.1992, 18.5554,18.9085,19.2597,19.6099,20.129, 20.6457,21.1575,21.4913,21.8256,22.1599 ,22.4888,22.8145,23.304,23.6304,23.949, 24.2687,24.5857,24.905,25.3773,25.6883, 26.1521,26.4608,26.78,27.0911,27.4032, 27.7159,28.0289,28.3405,28.6526,28.965, 29.2768,29.5902,30.0595,30.3718, 30.5921)
FOOTPRINT_POINT_LONGITUDE = (43.6934,43.2226,42.7478,42.5086,42.26, 42.2682,42.2724,42.2756,42.279,42.2832, 42.286,42.2899,42.2921,42.2938,42.2954, 42.2973,42.2984,42.2988,42.3,42.301, 42.301,42.301,42.2983,42.3003,42.2993, 42.2981,42.2958,42.2924,42.29,42.288, 42.285,42.2814,42.2756,42.2686,42.2609, 42.2548,42.2469,42.2413,42.2354,42.2293 ,42.2225,42.2162,42.2089,42.1981, 42.1856,42.1736,42.1646,42.3027,42.519, 42.8239,43.1984,43.4829,43.7664,44.0023 ,43.9995,43.9968,43.994,43.9913,43.9886 ,43.9856,43.9811,43.9778,43.9749, 43.9702,43.9666,43.9636,43.9604,43.9569 ,43.9536,43.9485,43.9437,43.9383, 43.9351,43.9317,43.9282,43.9248,43.9214 ,43.9161,43.9126,43.9089,43.9051, 43.9016,43.8978,43.8919,43.888,43.8825, 43.8788,43.8734,43.8692,43.8648,43.8602 ,43.8555,43.851,43.8463,43.8415,43.8367 ,43.8316,43.8238,43.8187,43.6934)
ORBIT_NUMBER = 7425
ORBITAL_ECCENTRICITY = 0.571
ORBITAL_INCLINATION = 86.82
ORBITAL_SEMIMAJOR_AXIS = 8731.62
PERIAPSIS_ALTITUDE = 357.22
PERIAPSIS_ARGUMENT_ANGLE = 135.85
PERIAPSIS_TIME = 2009-10-17T01:52:37.000Z
SPACECRAFT_ORIENTATION = (0.0,-1.0,0.0)
^MEX_ORIENTATION_DESC = "MEX_ORIENTATION_DESC.TXT"
SPACECRAFT_POINTING_MODE = ACROSSTRACK
^MEX_POINTING_DESC = "MEX_POINTING_DESC.TXT"
RIGHT_ASCENSION = -1e+32
DECLINATION = -1e+32
OFFSET_ANGLE = -0.38
SPACECRAFT_SOLAR_DISTANCE = 2.31233e+08
TARGET_NAME = MARS
/* CAMERA DATA ELEMENTS */
DETECTOR_TEMPERATURE = 17.1471
FOCAL_PLANE_TEMPERATURE = 8.3794
INST_CMPRS_NAME = "DISCRETE COSINE TRANSFORMATION (DCT)"
INST_CMPRS_RATIO = 13.4259
INST_CMPRS_QUALITY = 0
INST_CMPRS_QUANTZ_TBL_ID = 0
INSTRUMENT_TEMPERATURE = 11.234
LENS_TEMPERATURE = 8.5833
MACROPIXEL_SIZE = 2
MISSING_FRAMES = 1
PIXEL_SUBSAMPLING_FLAG = N
SIGNAL_CHAIN_ID = 1
/* RADIOMETRIC DATA ELEMENTS */
BANDWIDTH = 180.0
CENTER_FILTER_WAVELENGTH = 677.0
RADIANCE_OFFSET = 6.69338
RADIANCE_SCALING_FACTOR = 0.0181152
REFLECTANCE_SCALING_FACTOR = 0.000505344
MEX:REFLECTANCE_OFFSET = 0.186719
/* IMAGE OBJECT DEFINITIONS */
OBJECT = IMAGE
  INTERCHANGE_FORMAT = BINARY
  LINES = 39623
  LINE_SAMPLES = 4708
  SAMPLE_TYPE = UNSIGNED_INTEGER
  SAMPLE_BITS = 8
  BANDS = 1
  BAND_STORAGE_TYPE = BAND_SEQUENTIAL
  MAXIMUM = 255
  MEAN = 152.758
  MINIMUM = 1
  STANDARD_DEVIATION = 29.8047
END_OBJECT = IMAGE
/* MAP OBJECT DEFINITIONS */
OBJECT = IMAGE_MAP_PROJECTION
  ^DATA_SET_MAP_PROJECTION_CATALOG= "DSMAP.CAT"
  A_AXIS_RADIUS = 3396.0
  B_AXIS_RADIUS = 3396.0
  C_AXIS_RADIUS = 3396.0
  CENTER_LATITUDE = 0.0
  CENTER_LONGITUDE = 43.0
  COORDINATE_SYSTEM_NAME = PLANETOGRAPHIC
  COORDINATE_SYSTEM_TYPE = "BODY-FIXED ROTATING"
  EASTERNMOST_LONGITUDE = 44.0023
  FIRST_STANDARD_PARALLEL = "N/A"
  LINE_FIRST_PIXEL = 1
  LINE_LAST_PIXEL = 39623
  LINE_PROJECTION_OFFSET = 72405.75
  MAP_PROJECTION_ROTATION = 0.0
  MAP_PROJECTION_TYPE = SINUSOIDAL
  MAP_RESOLUTION = 2370.85521546667
  MAP_SCALE = 0.025
  MAXIMUM_LATITUDE = 30.5921
  MINIMUM_LATITUDE = 13.8256
  POSITIVE_LONGITUDE_DIRECTION = EAST
  REFERENCE_LATITUDE = "N/A"
  REFERENCE_LONGITUDE = "N/A"
  SAMPLE_FIRST_PIXEL = 1
  SAMPLE_LAST_PIXEL = 4708
  SAMPLE_PROJECTION_OFFSET = 2208.25
  SECOND_STANDARD_PARALLEL = "N/A"
  WESTERNMOST_LONGITUDE = 42.1646
END_OBJECT = IMAGE_MAP_PROJECTION
/* The JPEG2000 image data file associated with this label. */
OBJECT = COMPRESSED_FILE
  FILE_NAME = "H7425_0000_S13.JP2"
  RECORD_TYPE = UNDEFINED
  FILE_RECORDS = UNK
  ENCODING_TYPE = "JP2"
  INTERCHANGE_FORMAT = BINARY
  UNCOMPRESSED_FILE_NAME = "H7425_0000_S13.IMG"
  REQUIRED_STORAGE_BYTES = "186568624"
  ^DESCRIPTION = "JP2INFO.TXT"
END_OBJECT = COMPRESSED_FILE
END
