PDS_VERSION_ID = PDS3
/* FILE DATA ELEMENTS */
RECORD_TYPE = STREAM
/* POINTERS TO DATA OBJECTS */
^COMPRESSED_FILE = "H7428_0000_ND3.JP2"
/* IDENTIFICATION DATA ELEMENTS */
DATA_SET_ID = "MEX-M-HRSC-5-REFDR-MAPPROJECTED-V3.0"
DATA_SET_NAME = "MARS EXPRESS HRSC MAP PROJECTED REFDR V3.0"
DETECTOR_ID = MEX_HRSC_NADIR
EVENT_TYPE = "MARS-REGIONAL-MAPPING-Vo-Gl-Pf"
INSTRUMENT_HOST_ID = MEX
INSTRUMENT_HOST_NAME = "MARS EXPRESS"
INSTRUMENT_ID = HRSC
INSTRUMENT_NAME = "HIGH RESOLUTION STEREO CAMERA"
MISSION_NAME = "MARS EXPRESS"
MISSION_PHASE_NAME = ME_Phase_18
PROCESSING_LEVEL_ID = 3
PRODUCT_CREATION_TIME = 2016-07-01T01:18:39.000Z
PRODUCT_ID = "H7428_0000_ND3.JP2"
RELEASE_ID = 0082
REVISION_ID = 0000
/* QUALITY DATA ELEMENTS */
DATA_QUALITY_ID = 1
DATA_QUALITY_DESC = "Data calculated based on original SPICE kernels"
/* TIME DATA ELEMENTS */
SPACECRAFT_CLOCK_START_COUNT = "1/0203898901.07280"
SPACECRAFT_CLOCK_STOP_COUNT = "1/0203899193.54385"
START_TIME = 2009-10-17T22:35:36.325Z
STOP_TIME = 2009-10-17T22:39:10.331Z
/* ORBITAL DATA ELEMENTS */
ASCENDING_NODE_LONGITUDE = 75.67
MAXIMUM_RESOLUTION = 14.7
FOOTPRINT_POINT_LATITUDE = (37.9894,37.9832,37.9763,37.9691, 37.4938,37.0264,36.5592,36.0925,35.6871 ,35.409,35.131,34.8532,34.5755,34.298, 34.0207,33.7436,33.4666,33.1898,32.9132 ,32.6369,32.3607,32.0847,31.8089, 31.5334,31.258,30.9829,30.708,30.4334, 30.159,29.8848,29.6109,29.3372,29.0638, 28.7906,28.5177,28.245,27.9727,27.6947, 27.4156,27.1367,26.8582,26.5799,26.1546 ,25.8699,25.5855,25.3014,25.0135, 24.7229,24.4327,24.425,24.4269,24.4274, 24.4274,24.5723,24.8633,25.2976,25.5822 ,25.8671,26.1524,26.5787,26.8575, 27.1366,27.4159,27.6956,27.9743,28.2471 ,28.5203,28.7937,29.0673,29.3413, 29.6154,29.8899,30.1646,30.4395,30.7146 ,30.99,31.2656,31.5415,31.8176,32.0938, 32.3703,32.647,32.9239,33.201,33.4783, 33.7558,34.0335,34.3113,34.5894,34.8676 ,35.1459,35.4244,35.7031,36.1108, 36.5786,37.0466,37.2808,37.5151,37.7494 ,37.9894)
FOOTPRINT_POINT_LONGITUDE = (101.241,100.807,100.417,100.074, 99.7328,99.7482,99.7629,99.7772,99.788, 99.7956,99.8027,99.8095,99.8161,99.8224 ,99.8284,99.8343,99.8398,99.8452, 99.8502,99.8549,99.8594,99.8638,99.868, 99.8716,99.8751,99.8784,99.8816,99.8845 ,99.8872,99.8896,99.8918,99.894,99.8957 ,99.8973,99.8986,99.8999,99.9008, 99.9016,99.9022,99.9027,99.9027,99.9028 ,99.9023,99.9018,99.901,99.9002,99.899, 99.8973,99.8957,100.248,100.699,100.983 ,101.249,101.588,101.584,101.578, 101.575,101.571,101.567,101.561,101.557 ,101.554,101.55,101.546,101.542,101.538 ,101.534,101.53,101.525,101.521,101.517 ,101.513,101.508,101.504,101.499, 101.494,101.49,101.485,101.48,101.475, 101.47,101.465,101.46,101.455,101.45, 101.444,101.439,101.434,101.428,101.422 ,101.416,101.41,101.404,101.396,101.385 ,101.375,101.369,101.363,101.358, 101.241)
ORBIT_NUMBER = 7428
ORBITAL_ECCENTRICITY = 0.571
ORBITAL_INCLINATION = 86.82
ORBITAL_SEMIMAJOR_AXIS = 8733.35
PERIAPSIS_ALTITUDE = 356.82
PERIAPSIS_ARGUMENT_ANGLE = 135.3
PERIAPSIS_TIME = 2009-10-17T22:33:53.000Z
SPACECRAFT_ORIENTATION = (0.0,-1.0,0.0)
^MEX_ORIENTATION_DESC = "MEX_ORIENTATION_DESC.TXT"
SPACECRAFT_POINTING_MODE = ACROSSTRACK
^MEX_POINTING_DESC = "MEX_POINTING_DESC.TXT"
RIGHT_ASCENSION = -1e+32
DECLINATION = -1e+32
OFFSET_ANGLE = -0.2
SPACECRAFT_SOLAR_DISTANCE = 2.31397e+08
TARGET_NAME = MARS
/* CAMERA DATA ELEMENTS */
DETECTOR_TEMPERATURE = 18.1666
FOCAL_PLANE_TEMPERATURE = 8.1755
INST_CMPRS_NAME = "DISCRETE COSINE TRANSFORMATION (DCT)"
INST_CMPRS_RATIO = 7.46981
INST_CMPRS_QUALITY = 0
INST_CMPRS_QUANTZ_TBL_ID = 0
INSTRUMENT_TEMPERATURE = 11.234
LENS_TEMPERATURE = 8.9911
MACROPIXEL_SIZE = 1
MISSING_FRAMES = 0
PIXEL_SUBSAMPLING_FLAG = N
SIGNAL_CHAIN_ID = 0
/* RADIOMETRIC DATA ELEMENTS */
BANDWIDTH = 177.0
CENTER_FILTER_WAVELENGTH = 677.5
RADIANCE_OFFSET = 4.57568
RADIANCE_SCALING_FACTOR = 0.0162824
REFLECTANCE_SCALING_FACTOR = 0.000463144
MEX:REFLECTANCE_OFFSET = 0.130153
/* IMAGE OBJECT DEFINITIONS */
OBJECT = IMAGE
  INTERCHANGE_FORMAT = BINARY
  LINES = 64351
  LINE_SAMPLES = 7573
  SAMPLE_TYPE = UNSIGNED_INTEGER
  SAMPLE_BITS = 8
  BANDS = 1
  BAND_STORAGE_TYPE = BAND_SEQUENTIAL
  MAXIMUM = 255
  MEAN = 140.863
  MINIMUM = 1
  STANDARD_DEVIATION = 17.1578
END_OBJECT = IMAGE
/* MAP OBJECT DEFINITIONS */
OBJECT = IMAGE_MAP_PROJECTION
  ^DATA_SET_MAP_PROJECTION_CATALOG= "DSMAP.CAT"
  A_AXIS_RADIUS = 3396.0
  B_AXIS_RADIUS = 3396.0
  C_AXIS_RADIUS = 3396.0
  CENTER_LATITUDE = 0.0
  CENTER_LONGITUDE = 101.0
  COORDINATE_SYSTEM_NAME = PLANETOGRAPHIC
  COORDINATE_SYSTEM_TYPE = "BODY-FIXED ROTATING"
  EASTERNMOST_LONGITUDE = 101.588
  FIRST_STANDARD_PARALLEL = "N/A"
  LINE_FIRST_PIXEL = 1
  LINE_LAST_PIXEL = 64351
  LINE_PROJECTION_OFFSET = 180153.0
  MAP_PROJECTION_ROTATION = 0.0
  MAP_PROJECTION_TYPE = SINUSOIDAL
  MAP_RESOLUTION = 4741.71043093333
  MAP_SCALE = 0.0125
  MAXIMUM_LATITUDE = 37.9894
  MINIMUM_LATITUDE = 24.425
  POSITIVE_LONGITUDE_DIRECTION = EAST
  REFERENCE_LATITUDE = "N/A"
  REFERENCE_LONGITUDE = "N/A"
  SAMPLE_FIRST_PIXEL = 1
  SAMPLE_LAST_PIXEL = 7573
  SAMPLE_PROJECTION_OFFSET = 4932.0
  SECOND_STANDARD_PARALLEL = "N/A"
  WESTERNMOST_LONGITUDE = 99.7328
END_OBJECT = IMAGE_MAP_PROJECTION
/* The JPEG2000 image data file associated with this label. */
OBJECT = COMPRESSED_FILE
  FILE_NAME = "H7428_0000_ND3.JP2"
  RECORD_TYPE = UNDEFINED
  FILE_RECORDS = UNK
  ENCODING_TYPE = "JP2"
  INTERCHANGE_FORMAT = BINARY
  UNCOMPRESSED_FILE_NAME = "H7428_0000_ND3.IMG"
  REQUIRED_STORAGE_BYTES = "487360415"
  ^DESCRIPTION = "JP2INFO.TXT"
END_OBJECT = COMPRESSED_FILE
END
