PDS_VERSION_ID = PDS3
/* FILE DATA ELEMENTS */
RECORD_TYPE = STREAM
/* POINTERS TO DATA OBJECTS */
^COMPRESSED_FILE = "H7432_0000_BL3.JP2"
/* IDENTIFICATION DATA ELEMENTS */
DATA_SET_ID = "MEX-M-HRSC-5-REFDR-MAPPROJECTED-V3.0"
DATA_SET_NAME = "MARS EXPRESS HRSC MAP PROJECTED REFDR V3.0"
DETECTOR_ID = MEX_HRSC_BLUE
EVENT_TYPE = "MARS-REGIONAL-MAPPING-Te-Fl-Gl"
INSTRUMENT_HOST_ID = MEX
INSTRUMENT_HOST_NAME = "MARS EXPRESS"
INSTRUMENT_ID = HRSC
INSTRUMENT_NAME = "HIGH RESOLUTION STEREO CAMERA"
MISSION_NAME = "MARS EXPRESS"
MISSION_PHASE_NAME = ME_Phase_18
PROCESSING_LEVEL_ID = 3
PRODUCT_CREATION_TIME = 2016-07-01T01:18:39.000Z
PRODUCT_ID = "H7432_0000_BL3.JP2"
RELEASE_ID = 0082
REVISION_ID = 0000
/* QUALITY DATA ELEMENTS */
DATA_QUALITY_ID = 1
DATA_QUALITY_DESC = "Data calculated based on original SPICE kernels"
/* TIME DATA ELEMENTS */
SPACECRAFT_CLOCK_START_COUNT = "1/0203998197.07288"
SPACECRAFT_CLOCK_STOP_COUNT = "1/0203998580.32823"
START_TIME = 2009-10-19T02:10:37.622Z
STOP_TIME = 2009-10-19T02:15:37.922Z
/* ORBITAL DATA ELEMENTS */
ASCENDING_NODE_LONGITUDE = 75.59
MAXIMUM_RESOLUTION = 117.3
FOOTPRINT_POINT_LATITUDE = (39.0152,39.0084,38.9999,38.8417, 38.5294,38.2181,37.7501,37.4388,37.0867 ,36.7161,36.3455,35.9729,35.4188, 35.0481,34.6789,34.3102,33.942,33.5742, 33.0232,32.656,32.2897,31.7407,31.3755, 31.0106,30.6464,30.2824,29.9191,29.557, 29.1937,28.8251,28.4539,28.0836,27.7138 ,27.3352,26.9576,26.5815,26.1997, 25.8137,25.4288,24.842,24.4493,23.8567, 23.4565,22.8538,22.4465,22.0404,21.626, 21.2121,20.7927,20.3719,20.3209,20.3181 ,20.3165,20.3148,20.5263,20.9501, 21.3685,21.7812,22.1925,22.6001,23.2085 ,23.609,24.2076,24.6004,24.9941,25.3842 ,25.7699,26.1563,26.5398,26.9181, 27.2972,27.8623,28.233,28.6044,29.1613, 29.5241,29.8876,30.4338,30.7982,31.1635 ,31.5292,31.8953,32.2624,32.6294, 32.9969,33.3648,33.918,34.2866,34.6558, 35.2117,35.7685,36.14,36.6964,37.0678, 37.4286,37.7408,38.0526,38.3658,38.8346 ,39.0152)
FOOTPRINT_POINT_LONGITUDE = (57.6502,57.1754,56.6981,56.2324, 56.2452,56.2553,56.2735,56.2839,56.2923 ,56.3025,56.3134,56.3305,56.3431, 56.3556,56.3647,56.373,56.3802,56.3873, 56.3969,56.4043,56.4096,56.4181,56.4226 ,56.4272,56.4309,56.4348,56.438,56.4389 ,56.4439,56.4445,56.447,56.4482,56.4495 ,56.4509,56.4499,56.4463,56.446,56.4456 ,56.4441,56.4458,56.4436,56.4391, 56.4358,56.4301,56.4254,56.4199,56.4145 ,56.409,56.4029,56.3956,56.7146,57.2375 ,57.6737,57.9925,58.1856,58.1822, 58.1787,58.1707,58.1645,58.1594,58.1509 ,58.1458,58.1373,58.1318,58.1263,58.121 ,58.1156,58.1099,58.1045,58.099,58.0937 ,58.085,58.0792,58.0734,58.0645,58.0584 ,58.0523,58.043,58.0362,58.0297,58.023, 58.0161,58.0097,58.0024,57.9951,57.9876 ,57.9768,57.9684,57.9602,57.9492, 57.9379,57.9299,57.9158,57.9062,57.8972 ,57.8896,57.881,57.8737,57.8609, 57.6502)
ORBIT_NUMBER = 7432
ORBITAL_ECCENTRICITY = 0.571
ORBITAL_INCLINATION = 86.83
ORBITAL_SEMIMAJOR_AXIS = 8729.97
PERIAPSIS_ALTITUDE = 357.67
PERIAPSIS_ARGUMENT_ANGLE = 134.63
PERIAPSIS_TIME = 2009-10-19T02:08:54.000Z
SPACECRAFT_ORIENTATION = (0.0,-1.0,0.0)
^MEX_ORIENTATION_DESC = "MEX_ORIENTATION_DESC.TXT"
SPACECRAFT_POINTING_MODE = ACROSSTRACK
^MEX_POINTING_DESC = "MEX_POINTING_DESC.TXT"
RIGHT_ASCENSION = -1e+32
DECLINATION = -1e+32
OFFSET_ANGLE = -0.25
SPACECRAFT_SOLAR_DISTANCE = 2.31614e+08
TARGET_NAME = MARS
/* CAMERA DATA ELEMENTS */
DETECTOR_TEMPERATURE = 18.1666
FOCAL_PLANE_TEMPERATURE = 7.9716
INST_CMPRS_NAME = "DISCRETE COSINE TRANSFORMATION (DCT)"
INST_CMPRS_RATIO = 26.4633
INST_CMPRS_QUALITY = 0
INST_CMPRS_QUANTZ_TBL_ID = 0
INSTRUMENT_TEMPERATURE = 11.234
LENS_TEMPERATURE = 8.3794
MACROPIXEL_SIZE = 8
MISSING_FRAMES = 0
PIXEL_SUBSAMPLING_FLAG = N
SIGNAL_CHAIN_ID = 2
/* RADIOMETRIC DATA ELEMENTS */
BANDWIDTH = 76.0
CENTER_FILTER_WAVELENGTH = 444.0
RADIANCE_OFFSET = 0.511853
RADIANCE_SCALING_FACTOR = 0.00191805
REFLECTANCE_SCALING_FACTOR = 0.000105717
MEX:REFLECTANCE_OFFSET = 0.0282118
/* IMAGE OBJECT DEFINITIONS */
OBJECT = IMAGE
  INTERCHANGE_FORMAT = BINARY
  LINES = 11096
  LINE_SAMPLES = 1054
  SAMPLE_TYPE = UNSIGNED_INTEGER
  SAMPLE_BITS = 8
  BANDS = 1
  BAND_STORAGE_TYPE = BAND_SEQUENTIAL
  MAXIMUM = 255
  MEAN = 156.904
  MINIMUM = 1
  STANDARD_DEVIATION = 25.8061
END_OBJECT = IMAGE
/* MAP OBJECT DEFINITIONS */
OBJECT = IMAGE_MAP_PROJECTION
  ^DATA_SET_MAP_PROJECTION_CATALOG= "DSMAP.CAT"
  A_AXIS_RADIUS = 3396.0
  B_AXIS_RADIUS = 3396.0
  C_AXIS_RADIUS = 3396.0
  CENTER_LATITUDE = 0.0
  CENTER_LONGITUDE = 57.0
  COORDINATE_SYSTEM_NAME = PLANETOGRAPHIC
  COORDINATE_SYSTEM_TYPE = "BODY-FIXED ROTATING"
  EASTERNMOST_LONGITUDE = 58.1856
  FIRST_STANDARD_PARALLEL = "N/A"
  LINE_FIRST_PIXEL = 1
  LINE_LAST_PIXEL = 11096
  LINE_PROJECTION_OFFSET = 23131.0625
  MAP_PROJECTION_ROTATION = 0.0
  MAP_PROJECTION_TYPE = SINUSOIDAL
  MAP_RESOLUTION = 592.713803866667
  MAP_SCALE = 0.1
  MAXIMUM_LATITUDE = 39.0152
  MINIMUM_LATITUDE = 20.3148
  POSITIVE_LONGITUDE_DIRECTION = EAST
  REFERENCE_LATITUDE = "N/A"
  REFERENCE_LONGITUDE = "N/A"
  SAMPLE_FIRST_PIXEL = 1
  SAMPLE_LAST_PIXEL = 1054
  SAMPLE_PROJECTION_OFFSET = 383.6875
  SECOND_STANDARD_PARALLEL = "N/A"
  WESTERNMOST_LONGITUDE = 56.2324
END_OBJECT = IMAGE_MAP_PROJECTION
/* The JPEG2000 image data file associated with this label. */
OBJECT = COMPRESSED_FILE
  FILE_NAME = "H7432_0000_BL3.JP2"
  RECORD_TYPE = UNDEFINED
  FILE_RECORDS = UNK
  ENCODING_TYPE = "JP2"
  INTERCHANGE_FORMAT = BINARY
  UNCOMPRESSED_FILE_NAME = "H7432_0000_BL3.IMG"
  REQUIRED_STORAGE_BYTES = "11713102"
  ^DESCRIPTION = "JP2INFO.TXT"
END_OBJECT = COMPRESSED_FILE
END
