PDS_VERSION_ID = PDS3
/* FILE DATA ELEMENTS */
RECORD_TYPE = STREAM
/* POINTERS TO DATA OBJECTS */
^COMPRESSED_FILE = "H7432_0000_P13.JP2"
/* IDENTIFICATION DATA ELEMENTS */
DATA_SET_ID = "MEX-M-HRSC-5-REFDR-MAPPROJECTED-V3.0"
DATA_SET_NAME = "MARS EXPRESS HRSC MAP PROJECTED REFDR V3.0"
DETECTOR_ID = MEX_HRSC_P1
EVENT_TYPE = "MARS-REGIONAL-MAPPING-Te-Fl-Gl"
INSTRUMENT_HOST_ID = MEX
INSTRUMENT_HOST_NAME = "MARS EXPRESS"
INSTRUMENT_ID = HRSC
INSTRUMENT_NAME = "HIGH RESOLUTION STEREO CAMERA"
MISSION_NAME = "MARS EXPRESS"
MISSION_PHASE_NAME = ME_Phase_18
PROCESSING_LEVEL_ID = 3
PRODUCT_CREATION_TIME = 2016-07-01T01:18:39.000Z
PRODUCT_ID = "H7432_0000_P13.JP2"
RELEASE_ID = 0082
REVISION_ID = 0000
/* QUALITY DATA ELEMENTS */
DATA_QUALITY_ID = 1
DATA_QUALITY_DESC = "Data calculated based on original SPICE kernels"
/* TIME DATA ELEMENTS */
SPACECRAFT_CLOCK_START_COUNT = "1/0203998197.07288"
SPACECRAFT_CLOCK_STOP_COUNT = "1/0203998580.32823"
START_TIME = 2009-10-19T02:10:10.595Z
STOP_TIME = 2009-10-19T02:15:00.710Z
/* ORBITAL DATA ELEMENTS */
ASCENDING_NODE_LONGITUDE = 75.59
MAXIMUM_RESOLUTION = 29.8
FOOTPRINT_POINT_LATITUDE = (39.0618,39.0506,39.0356,38.979,38.6666 ,38.3481,37.8741,37.5561,37.2353, 36.7552,36.4378,36.1204,35.8124,35.2882 ,34.913,34.5345,34.1549,33.7751,33.2032 ,32.6357,32.2564,31.879,31.5005,31.123, 30.7445,30.3673,29.8017,29.4221,29.048, 28.6686,28.1053,27.7294,27.3555,26.7773 ,26.3907,26.0074,25.6209,25.2283, 24.8393,24.4458,24.0455,23.6425,23.2399 ,22.8318,22.4198,22.0078,21.5895, 21.1698,20.7485,20.3184,20.3221,20.3235 ,20.3225,20.3206,20.7511,21.1659, 21.5885,22.0147,22.4262,22.8395,23.2496 ,23.6525,24.0563,24.4595,24.8538, 25.4451,26.0284,26.4158,26.8011,27.1855 ,27.7499,28.1264,28.5036,28.8804, 29.2577,29.6357,30.0133,30.3912,30.7705 ,31.3383,31.9066,32.4742,32.8533, 33.2328,33.6118,34.1844,34.5661,34.9466 ,35.3225,35.6827,35.998,36.4775,36.7966 ,37.1148,37.4335,37.7505,38.0704, 38.3859,38.7037,39.0618)
FOOTPRINT_POINT_LONGITUDE = (57.6516,57.2071,56.7142,56.2132, 56.2301,56.2418,56.2615,56.2727,56.2813 ,56.2944,56.3048,56.3147,56.3313, 56.3423,56.3551,56.3649,56.3734,56.3812 ,56.3933,56.4043,56.4103,56.4171, 56.4226,56.4282,56.4326,56.4374,56.4435 ,56.4452,56.4502,56.451,56.4551,56.4569 ,56.4594,56.4566,56.456,56.4571,56.4561 ,56.4565,56.4586,56.4571,56.455,56.4525 ,56.4497,56.4464,56.4425,56.4379, 56.4333,56.4286,56.4231,56.4165,57.0401 ,57.3408,57.6914,58.1481,58.1437,58.142 ,58.1373,58.1306,58.1265,58.1218, 58.1171,58.1128,58.1082,58.1029,58.0983 ,58.0916,58.0847,58.0792,58.0745, 58.0697,58.0622,58.0571,58.0518,58.0465 ,58.041,58.0353,58.0296,58.0238,58.0174 ,58.0081,57.9984,57.9888,57.982,57.975, 57.968,57.9572,57.9489,57.941,57.9345, 57.9277,57.9219,57.9106,57.9031,57.8958 ,57.8882,57.881,57.8727,57.8658,57.8579 ,57.6516)
ORBIT_NUMBER = 7432
ORBITAL_ECCENTRICITY = 0.571
ORBITAL_INCLINATION = 86.83
ORBITAL_SEMIMAJOR_AXIS = 8729.97
PERIAPSIS_ALTITUDE = 357.67
PERIAPSIS_ARGUMENT_ANGLE = 134.63
PERIAPSIS_TIME = 2009-10-19T02:08:54.000Z
SPACECRAFT_ORIENTATION = (0.0,-1.0,0.0)
^MEX_ORIENTATION_DESC = "MEX_ORIENTATION_DESC.TXT"
SPACECRAFT_POINTING_MODE = ACROSSTRACK
^MEX_POINTING_DESC = "MEX_POINTING_DESC.TXT"
RIGHT_ASCENSION = -1e+32
DECLINATION = -1e+32
OFFSET_ANGLE = -0.25
SPACECRAFT_SOLAR_DISTANCE = 2.31614e+08
TARGET_NAME = MARS
/* CAMERA DATA ELEMENTS */
DETECTOR_TEMPERATURE = 16.9432
FOCAL_PLANE_TEMPERATURE = 7.9716
INST_CMPRS_NAME = "DISCRETE COSINE TRANSFORMATION (DCT)"
INST_CMPRS_RATIO = 13.0282
INST_CMPRS_QUALITY = 0
INST_CMPRS_QUANTZ_TBL_ID = 0
INSTRUMENT_TEMPERATURE = 11.234
LENS_TEMPERATURE = 8.3794
MACROPIXEL_SIZE = 2
MISSING_FRAMES = 1
PIXEL_SUBSAMPLING_FLAG = N
SIGNAL_CHAIN_ID = 3
/* RADIOMETRIC DATA ELEMENTS */
BANDWIDTH = 174.0
CENTER_FILTER_WAVELENGTH = 675.0
RADIANCE_OFFSET = 3.65696
RADIANCE_SCALING_FACTOR = 0.0248939
REFLECTANCE_SCALING_FACTOR = 0.0007183
MEX:REFLECTANCE_OFFSET = 0.10552
/* IMAGE OBJECT DEFINITIONS */
OBJECT = IMAGE
  INTERCHANGE_FORMAT = BINARY
  LINES = 44383
  LINE_SAMPLES = 4215
  SAMPLE_TYPE = UNSIGNED_INTEGER
  SAMPLE_BITS = 8
  BANDS = 1
  BAND_STORAGE_TYPE = BAND_SEQUENTIAL
  MAXIMUM = 255
  MEAN = 160.632
  MINIMUM = 1
  STANDARD_DEVIATION = 34.1269
END_OBJECT = IMAGE
/* MAP OBJECT DEFINITIONS */
OBJECT = IMAGE_MAP_PROJECTION
  ^DATA_SET_MAP_PROJECTION_CATALOG= "DSMAP.CAT"
  A_AXIS_RADIUS = 3396.0
  B_AXIS_RADIUS = 3396.0
  C_AXIS_RADIUS = 3396.0
  CENTER_LATITUDE = 0.0
  CENTER_LONGITUDE = 57.0
  COORDINATE_SYSTEM_NAME = PLANETOGRAPHIC
  COORDINATE_SYSTEM_TYPE = "BODY-FIXED ROTATING"
  EASTERNMOST_LONGITUDE = 58.1481
  FIRST_STANDARD_PARALLEL = "N/A"
  LINE_FIRST_PIXEL = 1
  LINE_LAST_PIXEL = 44383
  LINE_PROJECTION_OFFSET = 92525.75
  MAP_PROJECTION_ROTATION = 0.0
  MAP_PROJECTION_TYPE = SINUSOIDAL
  MAP_RESOLUTION = 2370.85521546667
  MAP_SCALE = 0.025
  MAXIMUM_LATITUDE = 39.0618
  MINIMUM_LATITUDE = 20.3184
  POSITIVE_LONGITUDE_DIRECTION = EAST
  REFERENCE_LATITUDE = "N/A"
  REFERENCE_LONGITUDE = "N/A"
  SAMPLE_FIRST_PIXEL = 1
  SAMPLE_LAST_PIXEL = 4215
  SAMPLE_PROJECTION_OFFSET = 1536.25
  SECOND_STANDARD_PARALLEL = "N/A"
  WESTERNMOST_LONGITUDE = 56.2132
END_OBJECT = IMAGE_MAP_PROJECTION
/* The JPEG2000 image data file associated with this label. */
OBJECT = COMPRESSED_FILE
  FILE_NAME = "H7432_0000_P13.JP2"
  RECORD_TYPE = UNDEFINED
  FILE_RECORDS = UNK
  ENCODING_TYPE = "JP2"
  INTERCHANGE_FORMAT = BINARY
  UNCOMPRESSED_FILE_NAME = "H7432_0000_P13.IMG"
  REQUIRED_STORAGE_BYTES = "187099635"
  ^DESCRIPTION = "JP2INFO.TXT"
END_OBJECT = COMPRESSED_FILE
END
