PDS_VERSION_ID = PDS3
/* FILE DATA ELEMENTS */
RECORD_TYPE = STREAM
/* POINTERS TO DATA OBJECTS */
^COMPRESSED_FILE = "H7433_0000_BL3.JP2"
/* IDENTIFICATION DATA ELEMENTS */
DATA_SET_ID = "MEX-M-HRSC-5-REFDR-MAPPROJECTED-V3.0"
DATA_SET_NAME = "MARS EXPRESS HRSC MAP PROJECTED REFDR V3.0"
DETECTOR_ID = MEX_HRSC_BLUE
EVENT_TYPE = "MARS-REGIONAL-MAPPING-Fl-Pf-Eo"
INSTRUMENT_HOST_ID = MEX
INSTRUMENT_HOST_NAME = "MARS EXPRESS"
INSTRUMENT_ID = HRSC
INSTRUMENT_NAME = "HIGH RESOLUTION STEREO CAMERA"
MISSION_NAME = "MARS EXPRESS"
MISSION_PHASE_NAME = ME_Phase_18
PROCESSING_LEVEL_ID = 3
PRODUCT_CREATION_TIME = 2016-07-01T01:18:39.000Z
PRODUCT_ID = "H7433_0000_BL3.JP2"
RELEASE_ID = 0082
REVISION_ID = 0000
/* QUALITY DATA ELEMENTS */
DATA_QUALITY_ID = 1
DATA_QUALITY_DESC = "Data calculated based on original SPICE kernels"
/* TIME DATA ELEMENTS */
SPACECRAFT_CLOCK_START_COUNT = "1/0204023058.09036"
SPACECRAFT_CLOCK_STOP_COUNT = "1/0204023471.39253"
START_TIME = 2009-10-19T09:05:00.303Z
STOP_TIME = 2009-10-19T09:10:23.604Z
/* ORBITAL DATA ELEMENTS */
ASCENDING_NODE_LONGITUDE = 75.57
MAXIMUM_RESOLUTION = 120.9
FOOTPRINT_POINT_LATITUDE = (36.7598,36.7542,36.7469,36.1966, 35.8258,35.4554,35.0854,34.7158,34.3466 ,33.9778,33.6094,33.2414,32.8738, 32.5067,32.1401,31.774,31.4083,31.0432, 30.3144,29.7589,29.3863,29.0143,28.4526 ,28.0723,27.6927,27.3137,26.9268, 26.5395,26.1529,25.7606,25.3659,24.972, 24.572,24.1703,23.5646,23.1555,22.7473, 22.3311,21.9155,21.2835,20.8612,20.4315 ,20.002,19.5657,19.1294,18.686,18.0167, 17.5665,16.8965,16.8936,16.8896,17.1175 ,17.5742,18.0253,18.6957,19.1395, 19.5768,20.0135,20.4436,20.8738,21.297, 21.9297,22.3461,22.7627,23.3764,23.7861 ,24.1877,24.5901,24.9904,25.3849, 25.7802,26.1728,26.56,26.9479,27.3351, 27.7147,28.0949,28.4757,29.038,29.4106, 29.7836,30.1575,30.5221,30.887,31.2524, 31.6183,31.9847,32.3516,32.719,33.0869, 33.4552,33.824,34.1932,34.5627,34.9327, 35.303,35.6735,36.0449,36.4164,36.7598)
FOOTPRINT_POINT_LONGITUDE = (318.329,317.836,317.354,317.131, 317.133,317.134,317.135,317.136,317.136 ,317.137,317.136,317.136,317.135, 317.134,317.132,317.13,317.128,317.126, 317.121,317.116,317.112,317.108,317.102 ,317.097,317.092,317.087,317.081, 317.075,317.069,317.063,317.056,317.048 ,317.041,317.033,317.021,317.012, 317.003,316.993,316.983,316.968,316.957 ,316.946,316.934,316.922,316.91,316.897 ,316.877,316.863,316.842,317.786, 318.401,318.811,318.809,318.808,318.808 ,318.807,318.806,318.806,318.805, 318.805,318.804,318.804,318.804,318.804 ,318.803,318.803,318.803,318.803, 318.803,318.803,318.803,318.804,318.804 ,318.804,318.804,318.804,318.805, 318.805,318.805,318.805,318.805,318.806 ,318.806,318.806,318.807,318.807, 318.806,318.807,318.807,318.808,318.808 ,318.809,318.809,318.809,318.81,318.809 ,318.808,318.81,318.81,318.329)
ORBIT_NUMBER = 7433
ORBITAL_ECCENTRICITY = 0.571
ORBITAL_INCLINATION = 86.83
ORBITAL_SEMIMAJOR_AXIS = 8722.6
PERIAPSIS_ALTITUDE = 358.19
PERIAPSIS_ARGUMENT_ANGLE = 134.45
PERIAPSIS_TIME = 2009-10-19T09:02:39.000Z
SPACECRAFT_ORIENTATION = (0.0,-1.0,0.0)
^MEX_ORIENTATION_DESC = "MEX_ORIENTATION_DESC.TXT"
SPACECRAFT_POINTING_MODE = ACROSSTRACK
^MEX_POINTING_DESC = "MEX_POINTING_DESC.TXT"
RIGHT_ASCENSION = -1e+32
DECLINATION = -1e+32
OFFSET_ANGLE = 1.05
SPACECRAFT_SOLAR_DISTANCE = 2.31668e+08
TARGET_NAME = MARS
/* CAMERA DATA ELEMENTS */
DETECTOR_TEMPERATURE = 18.3705
FOCAL_PLANE_TEMPERATURE = 8.5833
INST_CMPRS_NAME = "DISCRETE COSINE TRANSFORMATION (DCT)"
INST_CMPRS_RATIO = 36.0819
INST_CMPRS_QUALITY = 0
INST_CMPRS_QUANTZ_TBL_ID = 0
INSTRUMENT_TEMPERATURE = 9.8067
LENS_TEMPERATURE = 9.3989
MACROPIXEL_SIZE = 8
MISSING_FRAMES = 0
PIXEL_SUBSAMPLING_FLAG = N
SIGNAL_CHAIN_ID = 2
/* RADIOMETRIC DATA ELEMENTS */
BANDWIDTH = 76.0
CENTER_FILTER_WAVELENGTH = 444.0
RADIANCE_OFFSET = 0.659992
RADIANCE_SCALING_FACTOR = 0.00176298
REFLECTANCE_SCALING_FACTOR = 9.72155e-05
MEX:REFLECTANCE_OFFSET = 0.0363938
/* IMAGE OBJECT DEFINITIONS */
OBJECT = IMAGE
  INTERCHANGE_FORMAT = BINARY
  LINES = 11784
  LINE_SAMPLES = 1162
  SAMPLE_TYPE = UNSIGNED_INTEGER
  SAMPLE_BITS = 8
  BANDS = 1
  BAND_STORAGE_TYPE = BAND_SEQUENTIAL
  MAXIMUM = 255
  MEAN = 145.693
  MINIMUM = 1
  STANDARD_DEVIATION = 44.2206
END_OBJECT = IMAGE
/* MAP OBJECT DEFINITIONS */
OBJECT = IMAGE_MAP_PROJECTION
  ^DATA_SET_MAP_PROJECTION_CATALOG= "DSMAP.CAT"
  A_AXIS_RADIUS = 3396.0
  B_AXIS_RADIUS = 3396.0
  C_AXIS_RADIUS = 3396.0
  CENTER_LATITUDE = 0.0
  CENTER_LONGITUDE = 318.0
  COORDINATE_SYSTEM_NAME = PLANETOGRAPHIC
  COORDINATE_SYSTEM_TYPE = "BODY-FIXED ROTATING"
  EASTERNMOST_LONGITUDE = 318.811
  FIRST_STANDARD_PARALLEL = "N/A"
  LINE_FIRST_PIXEL = 1
  LINE_LAST_PIXEL = 11784
  LINE_PROJECTION_OFFSET = 21795.0625
  MAP_PROJECTION_ROTATION = 0.0
  MAP_PROJECTION_TYPE = SINUSOIDAL
  MAP_RESOLUTION = 592.713803866667
  MAP_SCALE = 0.1
  MAXIMUM_LATITUDE = 36.7598
  MINIMUM_LATITUDE = 16.8896
  POSITIVE_LONGITUDE_DIRECTION = EAST
  REFERENCE_LATITUDE = "N/A"
  REFERENCE_LONGITUDE = "N/A"
  SAMPLE_FIRST_PIXEL = 1
  SAMPLE_LAST_PIXEL = 1162
  SAMPLE_PROJECTION_OFFSET = 664.1875
  SECOND_STANDARD_PARALLEL = "N/A"
  WESTERNMOST_LONGITUDE = 316.842
END_OBJECT = IMAGE_MAP_PROJECTION
/* The JPEG2000 image data file associated with this label. */
OBJECT = COMPRESSED_FILE
  FILE_NAME = "H7433_0000_BL3.JP2"
  RECORD_TYPE = UNDEFINED
  FILE_RECORDS = UNK
  ENCODING_TYPE = "JP2"
  INTERCHANGE_FORMAT = BINARY
  UNCOMPRESSED_FILE_NAME = "H7433_0000_BL3.IMG"
  REQUIRED_STORAGE_BYTES = "13711600"
  ^DESCRIPTION = "JP2INFO.TXT"
END_OBJECT = COMPRESSED_FILE
END
