PDS_VERSION_ID = PDS3
/* FILE DATA ELEMENTS */
RECORD_TYPE = STREAM
/* POINTERS TO DATA OBJECTS */
^COMPRESSED_FILE = "H7433_0000_P23.JP2"
/* IDENTIFICATION DATA ELEMENTS */
DATA_SET_ID = "MEX-M-HRSC-5-REFDR-MAPPROJECTED-V3.0"
DATA_SET_NAME = "MARS EXPRESS HRSC MAP PROJECTED REFDR V3.0"
DETECTOR_ID = MEX_HRSC_P2
EVENT_TYPE = "MARS-REGIONAL-MAPPING-Fl-Pf-Eo"
INSTRUMENT_HOST_ID = MEX
INSTRUMENT_HOST_NAME = "MARS EXPRESS"
INSTRUMENT_ID = HRSC
INSTRUMENT_NAME = "HIGH RESOLUTION STEREO CAMERA"
MISSION_NAME = "MARS EXPRESS"
MISSION_PHASE_NAME = ME_Phase_18
PROCESSING_LEVEL_ID = 3
PRODUCT_CREATION_TIME = 2016-07-01T01:18:39.000Z
PRODUCT_ID = "H7433_0000_P23.JP2"
RELEASE_ID = 0082
REVISION_ID = 0000
/* QUALITY DATA ELEMENTS */
DATA_QUALITY_ID = 1
DATA_QUALITY_DESC = "Data calculated based on original SPICE kernels"
/* TIME DATA ELEMENTS */
SPACECRAFT_CLOCK_START_COUNT = "1/0204023058.09036"
SPACECRAFT_CLOCK_STOP_COUNT = "1/0204023471.39253"
START_TIME = 2009-10-19T09:05:17.492Z
STOP_TIME = 2009-10-19T09:10:50.719Z
/* ORBITAL DATA ELEMENTS */
ASCENDING_NODE_LONGITUDE = 75.57
MAXIMUM_RESOLUTION = 31.5
FOOTPRINT_POINT_LATITUDE = (36.7423,36.7135,36.5556,36.184,35.8128 ,35.4423,35.0725,34.7031,34.3345, 33.9665,33.599,33.2322,32.866,32.5004, 32.1356,31.7716,31.4081,31.0383,30.6667 ,30.2957,29.9258,29.3597,28.9821, 28.6052,28.2225,27.8376,27.4537,27.0656 ,26.674,26.2834,25.888,25.49,24.8909, 24.4864,24.0833,23.6721,23.2619,22.6383 ,22.2222,21.7985,21.3757,20.9461, 20.2986,19.8632,19.4224,18.7566,18.0824 ,17.6287,17.1694,16.9156,16.9251, 16.9337,16.9441,17.4034,18.0887,18.7647 ,19.4322,19.8741,20.3101,20.9592, 21.3902,21.8135,22.2383,22.6555,23.2806 ,23.6914,24.1035,24.5076,24.9124,25.513 ,25.9113,26.3081,26.6992,27.0912, 27.4806,27.8651,28.2504,28.6344,29.0119 ,29.3902,29.7689,30.1429,30.5139, 30.8857,31.4427,31.8064,32.1706,32.536, 32.9022,33.269,33.6363,34.0044,34.373, 34.7422,35.2968,35.6668,36.0387,36.4111 ,36.7838,36.7423)
FOOTPRINT_POINT_LONGITUDE = (318.306,317.528,317.099,317.101, 317.102,317.103,317.104,317.104,317.104 ,317.104,317.103,317.102,317.101, 317.099,317.098,317.095,317.093,317.09, 317.087,317.084,317.08,317.074,317.069, 317.064,317.059,317.054,317.048,317.042 ,317.035,317.028,317.021,317.014, 317.002,316.993,316.985,316.975,316.966 ,316.951,316.94,316.929,316.918,316.906 ,316.888,316.875,316.862,316.841, 316.819,316.804,316.788,317.034,317.63, 318.216,318.862,318.859,318.856,318.854 ,318.851,318.849,318.848,318.846, 318.845,318.843,318.842,318.841,318.84, 318.839,318.838,318.838,318.837,318.836 ,318.835,318.835,318.834,318.834, 318.834,318.833,318.833,318.833,318.832 ,318.832,318.831,318.832,318.831, 318.831,318.83,318.83,318.829,318.829, 318.83,318.83,318.83,318.83,318.83, 318.829,318.829,318.828,318.828,318.829 ,318.829,318.306)
ORBIT_NUMBER = 7433
ORBITAL_ECCENTRICITY = 0.571
ORBITAL_INCLINATION = 86.83
ORBITAL_SEMIMAJOR_AXIS = 8722.6
PERIAPSIS_ALTITUDE = 358.19
PERIAPSIS_ARGUMENT_ANGLE = 134.45
PERIAPSIS_TIME = 2009-10-19T09:02:39.000Z
SPACECRAFT_ORIENTATION = (0.0,-1.0,0.0)
^MEX_ORIENTATION_DESC = "MEX_ORIENTATION_DESC.TXT"
SPACECRAFT_POINTING_MODE = ACROSSTRACK
^MEX_POINTING_DESC = "MEX_POINTING_DESC.TXT"
RIGHT_ASCENSION = -1e+32
DECLINATION = -1e+32
OFFSET_ANGLE = 1.05
SPACECRAFT_SOLAR_DISTANCE = 2.31668e+08
TARGET_NAME = MARS
/* CAMERA DATA ELEMENTS */
DETECTOR_TEMPERATURE = 18.7783
FOCAL_PLANE_TEMPERATURE = 8.5833
INST_CMPRS_NAME = "DISCRETE COSINE TRANSFORMATION (DCT)"
INST_CMPRS_RATIO = 7.22981
INST_CMPRS_QUALITY = 0
INST_CMPRS_QUANTZ_TBL_ID = 0
INSTRUMENT_TEMPERATURE = 9.8067
LENS_TEMPERATURE = 9.3989
MACROPIXEL_SIZE = 2
MISSING_FRAMES = 0
PIXEL_SUBSAMPLING_FLAG = N
SIGNAL_CHAIN_ID = 3
/* RADIOMETRIC DATA ELEMENTS */
BANDWIDTH = 177.0
CENTER_FILTER_WAVELENGTH = 676.5
RADIANCE_OFFSET = 3.75698
RADIANCE_SCALING_FACTOR = 0.0180817
REFLECTANCE_SCALING_FACTOR = 0.00051455
MEX:REFLECTANCE_OFFSET = 0.106912
/* IMAGE OBJECT DEFINITIONS */
OBJECT = IMAGE
  INTERCHANGE_FORMAT = BINARY
  LINES = 47135
  LINE_SAMPLES = 4645
  SAMPLE_TYPE = UNSIGNED_INTEGER
  SAMPLE_BITS = 8
  BANDS = 1
  BAND_STORAGE_TYPE = BAND_SEQUENTIAL
  MAXIMUM = 255
  MEAN = 117.175
  MINIMUM = 1
  STANDARD_DEVIATION = 53.2164
END_OBJECT = IMAGE
/* MAP OBJECT DEFINITIONS */
OBJECT = IMAGE_MAP_PROJECTION
  ^DATA_SET_MAP_PROJECTION_CATALOG= "DSMAP.CAT"
  A_AXIS_RADIUS = 3396.0
  B_AXIS_RADIUS = 3396.0
  C_AXIS_RADIUS = 3396.0
  CENTER_LATITUDE = 0.0
  CENTER_LONGITUDE = 318.0
  COORDINATE_SYSTEM_NAME = PLANETOGRAPHIC
  COORDINATE_SYSTEM_TYPE = "BODY-FIXED ROTATING"
  EASTERNMOST_LONGITUDE = 318.862
  FIRST_STANDARD_PARALLEL = "N/A"
  LINE_FIRST_PIXEL = 1
  LINE_LAST_PIXEL = 47135
  LINE_PROJECTION_OFFSET = 87181.75
  MAP_PROJECTION_ROTATION = 0.0
  MAP_PROJECTION_TYPE = SINUSOIDAL
  MAP_RESOLUTION = 2370.85521546667
  MAP_SCALE = 0.025
  MAXIMUM_LATITUDE = 36.7838
  MINIMUM_LATITUDE = 16.9156
  POSITIVE_LONGITUDE_DIRECTION = EAST
  REFERENCE_LATITUDE = "N/A"
  REFERENCE_LONGITUDE = "N/A"
  SAMPLE_FIRST_PIXEL = 1
  SAMPLE_LAST_PIXEL = 4645
  SAMPLE_PROJECTION_OFFSET = 2658.25
  SECOND_STANDARD_PARALLEL = "N/A"
  WESTERNMOST_LONGITUDE = 316.788
END_OBJECT = IMAGE_MAP_PROJECTION
/* The JPEG2000 image data file associated with this label. */
OBJECT = COMPRESSED_FILE
  FILE_NAME = "H7433_0000_P23.JP2"
  RECORD_TYPE = UNDEFINED
  FILE_RECORDS = UNK
  ENCODING_TYPE = "JP2"
  INTERCHANGE_FORMAT = BINARY
  UNCOMPRESSED_FILE_NAME = "H7433_0000_P23.IMG"
  REQUIRED_STORAGE_BYTES = "218965300"
  ^DESCRIPTION = "JP2INFO.TXT"
END_OBJECT = COMPRESSED_FILE
END
