PDS_VERSION_ID = PDS3
/* FILE DATA ELEMENTS */
RECORD_TYPE = STREAM
/* POINTERS TO DATA OBJECTS */
^COMPRESSED_FILE = "H7436_0000_P23.JP2"
/* IDENTIFICATION DATA ELEMENTS */
DATA_SET_ID = "MEX-M-HRSC-5-REFDR-MAPPROJECTED-V3.0"
DATA_SET_NAME = "MARS EXPRESS HRSC MAP PROJECTED REFDR V3.0"
DETECTOR_ID = MEX_HRSC_P2
EVENT_TYPE = "MARS-REGIONAL-MAPPING-Fl-Pf-La"
INSTRUMENT_HOST_ID = MEX
INSTRUMENT_HOST_NAME = "MARS EXPRESS"
INSTRUMENT_ID = HRSC
INSTRUMENT_NAME = "HIGH RESOLUTION STEREO CAMERA"
MISSION_NAME = "MARS EXPRESS"
MISSION_PHASE_NAME = ME_Phase_18
PROCESSING_LEVEL_ID = 3
PRODUCT_CREATION_TIME = 2016-07-01T01:18:39.000Z
PRODUCT_ID = "H7436_0000_P23.JP2"
RELEASE_ID = 0082
REVISION_ID = 0000
/* QUALITY DATA ELEMENTS */
DATA_QUALITY_ID = 1
DATA_QUALITY_DESC = "Data calculated based on original SPICE kernels"
/* TIME DATA ELEMENTS */
SPACECRAFT_CLOCK_START_COUNT = "1/0204097606.09130"
SPACECRAFT_CLOCK_STOP_COUNT = "1/0204098081.65216"
START_TIME = 2009-10-20T05:47:48.149Z
STOP_TIME = 2009-10-20T05:54:14.803Z
/* ORBITAL DATA ELEMENTS */
ASCENDING_NODE_LONGITUDE = 75.52
MAXIMUM_RESOLUTION = 33.3
FOOTPRINT_POINT_LATITUDE = (32.4689,32.4653,32.3063,31.9342, 31.3752,30.9981,30.618,30.238,29.8597, 29.4729,28.8949,28.3085,27.9163,27.5213 ,27.1216,26.7243,26.3192,25.913,25.5071 ,25.0969,24.6824,24.2707,23.8493, 23.4287,23.0025,22.5743,22.1404,21.7066 ,21.2664,20.6015,20.1556,19.7038, 19.2502,18.7908,18.3274,17.8619,17.3897 ,16.9138,16.4396,15.9566,15.2135, 14.7172,14.2154,13.7077,13.1969,12.6801 ,12.1583,11.6274,10.8318,10.5394, 10.5352,10.5278,10.5118,10.501,11.0351, 11.5703,12.3648,12.886,13.4015,13.912, 14.4195,14.9193,15.4159,15.9076,16.3924 ,16.8733,17.3508,17.8226,18.2896, 18.7553,19.2165,19.6718,20.1249,20.5725 ,21.2385,21.6791,22.113,22.7588,23.1878 ,23.6127,24.0345,24.4541,24.8693, 25.4878,26.1018,26.7075,27.1079,27.5069 ,28.0991,28.4933,28.8835,29.2707, 29.8509,30.4208,30.8017,31.1822,31.5597 ,31.9315,32.4915,32.4689)
FOOTPRINT_POINT_LONGITUDE = (14.007,13.4962,13.1368,13.1401,13.1456 ,13.1486,13.1509,13.1532,13.1546, 13.1556,13.1554,13.1568,13.1553,13.1556 ,13.1551,13.1513,13.1522,13.149,13.1452 ,13.1421,13.1382,13.1329,13.128,13.123, 13.1168,13.1112,13.1051,13.098,13.0904, 13.0784,13.0689,13.0589,13.0487,13.0377 ,13.0263,13.0141,13.0015,12.9881, 12.9714,12.9567,12.9367,12.9205,12.9036 ,12.8861,12.867,12.8475,12.827,12.8074, 12.7719,13.1761,13.4992,13.8917,14.4446 ,15.1439,15.136,15.1282,15.1177,15.1103 ,15.103,15.096,15.0899,15.0826,15.076, 15.0696,15.063,15.0564,15.0499,15.043, 15.0365,15.0307,15.0247,15.0187,15.0123 ,15.0062,14.9973,14.9909,14.9847, 14.9748,14.9689,14.9633,14.9572,14.9515 ,14.9456,14.9364,14.9277,14.9188, 14.9119,14.9054,14.8963,14.8892,14.8837 ,14.8771,14.8661,14.8562,14.8494, 14.8419,14.8369,14.8292,14.818,14.007)
ORBIT_NUMBER = 7436
ORBITAL_ECCENTRICITY = 0.571
ORBITAL_INCLINATION = 86.82
ORBITAL_SEMIMAJOR_AXIS = 8725.54
PERIAPSIS_ALTITUDE = 358.66
PERIAPSIS_ARGUMENT_ANGLE = 133.91
PERIAPSIS_TIME = 2009-10-20T05:43:53.000Z
SPACECRAFT_ORIENTATION = (0.0,-1.0,0.0)
^MEX_ORIENTATION_DESC = "MEX_ORIENTATION_DESC.TXT"
SPACECRAFT_POINTING_MODE = ACROSSTRACK
^MEX_POINTING_DESC = "MEX_POINTING_DESC.TXT"
RIGHT_ASCENSION = -1e+32
DECLINATION = -1e+32
OFFSET_ANGLE = -0.1
SPACECRAFT_SOLAR_DISTANCE = 2.3183e+08
TARGET_NAME = MARS
/* CAMERA DATA ELEMENTS */
DETECTOR_TEMPERATURE = 18.5744
FOCAL_PLANE_TEMPERATURE = 8.1755
INST_CMPRS_NAME = "DISCRETE COSINE TRANSFORMATION (DCT)"
INST_CMPRS_RATIO = 7.33921
INST_CMPRS_QUALITY = 0
INST_CMPRS_QUANTZ_TBL_ID = 0
INSTRUMENT_TEMPERATURE = 11.234
LENS_TEMPERATURE = 8.5833
MACROPIXEL_SIZE = 2
MISSING_FRAMES = 0
PIXEL_SUBSAMPLING_FLAG = N
SIGNAL_CHAIN_ID = 3
/* RADIOMETRIC DATA ELEMENTS */
BANDWIDTH = 177.0
CENTER_FILTER_WAVELENGTH = 676.5
RADIANCE_OFFSET = 5.0709
RADIANCE_SCALING_FACTOR = 0.0262935
REFLECTANCE_SCALING_FACTOR = 0.000749285
MEX:REFLECTANCE_OFFSET = 0.144505
/* IMAGE OBJECT DEFINITIONS */
OBJECT = IMAGE
  INTERCHANGE_FORMAT = BINARY
  LINES = 52145
  LINE_SAMPLES = 5303
  SAMPLE_TYPE = UNSIGNED_INTEGER
  SAMPLE_BITS = 8
  BANDS = 1
  BAND_STORAGE_TYPE = BAND_SEQUENTIAL
  MAXIMUM = 255
  MEAN = 153.575
  MINIMUM = 1
  STANDARD_DEVIATION = 20.0718
END_OBJECT = IMAGE
/* MAP OBJECT DEFINITIONS */
OBJECT = IMAGE_MAP_PROJECTION
  ^DATA_SET_MAP_PROJECTION_CATALOG= "DSMAP.CAT"
  A_AXIS_RADIUS = 3396.0
  B_AXIS_RADIUS = 3396.0
  C_AXIS_RADIUS = 3396.0
  CENTER_LATITUDE = 0.0
  CENTER_LONGITUDE = 14.0
  COORDINATE_SYSTEM_NAME = PLANETOGRAPHIC
  COORDINATE_SYSTEM_TYPE = "BODY-FIXED ROTATING"
  EASTERNMOST_LONGITUDE = 15.1439
  FIRST_STANDARD_PARALLEL = "N/A"
  LINE_FIRST_PIXEL = 1
  LINE_LAST_PIXEL = 52145
  LINE_PROJECTION_OFFSET = 77072.25
  MAP_PROJECTION_ROTATION = 0.0
  MAP_PROJECTION_TYPE = SINUSOIDAL
  MAP_RESOLUTION = 2370.85521546667
  MAP_SCALE = 0.025
  MAXIMUM_LATITUDE = 32.4915
  MINIMUM_LATITUDE = 10.501
  POSITIVE_LONGITUDE_DIRECTION = EAST
  REFERENCE_LATITUDE = "N/A"
  REFERENCE_LONGITUDE = "N/A"
  SAMPLE_FIRST_PIXEL = 1
  SAMPLE_LAST_PIXEL = 5303
  SAMPLE_PROJECTION_OFFSET = 2758.25
  SECOND_STANDARD_PARALLEL = "N/A"
  WESTERNMOST_LONGITUDE = 12.7719
END_OBJECT = IMAGE_MAP_PROJECTION
/* The JPEG2000 image data file associated with this label. */
OBJECT = COMPRESSED_FILE
  FILE_NAME = "H7436_0000_P23.JP2"
  RECORD_TYPE = UNDEFINED
  FILE_RECORDS = UNK
  ENCODING_TYPE = "JP2"
  INTERCHANGE_FORMAT = BINARY
  UNCOMPRESSED_FILE_NAME = "H7436_0000_P23.IMG"
  REQUIRED_STORAGE_BYTES = "276551450"
  ^DESCRIPTION = "JP2INFO.TXT"
END_OBJECT = COMPRESSED_FILE
END
