PDS_VERSION_ID = PDS3
/* FILE DATA ELEMENTS */
RECORD_TYPE = STREAM
/* POINTERS TO DATA OBJECTS */
^COMPRESSED_FILE = "H7438_0000_IR3.JP2"
/* IDENTIFICATION DATA ELEMENTS */
DATA_SET_ID = "MEX-M-HRSC-5-REFDR-MAPPROJECTED-V3.0"
DATA_SET_NAME = "MARS EXPRESS HRSC MAP PROJECTED REFDR V3.0"
DETECTOR_ID = MEX_HRSC_IR
EVENT_TYPE = "MARS-REGIONAL-MAPPING-Vo"
INSTRUMENT_HOST_ID = MEX
INSTRUMENT_HOST_NAME = "MARS EXPRESS"
INSTRUMENT_ID = HRSC
INSTRUMENT_NAME = "HIGH RESOLUTION STEREO CAMERA"
MISSION_NAME = "MARS EXPRESS"
MISSION_PHASE_NAME = ME_Phase_18
PROCESSING_LEVEL_ID = 3
PRODUCT_CREATION_TIME = 2016-07-01T01:18:39.000Z
PRODUCT_ID = "H7438_0000_IR3.JP2"
RELEASE_ID = 0082
REVISION_ID = 0000
/* QUALITY DATA ELEMENTS */
DATA_QUALITY_ID = 1
DATA_QUALITY_DESC = "Data calculated based on original SPICE kernels"
/* TIME DATA ELEMENTS */
SPACECRAFT_CLOCK_START_COUNT = "1/0204147188.08259"
SPACECRAFT_CLOCK_STOP_COUNT = "1/0204147526.45735"
START_TIME = 2009-10-20T19:33:16.433Z
STOP_TIME = 2009-10-20T19:37:20.800Z
/* ORBITAL DATA ELEMENTS */
ASCENDING_NODE_LONGITUDE = 75.47
MAXIMUM_RESOLUTION = 61.9
FOOTPRINT_POINT_LATITUDE = (37.6179,37.6137,37.6105,37.6066, 37.6021,37.5969,37.4038,37.142,36.7499, 36.4705,36.0022,35.6894,35.2204,34.9076 ,34.5952,34.2828,33.8143,33.502,33.1897 ,32.8771,32.4094,31.9433,31.6317,31.317 ,31.0044,30.6925,30.381,29.9142,29.6028 ,29.1331,28.6688,28.3579,28.0467, 27.7314,27.4123,27.0937,26.7751,26.4571 ,25.968,25.6418,25.3159,24.8206,24.4882 ,24.1526,23.6503,23.1396,22.799,22.4523 ,22.1037,21.7555,21.7129,21.7139, 21.7136,21.7128,21.7103,21.7082,21.883, 22.2319,22.7528,23.266,23.6078,24.1126, 24.6133,24.9488,25.2786,25.6048,25.9317 ,26.2588,26.7416,27.061,27.3801,27.8589 ,28.1718,28.4832,28.7948,29.2623, 29.7304,30.0438,30.3548,30.823,31.135, 31.4477,31.7613,32.0739,32.5425,32.8549 ,33.1677,33.4804,33.9502,34.4195, 34.7324,35.0456,35.3585,35.8279,36.1411 ,36.4542,36.7402,37.0025,37.2648, 37.6179)
FOOTPRINT_POINT_LONGITUDE = (172.994,172.581,172.344,172.108, 171.873,171.637,171.525,171.533,171.543 ,171.551,171.562,171.569,171.58,171.586 ,171.592,171.598,171.606,171.611, 171.616,171.62,171.627,171.633,171.636, 171.638,171.641,171.643,171.645,171.648 ,171.65,171.651,171.653,171.654,171.654 ,171.654,171.653,171.653,171.652, 171.651,171.649,171.648,171.646,171.643 ,171.641,171.637,171.633,171.628, 171.624,171.619,171.614,171.61,171.819, 172.111,172.5,172.76,173.1,173.35, 173.348,173.346,173.342,173.337,173.334 ,173.33,173.326,173.323,173.32,173.317, 173.314,173.311,173.306,173.303,173.299 ,173.295,173.291,173.288,173.285, 173.279,173.274,173.27,173.267,173.261, 173.257,173.253,173.249,173.244,173.238 ,173.234,173.23,173.225,173.218,173.211 ,173.206,173.201,173.196,173.189, 173.183,173.178,173.173,173.168,173.163 ,172.994)
ORBIT_NUMBER = 7438
ORBITAL_ECCENTRICITY = 0.571
ORBITAL_INCLINATION = 86.82
ORBITAL_SEMIMAJOR_AXIS = 8720.78
PERIAPSIS_ALTITUDE = 359.05
PERIAPSIS_ARGUMENT_ANGLE = 133.57
PERIAPSIS_TIME = 2009-10-20T19:31:27.000Z
SPACECRAFT_ORIENTATION = (0.0,-1.0,0.0)
^MEX_ORIENTATION_DESC = "MEX_ORIENTATION_DESC.TXT"
SPACECRAFT_POINTING_MODE = ACROSSTRACK
^MEX_POINTING_DESC = "MEX_POINTING_DESC.TXT"
RIGHT_ASCENSION = -1e+32
DECLINATION = -1e+32
OFFSET_ANGLE = 0.04
SPACECRAFT_SOLAR_DISTANCE = 2.31938e+08
TARGET_NAME = MARS
/* CAMERA DATA ELEMENTS */
DETECTOR_TEMPERATURE = 17.351
FOCAL_PLANE_TEMPERATURE = 8.3794
INST_CMPRS_NAME = "DISCRETE COSINE TRANSFORMATION (DCT)"
INST_CMPRS_RATIO = 13.8301
INST_CMPRS_QUALITY = 0
INST_CMPRS_QUANTZ_TBL_ID = 0
INSTRUMENT_TEMPERATURE = 11.234
LENS_TEMPERATURE = 8.7872
MACROPIXEL_SIZE = 4
MISSING_FRAMES = 0
PIXEL_SUBSAMPLING_FLAG = N
SIGNAL_CHAIN_ID = 2
/* RADIOMETRIC DATA ELEMENTS */
BANDWIDTH = 81.0
CENTER_FILTER_WAVELENGTH = 955.5
RADIANCE_OFFSET = 1.01551
RADIANCE_SCALING_FACTOR = 0.0079648
REFLECTANCE_SCALING_FACTOR = 0.000924378
MEX:REFLECTANCE_OFFSET = 0.117858
/* IMAGE OBJECT DEFINITIONS */
OBJECT = IMAGE
  INTERCHANGE_FORMAT = BINARY
  LINES = 18778
  LINE_SAMPLES = 2071
  SAMPLE_TYPE = UNSIGNED_INTEGER
  SAMPLE_BITS = 8
  BANDS = 1
  BAND_STORAGE_TYPE = BAND_SEQUENTIAL
  MAXIMUM = 255
  MEAN = 133.597
  MINIMUM = 1
  STANDARD_DEVIATION = 40.5936
END_OBJECT = IMAGE
/* MAP OBJECT DEFINITIONS */
OBJECT = IMAGE_MAP_PROJECTION
  ^DATA_SET_MAP_PROJECTION_CATALOG= "DSMAP.CAT"
  A_AXIS_RADIUS = 3396.0
  B_AXIS_RADIUS = 3396.0
  C_AXIS_RADIUS = 3396.0
  CENTER_LATITUDE = 0.0
  CENTER_LONGITUDE = 172.0
  COORDINATE_SYSTEM_NAME = PLANETOGRAPHIC
  COORDINATE_SYSTEM_TYPE = "BODY-FIXED ROTATING"
  EASTERNMOST_LONGITUDE = 173.35
  FIRST_STANDARD_PARALLEL = "N/A"
  LINE_FIRST_PIXEL = 1
  LINE_LAST_PIXEL = 18778
  LINE_PROJECTION_OFFSET = 44549.875
  MAP_PROJECTION_ROTATION = 0.0
  MAP_PROJECTION_TYPE = SINUSOIDAL
  MAP_RESOLUTION = 1185.42760773333
  MAP_SCALE = 0.05
  MAXIMUM_LATITUDE = 37.6179
  MINIMUM_LATITUDE = 21.7082
  POSITIVE_LONGITUDE_DIRECTION = EAST
  REFERENCE_LATITUDE = "N/A"
  REFERENCE_LONGITUDE = "N/A"
  SAMPLE_FIRST_PIXEL = 1
  SAMPLE_LAST_PIXEL = 2071
  SAMPLE_PROJECTION_OFFSET = 513.125
  SECOND_STANDARD_PARALLEL = "N/A"
  WESTERNMOST_LONGITUDE = 171.525
END_OBJECT = IMAGE_MAP_PROJECTION
/* The JPEG2000 image data file associated with this label. */
OBJECT = COMPRESSED_FILE
  FILE_NAME = "H7438_0000_IR3.JP2"
  RECORD_TYPE = UNDEFINED
  FILE_RECORDS = UNK
  ENCODING_TYPE = "JP2"
  INTERCHANGE_FORMAT = BINARY
  UNCOMPRESSED_FILE_NAME = "H7438_0000_IR3.IMG"
  REQUIRED_STORAGE_BYTES = "38909948"
  ^DESCRIPTION = "JP2INFO.TXT"
END_OBJECT = COMPRESSED_FILE
END
