PDS_VERSION_ID = PDS3
/* FILE DATA ELEMENTS */
RECORD_TYPE = STREAM
/* POINTERS TO DATA OBJECTS */
^COMPRESSED_FILE = "H7439_0001_ND3.JP2"
/* IDENTIFICATION DATA ELEMENTS */
DATA_SET_ID = "MEX-M-HRSC-5-REFDR-MAPPROJECTED-V3.0"
DATA_SET_NAME = "MARS EXPRESS HRSC MAP PROJECTED REFDR V3.0"
DETECTOR_ID = MEX_HRSC_NADIR
EVENT_TYPE = "MARS-REGIONAL-MAPPING-Vo-Te-Eo"
INSTRUMENT_HOST_ID = MEX
INSTRUMENT_HOST_NAME = "MARS EXPRESS"
INSTRUMENT_ID = HRSC
INSTRUMENT_NAME = "HIGH RESOLUTION STEREO CAMERA"
MISSION_NAME = "MARS EXPRESS"
MISSION_PHASE_NAME = ME_Phase_18
PROCESSING_LEVEL_ID = 3
PRODUCT_CREATION_TIME = 2016-07-01T01:18:39.000Z
PRODUCT_ID = "H7439_0001_ND3.JP2"
RELEASE_ID = 0082
REVISION_ID = 0000
/* QUALITY DATA ELEMENTS */
DATA_QUALITY_ID = 1
DATA_QUALITY_DESC = "Data calculated based on original SPICE kernels"
/* TIME DATA ELEMENTS */
SPACECRAFT_CLOCK_START_COUNT = "1/0204172320.08240"
SPACECRAFT_CLOCK_STOP_COUNT = "1/0204172737.50115"
START_TIME = 2009-10-21T02:32:51.119Z
STOP_TIME = 2009-10-21T02:37:16.054Z
/* ORBITAL DATA ELEMENTS */
ASCENDING_NODE_LONGITUDE = 75.45
MAXIMUM_RESOLUTION = 21.1
FOOTPRINT_POINT_LATITUDE = (17.6746,17.6784,17.6819,17.687,17.6892 ,17.6907,17.1792,16.7937,16.2743,16.012 ,15.7484,15.3515,15.084,14.8171,14.5462 ,14.1401,13.8651,13.5906,13.1743, 12.8963,12.6146,12.3329,11.9057,11.6203 ,11.3309,11.0422,10.7493,10.3086, 10.0125,9.71403,9.41461,9.1119,8.65555, 8.34926,8.03954,7.72897,7.41569,7.10045 ,6.62391,6.14235,5.81937,5.49274, 5.16423,4.83401,4.50125,4.16541,3.82772 ,3.48758,2.93695,2.92568,2.91708, 2.90535,2.89882,2.89276,2.88485,3.22583 ,3.56914,3.90944,4.24695,4.58247, 4.91594,5.24661,5.57472,5.90106,6.22533 ,6.54648,6.86614,7.18374,7.4984,7.81224 ,8.12292,8.58563,8.89179,9.19568, 9.64782,9.94752,10.2443,10.54,10.8334, 11.1254,11.4152,11.7038,11.99,12.2755, 12.558,12.8408,13.1195,13.5372,13.8123, 14.2239,14.4954,14.7674,15.0349,15.3029 ,15.5693,15.8332,16.2288,16.7492, 17.2642,17.6746)
FOOTPRINT_POINT_LONGITUDE = (72.8983,72.5903,72.2834,71.7121,71.39, 71.0777,71.0631,71.0518,71.036,71.0278, 71.0194,71.0067,70.998,70.9892,70.98, 70.966,70.9564,70.9466,70.9315,70.9213, 70.9107,70.8999,70.8833,70.8721,70.8605 ,70.8489,70.8367,70.8184,70.806,70.7931 ,70.7801,70.7666,70.7463,70.7323, 70.7179,70.7033,70.6883,70.673,70.6496, 70.6255,70.6082,70.5923,70.5752,70.5578 ,70.54,70.5222,70.5029,70.4847,70.5844, 71.1107,71.5059,72.0345,72.3267,72.5926 ,72.9394,73.1358,73.132,73.1279,73.1241 ,73.1207,73.1171,73.1136,73.1101, 73.1069,73.1035,73.1005,73.0973,73.0944 ,73.0915,73.0886,73.0859,73.0819, 73.0795,73.077,73.0732,73.071,73.0687, 73.0666,73.0645,73.0621,73.0602,73.0579 ,73.0559,73.0537,73.0519,73.0497, 73.0478,73.0446,73.043,73.0402,73.0385, 73.0368,73.0351,73.0324,73.0304,73.0296 ,73.0295,73.0261,73.0224,72.8983)
ORBIT_NUMBER = 7439
ORBITAL_ECCENTRICITY = 0.571
ORBITAL_INCLINATION = 86.83
ORBITAL_SEMIMAJOR_AXIS = 8728.47
PERIAPSIS_ALTITUDE = 358.02
PERIAPSIS_ARGUMENT_ANGLE = 133.39
PERIAPSIS_TIME = 2009-10-21T02:25:11.000Z
SPACECRAFT_ORIENTATION = (0.0,-1.0,0.0)
^MEX_ORIENTATION_DESC = "MEX_ORIENTATION_DESC.TXT"
SPACECRAFT_POINTING_MODE = ACROSSTRACK
^MEX_POINTING_DESC = "MEX_POINTING_DESC.TXT"
RIGHT_ASCENSION = -1e+32
DECLINATION = -1e+32
OFFSET_ANGLE = 0.45
SPACECRAFT_SOLAR_DISTANCE = 2.31992e+08
TARGET_NAME = MARS
/* CAMERA DATA ELEMENTS */
DETECTOR_TEMPERATURE = 19.1861
FOCAL_PLANE_TEMPERATURE = 8.3794
INST_CMPRS_NAME = "DISCRETE COSINE TRANSFORMATION (DCT)"
INST_CMPRS_RATIO = 7.32474
INST_CMPRS_QUALITY = 0
INST_CMPRS_QUANTZ_TBL_ID = 0
INSTRUMENT_TEMPERATURE = 12.4574
LENS_TEMPERATURE = 8.5833
MACROPIXEL_SIZE = 1
MISSING_FRAMES = 0
PIXEL_SUBSAMPLING_FLAG = N
SIGNAL_CHAIN_ID = 0
/* RADIOMETRIC DATA ELEMENTS */
BANDWIDTH = 177.0
CENTER_FILTER_WAVELENGTH = 677.5
RADIANCE_OFFSET = 3.1923
RADIANCE_SCALING_FACTOR = 0.0172134
REFLECTANCE_SCALING_FACTOR = 0.000492154
MEX:REFLECTANCE_OFFSET = 0.0912722
/* IMAGE OBJECT DEFINITIONS */
OBJECT = IMAGE
  INTERCHANGE_FORMAT = BINARY
  LINES = 35114
  LINE_SAMPLES = 6579
  SAMPLE_TYPE = UNSIGNED_INTEGER
  SAMPLE_BITS = 8
  BANDS = 1
  BAND_STORAGE_TYPE = BAND_SEQUENTIAL
  MAXIMUM = 255
  MEAN = 105.16
  MINIMUM = 1
  STANDARD_DEVIATION = 23.9153
END_OBJECT = IMAGE
/* MAP OBJECT DEFINITIONS */
OBJECT = IMAGE_MAP_PROJECTION
  ^DATA_SET_MAP_PROJECTION_CATALOG= "DSMAP.CAT"
  A_AXIS_RADIUS = 3396.0
  B_AXIS_RADIUS = 3396.0
  C_AXIS_RADIUS = 3396.0
  CENTER_LATITUDE = 0.0
  CENTER_LONGITUDE = 72.0
  COORDINATE_SYSTEM_NAME = PLANETOGRAPHIC
  COORDINATE_SYSTEM_TYPE = "BODY-FIXED ROTATING"
  EASTERNMOST_LONGITUDE = 73.1358
  FIRST_STANDARD_PARALLEL = "N/A"
  LINE_FIRST_PIXEL = 1
  LINE_LAST_PIXEL = 35114
  LINE_PROJECTION_OFFSET = 41942.0
  MAP_PROJECTION_ROTATION = 0.0
  MAP_PROJECTION_TYPE = SINUSOIDAL
  MAP_RESOLUTION = 2370.85521546667
  MAP_SCALE = 0.025
  MAXIMUM_LATITUDE = 17.6907
  MINIMUM_LATITUDE = 2.88485
  POSITIVE_LONGITUDE_DIRECTION = EAST
  REFERENCE_LATITUDE = "N/A"
  REFERENCE_LONGITUDE = "N/A"
  SAMPLE_FIRST_PIXEL = 1
  SAMPLE_LAST_PIXEL = 6579
  SAMPLE_PROJECTION_OFFSET = 3729.0
  SECOND_STANDARD_PARALLEL = "N/A"
  WESTERNMOST_LONGITUDE = 70.4847
END_OBJECT = IMAGE_MAP_PROJECTION
/* The JPEG2000 image data file associated with this label. */
OBJECT = COMPRESSED_FILE
  FILE_NAME = "H7439_0001_ND3.JP2"
  RECORD_TYPE = UNDEFINED
  FILE_RECORDS = UNK
  ENCODING_TYPE = "JP2"
  INTERCHANGE_FORMAT = BINARY
  UNCOMPRESSED_FILE_NAME = "H7439_0001_ND3.IMG"
  REQUIRED_STORAGE_BYTES = "231047901"
  ^DESCRIPTION = "JP2INFO.TXT"
END_OBJECT = COMPRESSED_FILE
END
