PDS_VERSION_ID = PDS3
/* FILE DATA ELEMENTS */
RECORD_TYPE = STREAM
/* POINTERS TO DATA OBJECTS */
^COMPRESSED_FILE = "H7439_0001_P13.JP2"
/* IDENTIFICATION DATA ELEMENTS */
DATA_SET_ID = "MEX-M-HRSC-5-REFDR-MAPPROJECTED-V3.0"
DATA_SET_NAME = "MARS EXPRESS HRSC MAP PROJECTED REFDR V3.0"
DETECTOR_ID = MEX_HRSC_P1
EVENT_TYPE = "MARS-REGIONAL-MAPPING-Vo-Te-Eo"
INSTRUMENT_HOST_ID = MEX
INSTRUMENT_HOST_NAME = "MARS EXPRESS"
INSTRUMENT_ID = HRSC
INSTRUMENT_NAME = "HIGH RESOLUTION STEREO CAMERA"
MISSION_NAME = "MARS EXPRESS"
MISSION_PHASE_NAME = ME_Phase_18
PROCESSING_LEVEL_ID = 3
PRODUCT_CREATION_TIME = 2016-07-01T01:18:39.000Z
PRODUCT_ID = "H7439_0001_P13.JP2"
RELEASE_ID = 0082
REVISION_ID = 0000
/* QUALITY DATA ELEMENTS */
DATA_QUALITY_ID = 1
DATA_QUALITY_DESC = "Data calculated based on original SPICE kernels"
/* TIME DATA ELEMENTS */
SPACECRAFT_CLOCK_START_COUNT = "1/0204172320.08240"
SPACECRAFT_CLOCK_STOP_COUNT = "1/0204172737.50115"
START_TIME = 2009-10-21T02:32:18.616Z
STOP_TIME = 2009-10-21T02:36:24.329Z
/* ORBITAL DATA ELEMENTS */
ASCENDING_NODE_LONGITUDE = 75.45
MAXIMUM_RESOLUTION = 41.4
FOOTPRINT_POINT_LATITUDE = (17.6722,17.6795,17.6861,17.6918, 17.6969,17.7012,17.0628,16.5494,16.0279 ,15.7667,15.5029,15.2379,14.9726, 14.7042,14.4344,14.1647,13.7544,13.4804 ,13.2039,12.9253,12.5056,12.2226,11.94, 11.6527,11.3658,10.9305,10.6396,10.3452 ,10.0503,9.75245,9.45342,9.00008, 8.69723,8.3899,8.08241,7.77068,7.30066, 6.98493,6.6662,6.34672,6.02324,5.69861, 5.37148,5.04165,4.54329,4.20896,3.8686, 3.53024,3.18642,2.94471,2.93672,2.92528 ,2.91283,2.90109,2.88569,3.05026, 3.39433,3.90623,4.41279,4.74731,5.07965 ,5.40906,5.73744,6.06192,6.5447,6.86514 ,7.18148,7.49697,7.80938,8.12019, 8.42837,8.73513,9.0392,9.34193,9.64221, 9.94153,10.2373,10.5332,10.8246,11.2618 ,11.5491,11.8371,12.1211,12.4044, 12.6864,12.9655,13.2447,13.521,13.7955, 14.2054,14.4756,14.8807,15.1465,15.4134 ,15.6776,16.1982,16.717,17.1016,17.6133 ,17.6722)
FOOTPRINT_POINT_LONGITUDE = (72.6883,72.3993,72.1115,71.825,71.5398 ,71.2552,71.1077,71.0937,71.0789, 71.0713,71.0635,71.0557,71.0477,71.0394 ,71.0309,71.0224,71.0091,71.0001, 70.9909,70.9814,70.9668,70.9568,70.9467 ,70.9362,70.9257,70.9094,70.8983, 70.8871,70.8756,70.8639,70.8519,70.8334 ,70.8209,70.8081,70.7949,70.7814, 70.7607,70.7466,70.7322,70.7176,70.7026 ,70.6873,70.6719,70.656,70.6318,70.6154 ,70.5979,70.5812,70.5632,70.9114, 71.2009,71.5872,71.9991,72.34,72.7795, 73.0569,73.0542,73.0507,73.0471,73.0449 ,73.0428,73.0406,73.0384,73.0363, 73.0335,73.0315,73.0296,73.0278,73.026, 73.0244,73.0228,73.0212,73.0197,73.0183 ,73.0167,73.0153,73.0139,73.0127, 73.0115,73.0094,73.0082,73.0069,73.0056 ,73.0044,73.0031,73.0019,73.0007, 72.9992,72.9983,72.9966,72.9956,72.994, 72.993,72.9914,72.991,72.9908,72.9886, 72.9882,72.9841,72.6883)
ORBIT_NUMBER = 7439
ORBITAL_ECCENTRICITY = 0.571
ORBITAL_INCLINATION = 86.83
ORBITAL_SEMIMAJOR_AXIS = 8728.47
PERIAPSIS_ALTITUDE = 358.02
PERIAPSIS_ARGUMENT_ANGLE = 133.39
PERIAPSIS_TIME = 2009-10-21T02:25:11.000Z
SPACECRAFT_ORIENTATION = (0.0,-1.0,0.0)
^MEX_ORIENTATION_DESC = "MEX_ORIENTATION_DESC.TXT"
SPACECRAFT_POINTING_MODE = ACROSSTRACK
^MEX_POINTING_DESC = "MEX_POINTING_DESC.TXT"
RIGHT_ASCENSION = -1e+32
DECLINATION = -1e+32
OFFSET_ANGLE = 0.45
SPACECRAFT_SOLAR_DISTANCE = 2.31992e+08
TARGET_NAME = MARS
/* CAMERA DATA ELEMENTS */
DETECTOR_TEMPERATURE = 18.3705
FOCAL_PLANE_TEMPERATURE = 8.3794
INST_CMPRS_NAME = "DISCRETE COSINE TRANSFORMATION (DCT)"
INST_CMPRS_RATIO = 14.132
INST_CMPRS_QUALITY = 0
INST_CMPRS_QUANTZ_TBL_ID = 0
INSTRUMENT_TEMPERATURE = 12.4574
LENS_TEMPERATURE = 8.5833
MACROPIXEL_SIZE = 2
MISSING_FRAMES = 0
PIXEL_SUBSAMPLING_FLAG = N
SIGNAL_CHAIN_ID = 3
/* RADIOMETRIC DATA ELEMENTS */
BANDWIDTH = 174.0
CENTER_FILTER_WAVELENGTH = 675.0
RADIANCE_OFFSET = 3.43503
RADIANCE_SCALING_FACTOR = 0.0156551
REFLECTANCE_SCALING_FACTOR = 0.000453203
MEX:REFLECTANCE_OFFSET = 0.0994412
/* IMAGE OBJECT DEFINITIONS */
OBJECT = IMAGE
  INTERCHANGE_FORMAT = BINARY
  LINES = 17557
  LINE_SAMPLES = 3290
  SAMPLE_TYPE = UNSIGNED_INTEGER
  SAMPLE_BITS = 8
  BANDS = 1
  BAND_STORAGE_TYPE = BAND_SEQUENTIAL
  MAXIMUM = 255
  MEAN = 107.96
  MINIMUM = 1
  STANDARD_DEVIATION = 24.445
END_OBJECT = IMAGE
/* MAP OBJECT DEFINITIONS */
OBJECT = IMAGE_MAP_PROJECTION
  ^DATA_SET_MAP_PROJECTION_CATALOG= "DSMAP.CAT"
  A_AXIS_RADIUS = 3396.0
  B_AXIS_RADIUS = 3396.0
  C_AXIS_RADIUS = 3396.0
  CENTER_LATITUDE = 0.0
  CENTER_LONGITUDE = 72.0
  COORDINATE_SYSTEM_NAME = PLANETOGRAPHIC
  COORDINATE_SYSTEM_TYPE = "BODY-FIXED ROTATING"
  EASTERNMOST_LONGITUDE = 73.0569
  FIRST_STANDARD_PARALLEL = "N/A"
  LINE_FIRST_PIXEL = 1
  LINE_LAST_PIXEL = 17557
  LINE_PROJECTION_OFFSET = 20970.75
  MAP_PROJECTION_ROTATION = 0.0
  MAP_PROJECTION_TYPE = SINUSOIDAL
  MAP_RESOLUTION = 1185.42760773333
  MAP_SCALE = 0.05
  MAXIMUM_LATITUDE = 17.7012
  MINIMUM_LATITUDE = 2.88569
  POSITIVE_LONGITUDE_DIRECTION = EAST
  REFERENCE_LATITUDE = "N/A"
  REFERENCE_LONGITUDE = "N/A"
  SAMPLE_FIRST_PIXEL = 1
  SAMPLE_LAST_PIXEL = 3290
  SAMPLE_PROJECTION_OFFSET = 1864.25
  SECOND_STANDARD_PARALLEL = "N/A"
  WESTERNMOST_LONGITUDE = 70.56319999999999
END_OBJECT = IMAGE_MAP_PROJECTION
/* The JPEG2000 image data file associated with this label. */
OBJECT = COMPRESSED_FILE
  FILE_NAME = "H7439_0001_P13.JP2"
  RECORD_TYPE = UNDEFINED
  FILE_RECORDS = UNK
  ENCODING_TYPE = "JP2"
  INTERCHANGE_FORMAT = BINARY
  UNCOMPRESSED_FILE_NAME = "H7439_0001_P13.IMG"
  REQUIRED_STORAGE_BYTES = "57785560"
  ^DESCRIPTION = "JP2INFO.TXT"
END_OBJECT = COMPRESSED_FILE
END
