PDS_VERSION_ID = PDS3
/* FILE DATA ELEMENTS */
RECORD_TYPE = STREAM
/* POINTERS TO DATA OBJECTS */
^COMPRESSED_FILE = "H7440_0000_ND3.JP2"
/* IDENTIFICATION DATA ELEMENTS */
DATA_SET_ID = "MEX-M-HRSC-5-REFDR-MAPPROJECTED-V3.0"
DATA_SET_NAME = "MARS EXPRESS HRSC MAP PROJECTED REFDR V3.0"
DETECTOR_ID = MEX_HRSC_NADIR
EVENT_TYPE = "MARS-REGIONAL-MAPPING-Vo-Lc-Pf"
INSTRUMENT_HOST_ID = MEX
INSTRUMENT_HOST_NAME = "MARS EXPRESS"
INSTRUMENT_ID = HRSC
INSTRUMENT_NAME = "HIGH RESOLUTION STEREO CAMERA"
MISSION_NAME = "MARS EXPRESS"
MISSION_PHASE_NAME = ME_Phase_18
PROCESSING_LEVEL_ID = 3
PRODUCT_CREATION_TIME = 2016-07-01T01:18:39.000Z
PRODUCT_ID = "H7440_0000_ND3.JP2"
RELEASE_ID = 0082
REVISION_ID = 0000
/* QUALITY DATA ELEMENTS */
DATA_QUALITY_ID = 1
DATA_QUALITY_DESC = "Data calculated based on original SPICE kernels"
/* TIME DATA ELEMENTS */
SPACECRAFT_CLOCK_START_COUNT = "1/0204196750.09130"
SPACECRAFT_CLOCK_STOP_COUNT = "1/0204197079.58410"
START_TIME = 2009-10-21T09:19:45.128Z
STOP_TIME = 2009-10-21T09:23:57.122Z
/* ORBITAL DATA ELEMENTS */
ASCENDING_NODE_LONGITUDE = 75.44
MAXIMUM_RESOLUTION = 14.6
FOOTPRINT_POINT_LATITUDE = (43.4249,43.4156,43.4,43.1117,42.8264, 42.5412,42.256,41.9709,41.6859,41.4009, 41.116,40.5465,39.9775,39.4089,38.8408, 38.5187,38.1801,37.8418,37.5036,37.1657 ,36.828,36.4906,36.1534,35.8164,35.4798 ,35.1434,34.8073,34.4715,34.136,33.8008 ,33.4659,33.1314,32.7972,32.4633, 32.1298,31.7966,31.4638,31.1314,30.7994 ,30.4677,29.9617,29.6222,29.2831, 28.9444,28.5992,28.2526,27.9065,27.5608 ,27.3873,27.3892,27.3901,27.5673, 27.9136,28.2604,28.6077,28.9535,29.2929 ,29.6326,29.9728,30.4798,30.812,31.1447 ,31.4777,31.8112,32.1449,32.4791, 32.8136,33.1484,33.4836,33.8191,34.1549 ,34.4911,34.8275,35.1643,35.5013, 35.8386,36.1762,36.5141,36.8522,37.1906 ,37.5292,37.868,38.2071,38.5464,38.8692 ,39.4385,40.0083,40.2934,40.5786, 40.8639,41.1493,41.4349,41.7205,42.0062 ,42.292,42.5778,42.8638,43.1498,43.4359 ,43.4249)
FOOTPRINT_POINT_LONGITUDE = (330.709,330.277,329.678,329.55,329.565 ,329.58,329.594,329.605,329.617,329.633 ,329.646,329.669,329.691,329.712, 329.732,329.742,329.753,329.763,329.773 ,329.782,329.791,329.799,329.807, 329.815,329.822,329.828,329.835,329.841 ,329.846,329.852,329.856,329.861, 329.865,329.869,329.872,329.876,329.878 ,329.881,329.883,329.885,329.887, 329.888,329.889,329.889,329.89,329.89, 329.889,329.888,330.396,330.785,331.276 ,331.604,331.6,331.595,331.591,331.586, 331.582,331.577,331.572,331.565,331.56, 331.555,331.55,331.545,331.54,331.535, 331.529,331.524,331.518,331.512,331.507 ,331.501,331.494,331.488,331.482, 331.476,331.469,331.462,331.456,331.449 ,331.442,331.434,331.427,331.42,331.412 ,331.399,331.386,331.379,331.371, 331.364,331.357,331.349,331.342,331.334 ,331.326,331.318,331.31,331.301,331.293 ,330.709)
ORBIT_NUMBER = 7440
ORBITAL_ECCENTRICITY = 0.571
ORBITAL_INCLINATION = 86.83
ORBITAL_SEMIMAJOR_AXIS = 8720.35
PERIAPSIS_ALTITUDE = 358.88
PERIAPSIS_ARGUMENT_ANGLE = 133.21
PERIAPSIS_TIME = 2009-10-21T09:18:54.000Z
SPACECRAFT_ORIENTATION = (0.0,-1.0,0.0)
^MEX_ORIENTATION_DESC = "MEX_ORIENTATION_DESC.TXT"
SPACECRAFT_POINTING_MODE = NADIR
^MEX_POINTING_DESC = "MEX_POINTING_DESC.TXT"
RIGHT_ASCENSION = -1e+32
DECLINATION = -1e+32
OFFSET_ANGLE = -1e+32
SPACECRAFT_SOLAR_DISTANCE = 2.32046e+08
TARGET_NAME = MARS
/* CAMERA DATA ELEMENTS */
DETECTOR_TEMPERATURE = 18.1666
FOCAL_PLANE_TEMPERATURE = 7.7677
INST_CMPRS_NAME = "DISCRETE COSINE TRANSFORMATION (DCT)"
INST_CMPRS_RATIO = 7.98854
INST_CMPRS_QUALITY = 0
INST_CMPRS_QUANTZ_TBL_ID = 0
INSTRUMENT_TEMPERATURE = 10.8262
LENS_TEMPERATURE = 8.3794
MACROPIXEL_SIZE = 1
MISSING_FRAMES = 0
PIXEL_SUBSAMPLING_FLAG = N
SIGNAL_CHAIN_ID = 0
/* RADIOMETRIC DATA ELEMENTS */
BANDWIDTH = 177.0
CENTER_FILTER_WAVELENGTH = 677.5
RADIANCE_OFFSET = 2.8747
RADIANCE_SCALING_FACTOR = 0.0140342
REFLECTANCE_SCALING_FACTOR = 0.00040144
MEX:REFLECTANCE_OFFSET = 0.0822294
/* IMAGE OBJECT DEFINITIONS */
OBJECT = IMAGE
  INTERCHANGE_FORMAT = BINARY
  LINES = 76113
  LINE_SAMPLES = 7741
  SAMPLE_TYPE = UNSIGNED_INTEGER
  SAMPLE_BITS = 8
  BANDS = 1
  BAND_STORAGE_TYPE = BAND_SEQUENTIAL
  MAXIMUM = 255
  MEAN = 85.2658
  MINIMUM = 1
  STANDARD_DEVIATION = 25.1656
END_OBJECT = IMAGE
/* MAP OBJECT DEFINITIONS */
OBJECT = IMAGE_MAP_PROJECTION
  ^DATA_SET_MAP_PROJECTION_CATALOG= "DSMAP.CAT"
  A_AXIS_RADIUS = 3396.0
  B_AXIS_RADIUS = 3396.0
  C_AXIS_RADIUS = 3396.0
  CENTER_LATITUDE = 0.0
  CENTER_LONGITUDE = 331.0
  COORDINATE_SYSTEM_NAME = PLANETOGRAPHIC
  COORDINATE_SYSTEM_TYPE = "BODY-FIXED ROTATING"
  EASTERNMOST_LONGITUDE = 331.604
  FIRST_STANDARD_PARALLEL = "N/A"
  LINE_FIRST_PIXEL = 1
  LINE_LAST_PIXEL = 76113
  LINE_PROJECTION_OFFSET = 205953.0
  MAP_PROJECTION_ROTATION = 0.0
  MAP_PROJECTION_TYPE = SINUSOIDAL
  MAP_RESOLUTION = 4741.71043093333
  MAP_SCALE = 0.0125
  MAXIMUM_LATITUDE = 43.4359
  MINIMUM_LATITUDE = 27.3873
  POSITIVE_LONGITUDE_DIRECTION = EAST
  REFERENCE_LATITUDE = "N/A"
  REFERENCE_LONGITUDE = "N/A"
  SAMPLE_FIRST_PIXEL = 1
  SAMPLE_LAST_PIXEL = 7741
  SAMPLE_PROJECTION_OFFSET = 5076.0
  SECOND_STANDARD_PARALLEL = "N/A"
  WESTERNMOST_LONGITUDE = 329.55
END_OBJECT = IMAGE_MAP_PROJECTION
/* The JPEG2000 image data file associated with this label. */
OBJECT = COMPRESSED_FILE
  FILE_NAME = "H7440_0000_ND3.JP2"
  RECORD_TYPE = UNDEFINED
  FILE_RECORDS = UNK
  ENCODING_TYPE = "JP2"
  INTERCHANGE_FORMAT = BINARY
  UNCOMPRESSED_FILE_NAME = "H7440_0000_ND3.IMG"
  REQUIRED_STORAGE_BYTES = "589221697"
  ^DESCRIPTION = "JP2INFO.TXT"
END_OBJECT = COMPRESSED_FILE
END
