PDS_VERSION_ID = PDS3
/* FILE DATA ELEMENTS */
RECORD_TYPE = STREAM
/* POINTERS TO DATA OBJECTS */
^COMPRESSED_FILE = "H7440_0000_P13.JP2"
/* IDENTIFICATION DATA ELEMENTS */
DATA_SET_ID = "MEX-M-HRSC-5-REFDR-MAPPROJECTED-V3.0"
DATA_SET_NAME = "MARS EXPRESS HRSC MAP PROJECTED REFDR V3.0"
DETECTOR_ID = MEX_HRSC_P1
EVENT_TYPE = "MARS-REGIONAL-MAPPING-Vo-Lc-Pf"
INSTRUMENT_HOST_ID = MEX
INSTRUMENT_HOST_NAME = "MARS EXPRESS"
INSTRUMENT_ID = HRSC
INSTRUMENT_NAME = "HIGH RESOLUTION STEREO CAMERA"
MISSION_NAME = "MARS EXPRESS"
MISSION_PHASE_NAME = ME_Phase_18
PROCESSING_LEVEL_ID = 3
PRODUCT_CREATION_TIME = 2016-07-01T01:18:39.000Z
PRODUCT_ID = "H7440_0000_P13.JP2"
RELEASE_ID = 0082
REVISION_ID = 0000
/* QUALITY DATA ELEMENTS */
DATA_QUALITY_ID = 1
DATA_QUALITY_DESC = "Data calculated based on original SPICE kernels"
/* TIME DATA ELEMENTS */
SPACECRAFT_CLOCK_START_COUNT = "1/0204196750.09130"
SPACECRAFT_CLOCK_STOP_COUNT = "1/0204197079.58410"
START_TIME = 2009-10-21T09:19:23.778Z
STOP_TIME = 2009-10-21T09:23:31.140Z
/* ORBITAL DATA ELEMENTS */
ASCENDING_NODE_LONGITUDE = 75.44
MAXIMUM_RESOLUTION = 29.8
FOOTPRINT_POINT_LATITUDE = (43.4707,43.4613,43.4481,43.3828, 43.0964,42.6667,42.2368,41.8007,41.5187 ,41.2315,40.9443,40.6569,40.226,39.9385 ,39.5074,39.2199,38.9323,38.6448, 38.0696,37.6383,37.3509,37.0131,36.498, 35.9828,35.469,35.1258,34.7829,34.4398, 33.9255,33.5829,33.2404,32.898,32.5558, 32.2136,31.8715,31.3585,31.017,30.6752, 30.334,29.8224,29.4818,29.1413,28.8009, 28.2794,27.9305,27.5817,27.3796,27.3822 ,27.3837,27.3855,27.3859,27.3865, 27.7356,27.9103,28.085,28.2597,28.4345, 28.7831,29.1243,29.6362,29.9777,30.3195 ,30.6615,31.0035,31.3456,31.6879, 32.0304,32.3734,32.7161,33.0591,33.4024 ,33.917,34.4323,34.9476,35.2913,35.6349 ,35.9789,36.3227,36.6665,37.0104, 37.3537,37.6418,37.93,38.3623,38.6504, 39.0825,39.3707,39.6587,39.9469,40.2349 ,40.6668,41.0986,41.5303,41.8182, 42.1059,42.3935,42.681,43.1122,43.3995, 43.4707)
FOOTPRINT_POINT_LONGITUDE = (330.752,330.328,329.84,329.542,329.558 ,329.581,329.603,329.62,329.636,329.649 ,329.662,329.674,329.692,329.703,329.72 ,329.73,329.741,329.75,329.769,329.782, 329.791,329.8,329.814,329.826,329.838, 329.845,329.852,329.859,329.868,329.873 ,329.878,329.883,329.888,329.892, 329.896,329.901,329.904,329.906,329.908 ,329.911,329.913,329.914,329.915, 329.915,329.916,329.915,330.109,330.383 ,330.61,330.982,331.24,331.586,331.582, 331.58,331.578,331.576,331.574,331.57, 331.566,331.559,331.555,331.551,331.546 ,331.542,331.537,331.532,331.528, 331.522,331.518,331.512,331.507,331.499 ,331.491,331.482,331.476,331.47,331.464 ,331.458,331.451,331.445,331.438, 331.432,331.427,331.418,331.412,331.402 ,331.396,331.39,331.383,331.376,331.366 ,331.356,331.345,331.338,331.33,331.323 ,331.315,331.303,331.295,330.752)
ORBIT_NUMBER = 7440
ORBITAL_ECCENTRICITY = 0.571
ORBITAL_INCLINATION = 86.83
ORBITAL_SEMIMAJOR_AXIS = 8720.35
PERIAPSIS_ALTITUDE = 358.88
PERIAPSIS_ARGUMENT_ANGLE = 133.21
PERIAPSIS_TIME = 2009-10-21T09:18:54.000Z
SPACECRAFT_ORIENTATION = (0.0,-1.0,0.0)
^MEX_ORIENTATION_DESC = "MEX_ORIENTATION_DESC.TXT"
SPACECRAFT_POINTING_MODE = NADIR
^MEX_POINTING_DESC = "MEX_POINTING_DESC.TXT"
RIGHT_ASCENSION = -1e+32
DECLINATION = -1e+32
OFFSET_ANGLE = -1e+32
SPACECRAFT_SOLAR_DISTANCE = 2.32046e+08
TARGET_NAME = MARS
/* CAMERA DATA ELEMENTS */
DETECTOR_TEMPERATURE = 17.1471
FOCAL_PLANE_TEMPERATURE = 7.7677
INST_CMPRS_NAME = "DISCRETE COSINE TRANSFORMATION (DCT)"
INST_CMPRS_RATIO = 12.6842
INST_CMPRS_QUALITY = 0
INST_CMPRS_QUANTZ_TBL_ID = 0
INSTRUMENT_TEMPERATURE = 10.8262
LENS_TEMPERATURE = 8.3794
MACROPIXEL_SIZE = 2
MISSING_FRAMES = 0
PIXEL_SUBSAMPLING_FLAG = N
SIGNAL_CHAIN_ID = 3
/* RADIOMETRIC DATA ELEMENTS */
BANDWIDTH = 174.0
CENTER_FILTER_WAVELENGTH = 675.0
RADIANCE_OFFSET = 3.20109
RADIANCE_SCALING_FACTOR = 0.0129337
REFLECTANCE_SCALING_FACTOR = 0.000374589
MEX:REFLECTANCE_OFFSET = 0.0927109
/* IMAGE OBJECT DEFINITIONS */
OBJECT = IMAGE
  INTERCHANGE_FORMAT = BINARY
  LINES = 38057
  LINE_SAMPLES = 3871
  SAMPLE_TYPE = UNSIGNED_INTEGER
  SAMPLE_BITS = 8
  BANDS = 1
  BAND_STORAGE_TYPE = BAND_SEQUENTIAL
  MAXIMUM = 255
  MEAN = 88.9317
  MINIMUM = 1
  STANDARD_DEVIATION = 24.102
END_OBJECT = IMAGE
/* MAP OBJECT DEFINITIONS */
OBJECT = IMAGE_MAP_PROJECTION
  ^DATA_SET_MAP_PROJECTION_CATALOG= "DSMAP.CAT"
  A_AXIS_RADIUS = 3396.0
  B_AXIS_RADIUS = 3396.0
  C_AXIS_RADIUS = 3396.0
  CENTER_LATITUDE = 0.0
  CENTER_LONGITUDE = 331.0
  COORDINATE_SYSTEM_NAME = PLANETOGRAPHIC
  COORDINATE_SYSTEM_TYPE = "BODY-FIXED ROTATING"
  EASTERNMOST_LONGITUDE = 331.586
  FIRST_STANDARD_PARALLEL = "N/A"
  LINE_FIRST_PIXEL = 1
  LINE_LAST_PIXEL = 38057
  LINE_PROJECTION_OFFSET = 102976.25
  MAP_PROJECTION_ROTATION = 0.0
  MAP_PROJECTION_TYPE = SINUSOIDAL
  MAP_RESOLUTION = 2370.85521546667
  MAP_SCALE = 0.025
  MAXIMUM_LATITUDE = 43.4707
  MINIMUM_LATITUDE = 27.3796
  POSITIVE_LONGITUDE_DIRECTION = EAST
  REFERENCE_LATITUDE = "N/A"
  REFERENCE_LONGITUDE = "N/A"
  SAMPLE_FIRST_PIXEL = 1
  SAMPLE_LAST_PIXEL = 3871
  SAMPLE_PROJECTION_OFFSET = 2537.75
  SECOND_STANDARD_PARALLEL = "N/A"
  WESTERNMOST_LONGITUDE = 329.542
END_OBJECT = IMAGE_MAP_PROJECTION
/* The JPEG2000 image data file associated with this label. */
OBJECT = COMPRESSED_FILE
  FILE_NAME = "H7440_0000_P13.JP2"
  RECORD_TYPE = UNDEFINED
  FILE_RECORDS = UNK
  ENCODING_TYPE = "JP2"
  INTERCHANGE_FORMAT = BINARY
  UNCOMPRESSED_FILE_NAME = "H7440_0000_P13.IMG"
  REQUIRED_STORAGE_BYTES = "147341873"
  ^DESCRIPTION = "JP2INFO.TXT"
END_OBJECT = COMPRESSED_FILE
END
