PDS_VERSION_ID = PDS3
/* FILE DATA ELEMENTS */
RECORD_TYPE = STREAM
/* POINTERS TO DATA OBJECTS */
^COMPRESSED_FILE = "H7441_0000_P23.JP2"
/* IDENTIFICATION DATA ELEMENTS */
DATA_SET_ID = "MEX-M-HRSC-5-REFDR-MAPPROJECTED-V3.0"
DATA_SET_NAME = "MARS EXPRESS HRSC MAP PROJECTED REFDR V3.0"
DETECTOR_ID = MEX_HRSC_P2
EVENT_TYPE = "MARS-REGIONAL-MAPPING-Vo-Te-Pf"
INSTRUMENT_HOST_ID = MEX
INSTRUMENT_HOST_NAME = "MARS EXPRESS"
INSTRUMENT_ID = HRSC
INSTRUMENT_NAME = "HIGH RESOLUTION STEREO CAMERA"
MISSION_NAME = "MARS EXPRESS"
MISSION_PHASE_NAME = ME_Phase_18
PROCESSING_LEVEL_ID = 3
PRODUCT_CREATION_TIME = 2016-07-01T01:18:39.000Z
PRODUCT_ID = "H7441_0000_P23.JP2"
RELEASE_ID = 0082
REVISION_ID = 0000
/* QUALITY DATA ELEMENTS */
DATA_QUALITY_ID = 1
DATA_QUALITY_DESC = "Data calculated based on original SPICE kernels"
/* TIME DATA ELEMENTS */
SPACECRAFT_CLOCK_START_COUNT = "1/0204221436.08248"
SPACECRAFT_CLOCK_STOP_COUNT = "1/0204221654.47014"
START_TIME = 2009-10-21T16:11:34.489Z
STOP_TIME = 2009-10-21T16:14:03.370Z
/* ORBITAL DATA ELEMENTS */
ASCENDING_NODE_LONGITUDE = 75.42
MAXIMUM_RESOLUTION = 29.6
FOOTPRINT_POINT_LATITUDE = (52.2176,52.2109,52.2035,52.1955, 52.1867,52.2345,52.0417,51.849,51.6562, 51.4636,51.2706,51.0778,50.789,50.5963, 50.4039,50.2112,50.0186,49.8262,49.5376 ,49.3453,49.1528,48.9605,48.6723, 48.4801,48.1919,47.9038,47.7118,47.4238 ,47.2319,47.04,46.8483,46.6565,46.4649, 46.1775,45.8903,45.6989,45.4119,45.1249 ,44.8384,44.6473,44.4562,44.2655, 44.0749,43.8842,43.5984,43.3124,43.1222 ,42.932,42.7421,42.6446,42.6479,42.6501 ,42.6537,42.656,42.6575,42.7545,42.9454 ,43.2317,43.4227,43.6137,43.8048, 43.9962,44.1872,44.4742,44.7618,44.9534 ,45.145,45.3367,45.5287,45.7206,45.9127 ,46.2009,46.3931,46.5853,46.8739, 47.0664,47.2588,47.5475,47.7399,47.9325 ,48.222,48.4149,48.6078,48.8006,49.0901 ,49.2831,49.4763,49.7661,49.9592, 50.1525,50.3462,50.6362,50.9265,51.1199 ,51.3134,51.6037,51.7971,51.9907, 52.1844,52.2176)
FOOTPRINT_POINT_LONGITUDE = (228.753,228.442,228.129,227.814, 227.497,227.103,227.129,227.155,227.18, 227.205,227.229,227.254,227.289,227.312 ,227.335,227.357,227.379,227.401, 227.433,227.454,227.475,227.495,227.524 ,227.544,227.573,227.6,227.619,227.646, 227.664,227.681,227.698,227.715,227.731 ,227.756,227.779,227.795,227.818,227.84 ,227.862,227.876,227.89,227.904,227.917 ,227.931,227.95,227.97,227.982,227.994, 228.006,228.133,228.392,228.598,228.955 ,229.26,229.511,229.764,229.755,229.743 ,229.735,229.726,229.718,229.709,229.7, 229.687,229.673,229.664,229.655,229.645 ,229.636,229.626,229.616,229.602, 229.592,229.581,229.566,229.555,229.545 ,229.529,229.518,229.507,229.49,229.479 ,229.467,229.456,229.438,229.426, 229.414,229.395,229.383,229.37,229.357, 229.338,229.318,229.304,229.291,229.27, 229.256,229.242,229.227,228.753)
ORBIT_NUMBER = 7441
ORBITAL_ECCENTRICITY = 0.571
ORBITAL_INCLINATION = 86.83
ORBITAL_SEMIMAJOR_AXIS = 8725.38
PERIAPSIS_ALTITUDE = 358.26
PERIAPSIS_ARGUMENT_ANGLE = 133.02
PERIAPSIS_TIME = 2009-10-21T16:12:36.000Z
SPACECRAFT_ORIENTATION = (0.0,-1.0,0.0)
^MEX_ORIENTATION_DESC = "MEX_ORIENTATION_DESC.TXT"
SPACECRAFT_POINTING_MODE = ACROSSTRACK
^MEX_POINTING_DESC = "MEX_POINTING_DESC.TXT"
RIGHT_ASCENSION = -1e+32
DECLINATION = -1e+32
OFFSET_ANGLE = -0.5
SPACECRAFT_SOLAR_DISTANCE = 2.321e+08
TARGET_NAME = MARS
/* CAMERA DATA ELEMENTS */
DETECTOR_TEMPERATURE = 18.3705
FOCAL_PLANE_TEMPERATURE = 8.1755
INST_CMPRS_NAME = "DISCRETE COSINE TRANSFORMATION (DCT)"
INST_CMPRS_RATIO = 6.36203
INST_CMPRS_QUALITY = 0
INST_CMPRS_QUANTZ_TBL_ID = 0
INSTRUMENT_TEMPERATURE = 11.234
LENS_TEMPERATURE = 8.5833
MACROPIXEL_SIZE = 2
MISSING_FRAMES = 0
PIXEL_SUBSAMPLING_FLAG = N
SIGNAL_CHAIN_ID = 3
/* RADIOMETRIC DATA ELEMENTS */
BANDWIDTH = 177.0
CENTER_FILTER_WAVELENGTH = 676.5
RADIANCE_OFFSET = 4.65685
RADIANCE_SCALING_FACTOR = 0.0195984
REFLECTANCE_SCALING_FACTOR = 0.000559794
MEX:REFLECTANCE_OFFSET = 0.133015
/* IMAGE OBJECT DEFINITIONS */
OBJECT = IMAGE
  INTERCHANGE_FORMAT = BINARY
  LINES = 22934
  LINE_SAMPLES = 4103
  SAMPLE_TYPE = UNSIGNED_INTEGER
  SAMPLE_BITS = 8
  BANDS = 1
  BAND_STORAGE_TYPE = BAND_SEQUENTIAL
  MAXIMUM = 255
  MEAN = 105.856
  MINIMUM = 1
  STANDARD_DEVIATION = 16.8409
END_OBJECT = IMAGE
/* MAP OBJECT DEFINITIONS */
OBJECT = IMAGE_MAP_PROJECTION
  ^DATA_SET_MAP_PROJECTION_CATALOG= "DSMAP.CAT"
  A_AXIS_RADIUS = 3396.0
  B_AXIS_RADIUS = 3396.0
  C_AXIS_RADIUS = 3396.0
  CENTER_LATITUDE = 0.0
  CENTER_LONGITUDE = 229.0
  COORDINATE_SYSTEM_NAME = PLANETOGRAPHIC
  COORDINATE_SYSTEM_TYPE = "BODY-FIXED ROTATING"
  EASTERNMOST_LONGITUDE = 229.764
  FIRST_STANDARD_PARALLEL = "N/A"
  LINE_FIRST_PIXEL = 1
  LINE_LAST_PIXEL = 22934
  LINE_PROJECTION_OFFSET = 123995.25
  MAP_PROJECTION_ROTATION = 0.0
  MAP_PROJECTION_TYPE = SINUSOIDAL
  MAP_RESOLUTION = 2370.85521546667
  MAP_SCALE = 0.025
  MAXIMUM_LATITUDE = 52.2345
  MINIMUM_LATITUDE = 42.6446
  POSITIVE_LONGITUDE_DIRECTION = EAST
  REFERENCE_LATITUDE = "N/A"
  REFERENCE_LONGITUDE = "N/A"
  SAMPLE_FIRST_PIXEL = 1
  SAMPLE_LAST_PIXEL = 4103
  SAMPLE_PROJECTION_OFFSET = 2788.25
  SECOND_STANDARD_PARALLEL = "N/A"
  WESTERNMOST_LONGITUDE = 227.103
END_OBJECT = IMAGE_MAP_PROJECTION
/* The JPEG2000 image data file associated with this label. */
OBJECT = COMPRESSED_FILE
  FILE_NAME = "H7441_0000_P23.JP2"
  RECORD_TYPE = UNDEFINED
  FILE_RECORDS = UNK
  ENCODING_TYPE = "JP2"
  INTERCHANGE_FORMAT = BINARY
  UNCOMPRESSED_FILE_NAME = "H7441_0000_P23.IMG"
  REQUIRED_STORAGE_BYTES = "94122820"
  ^DESCRIPTION = "JP2INFO.TXT"
END_OBJECT = COMPRESSED_FILE
END
