PDS_VERSION_ID = PDS3
/* FILE DATA ELEMENTS */
RECORD_TYPE = STREAM
/* POINTERS TO DATA OBJECTS */
^COMPRESSED_FILE = "H7443_0000_IR3.JP2"
/* IDENTIFICATION DATA ELEMENTS */
DATA_SET_ID = "MEX-M-HRSC-5-REFDR-MAPPROJECTED-V3.0"
DATA_SET_NAME = "MARS EXPRESS HRSC MAP PROJECTED REFDR V3.0"
DETECTOR_ID = MEX_HRSC_IR
EVENT_TYPE = "MARS-REGIONAL-MAPPING-Im-Fl-La"
INSTRUMENT_HOST_ID = MEX
INSTRUMENT_HOST_NAME = "MARS EXPRESS"
INSTRUMENT_ID = HRSC
INSTRUMENT_NAME = "HIGH RESOLUTION STEREO CAMERA"
MISSION_NAME = "MARS EXPRESS"
MISSION_PHASE_NAME = ME_Phase_18
PROCESSING_LEVEL_ID = 3
PRODUCT_CREATION_TIME = 2016-07-01T01:18:39.000Z
PRODUCT_ID = "H7443_0000_IR3.JP2"
RELEASE_ID = 0082
REVISION_ID = 0000
/* QUALITY DATA ELEMENTS */
DATA_QUALITY_ID = 1
DATA_QUALITY_DESC = "Data calculated based on original SPICE kernels"
/* TIME DATA ELEMENTS */
SPACECRAFT_CLOCK_START_COUNT = "1/0204271384.08262"
SPACECRAFT_CLOCK_STOP_COUNT = "1/0204271746.16630"
START_TIME = 2009-10-22T06:03:12.488Z
STOP_TIME = 2009-10-22T06:07:24.976Z
/* ORBITAL DATA ELEMENTS */
ASCENDING_NODE_LONGITUDE = 75.38
MAXIMUM_RESOLUTION = 128.6
FOOTPRINT_POINT_LATITUDE = (33.6461,33.6454,33.6421,33.5967, 33.3002,33.0007,32.5469,32.2429,31.9407 ,31.641,31.3432,30.8979,30.5997,30.3004 ,30.0,29.7008,29.4025,29.1039,28.8025, 28.4929,28.0308,27.7237,27.4233,27.1099 ,26.7956,26.4821,26.1688,25.6899, 25.3696,25.0509,24.5636,24.2355,23.909, 23.5797,23.2434,22.9101,22.5759,22.2352 ,21.8924,21.5511,21.2041,20.8547,20.507 ,20.1532,19.7979,19.4424,19.0802,18.538 ,18.1701,17.8009,17.3843,17.3806,17.377 ,17.371,17.3644,17.9234,18.2923,18.6593 ,19.0221,19.5646,19.9217,20.2782, 20.6341,21.1533,21.5005,22.0147,22.358, 22.6954,23.0277,23.3633,23.6966,24.0248 ,24.3539,24.6819,25.01,25.3322,25.8155, 26.1374,26.6065,26.9203,27.2352,27.547, 27.851,28.1566,28.4637,28.7703,29.2227, 29.5218,29.8212,30.1214,30.4217,30.8707 ,31.3219,31.7725,32.2202,32.5189, 32.8173,33.1166,33.4188,33.6461)
FOOTPRINT_POINT_LONGITUDE = (28.957,28.4825,28.0095,27.474,27.4792, 27.4832,27.487,27.4888,27.4909,27.4935, 27.4964,27.5007,27.5028,27.5043,27.5052 ,27.5061,27.5071,27.5077,27.5082, 27.5073,27.5062,27.5055,27.5066,27.5058 ,27.5044,27.503,27.5014,27.4985,27.4964 ,27.4945,27.4898,27.4866,27.4836, 27.4796,27.4753,27.4716,27.4673,27.4623 ,27.457,27.4519,27.4461,27.4401,27.4342 ,27.4277,27.421,27.414,27.4067,27.3954, 27.3876,27.379,27.5242,28.0654,28.3626, 28.7658,29.2344,29.2308,29.2287,29.2261 ,29.2237,29.2198,29.2169,29.2143, 29.2098,29.2081,29.2059,29.2016,29.1987 ,29.1962,29.1949,29.1923,29.1896, 29.1868,29.1838,29.1813,29.1762,29.1729 ,29.1679,29.1641,29.1605,29.1576, 29.1543,29.151,29.1491,29.1466,29.1433, 29.1402,29.1355,29.1323,29.1289,29.1251 ,29.1213,29.1163,29.1101,29.1042, 29.0997,29.0966,29.0936,29.09,29.085, 28.957)
ORBIT_NUMBER = 7443
ORBITAL_ECCENTRICITY = 0.571
ORBITAL_INCLINATION = 86.82
ORBITAL_SEMIMAJOR_AXIS = 8724.83
PERIAPSIS_ALTITUDE = 359.33
PERIAPSIS_ARGUMENT_ANGLE = 132.7
PERIAPSIS_TIME = 2009-10-22T06:00:09.000Z
SPACECRAFT_ORIENTATION = (0.0,-1.0,0.0)
^MEX_ORIENTATION_DESC = "MEX_ORIENTATION_DESC.TXT"
SPACECRAFT_POINTING_MODE = ACROSSTRACK
^MEX_POINTING_DESC = "MEX_POINTING_DESC.TXT"
RIGHT_ASCENSION = -1e+32
DECLINATION = -1e+32
OFFSET_ANGLE = 0.12
SPACECRAFT_SOLAR_DISTANCE = 2.32208e+08
TARGET_NAME = MARS
/* CAMERA DATA ELEMENTS */
DETECTOR_TEMPERATURE = 17.1471
FOCAL_PLANE_TEMPERATURE = 7.9716
INST_CMPRS_NAME = "DISCRETE COSINE TRANSFORMATION (DCT)"
INST_CMPRS_RATIO = 13.5839
INST_CMPRS_QUALITY = 0
INST_CMPRS_QUANTZ_TBL_ID = 0
INSTRUMENT_TEMPERATURE = 11.234
LENS_TEMPERATURE = 8.3794
MACROPIXEL_SIZE = 8
MISSING_FRAMES = 0
PIXEL_SUBSAMPLING_FLAG = N
SIGNAL_CHAIN_ID = 2
/* RADIOMETRIC DATA ELEMENTS */
BANDWIDTH = 81.0
CENTER_FILTER_WAVELENGTH = 955.5
RADIANCE_OFFSET = 1.66155
RADIANCE_SCALING_FACTOR = 0.00566598
REFLECTANCE_SCALING_FACTOR = 0.000659109
MEX:REFLECTANCE_OFFSET = 0.193284
/* IMAGE OBJECT DEFINITIONS */
OBJECT = IMAGE
  INTERCHANGE_FORMAT = BINARY
  LINES = 9626
  LINE_SAMPLES = 1167
  SAMPLE_TYPE = UNSIGNED_INTEGER
  SAMPLE_BITS = 8
  BANDS = 1
  BAND_STORAGE_TYPE = BAND_SEQUENTIAL
  MAXIMUM = 255
  MEAN = 150.459
  MINIMUM = 1
  STANDARD_DEVIATION = 28.1836
END_OBJECT = IMAGE
/* MAP OBJECT DEFINITIONS */
OBJECT = IMAGE_MAP_PROJECTION
  ^DATA_SET_MAP_PROJECTION_CATALOG= "DSMAP.CAT"
  A_AXIS_RADIUS = 3396.0
  B_AXIS_RADIUS = 3396.0
  C_AXIS_RADIUS = 3396.0
  CENTER_LATITUDE = 0.0
  CENTER_LONGITUDE = 28.0
  COORDINATE_SYSTEM_NAME = PLANETOGRAPHIC
  COORDINATE_SYSTEM_TYPE = "BODY-FIXED ROTATING"
  EASTERNMOST_LONGITUDE = 29.2344
  FIRST_STANDARD_PARALLEL = "N/A"
  LINE_FIRST_PIXEL = 1
  LINE_LAST_PIXEL = 9626
  LINE_PROJECTION_OFFSET = 19923.3125
  MAP_PROJECTION_ROTATION = 0.0
  MAP_PROJECTION_TYPE = SINUSOIDAL
  MAP_RESOLUTION = 592.713803866667
  MAP_SCALE = 0.1
  MAXIMUM_LATITUDE = 33.6461
  MINIMUM_LATITUDE = 17.3644
  POSITIVE_LONGITUDE_DIRECTION = EAST
  REFERENCE_LATITUDE = "N/A"
  REFERENCE_LONGITUDE = "N/A"
  SAMPLE_FIRST_PIXEL = 1
  SAMPLE_LAST_PIXEL = 1167
  SAMPLE_PROJECTION_OFFSET = 417.3125
  SECOND_STANDARD_PARALLEL = "N/A"
  WESTERNMOST_LONGITUDE = 27.379
END_OBJECT = IMAGE_MAP_PROJECTION
/* The JPEG2000 image data file associated with this label. */
OBJECT = COMPRESSED_FILE
  FILE_NAME = "H7443_0000_IR3.JP2"
  RECORD_TYPE = UNDEFINED
  FILE_RECORDS = UNK
  ENCODING_TYPE = "JP2"
  INTERCHANGE_FORMAT = BINARY
  UNCOMPRESSED_FILE_NAME = "H7443_0000_IR3.IMG"
  REQUIRED_STORAGE_BYTES = "11251047"
  ^DESCRIPTION = "JP2INFO.TXT"
END_OBJECT = COMPRESSED_FILE
END
