PDS_VERSION_ID = PDS3
/* FILE DATA ELEMENTS */
RECORD_TYPE = STREAM
/* POINTERS TO DATA OBJECTS */
^COMPRESSED_FILE = "H7443_0000_ND3.JP2"
/* IDENTIFICATION DATA ELEMENTS */
DATA_SET_ID = "MEX-M-HRSC-5-REFDR-MAPPROJECTED-V3.0"
DATA_SET_NAME = "MARS EXPRESS HRSC MAP PROJECTED REFDR V3.0"
DETECTOR_ID = MEX_HRSC_NADIR
EVENT_TYPE = "MARS-REGIONAL-MAPPING-Im-Fl-La"
INSTRUMENT_HOST_ID = MEX
INSTRUMENT_HOST_NAME = "MARS EXPRESS"
INSTRUMENT_ID = HRSC
INSTRUMENT_NAME = "HIGH RESOLUTION STEREO CAMERA"
MISSION_NAME = "MARS EXPRESS"
MISSION_PHASE_NAME = ME_Phase_18
PROCESSING_LEVEL_ID = 3
PRODUCT_CREATION_TIME = 2016-07-01T01:18:39.000Z
PRODUCT_ID = "H7443_0000_ND3.JP2"
RELEASE_ID = 0082
REVISION_ID = 0000
/* QUALITY DATA ELEMENTS */
DATA_QUALITY_ID = 1
DATA_QUALITY_DESC = "Data calculated based on original SPICE kernels"
/* TIME DATA ELEMENTS */
SPACECRAFT_CLOCK_START_COUNT = "1/0204271384.08262"
SPACECRAFT_CLOCK_STOP_COUNT = "1/0204271746.16630"
START_TIME = 2009-10-22T06:03:41.740Z
STOP_TIME = 2009-10-22T06:08:06.752Z
/* ORBITAL DATA ELEMENTS */
ASCENDING_NODE_LONGITUDE = 75.38
MAXIMUM_RESOLUTION = 15.8
FOOTPRINT_POINT_LATITUDE = (33.6131,33.6094,33.6017,33.3036, 33.0091,32.7149,32.421,32.1274,31.834, 31.5409,31.2481,30.9556,30.6569,30.3572 ,30.0578,29.7588,29.4601,29.1539, 28.8481,28.5427,28.2377,27.9276,27.6155 ,27.3038,26.9926,26.517,26.1992,25.8819 ,25.3977,25.0739,24.7506,24.4212, 24.0914,23.762,23.427,23.0912,22.7561, 22.4147,21.9027,21.3829,21.0359,20.5078 ,20.1551,19.6177,19.2593,18.8944, 18.5304,18.1605,17.7909,17.4159,17.3881 ,17.3855,17.3797,17.3754,17.7517, 18.1222,18.4934,18.8582,19.4039,19.7633 ,20.1225,20.4759,21.0056,21.3533, 21.8747,22.2165,22.559,23.0661,23.4025, 23.7387,24.0687,24.3991,24.7296,25.0535 ,25.3779,25.8633,26.1812,26.4996, 26.9767,27.2884,27.6006,27.9132,28.2245 ,28.5301,28.8361,29.1424,29.5992, 29.8986,30.1984,30.4984,30.9483,31.2413 ,31.5346,31.8282,32.1221,32.4163, 32.7108,33.0056,33.3006,33.6131)
FOOTPRINT_POINT_LONGITUDE = (28.7865,28.3046,27.6803,27.4404, 27.4438,27.4463,27.4471,27.4484,27.4503 ,27.4525,27.4545,27.457,27.459,27.46, 27.4603,27.4608,27.4612,27.4613,27.4612 ,27.4601,27.458,27.4568,27.4563,27.4565 ,27.4546,27.4514,27.449,27.4465,27.4422 ,27.4398,27.4357,27.4319,27.4282,27.424 ,27.4186,27.414,27.4091,27.4034,27.3944 ,27.385,27.378,27.3674,27.3599,27.3481, 27.34,27.3313,27.3228,27.3136,27.3038, 27.2937,27.9193,28.2908,28.899,29.2828, 29.2793,29.2759,29.2726,29.2691,29.264, 29.2605,29.2566,29.2531,29.2478,29.2451 ,29.2401,29.2362,29.2329,29.2292, 29.2256,29.2222,29.2188,29.215,29.2117, 29.2062,29.2023,29.1962,29.1917,29.189, 29.1834,29.1796,29.176,29.1732,29.1702, 29.1661,29.1626,29.1588,29.1531,29.1492 ,29.145,29.1406,29.1345,29.13,29.1255, 29.1213,29.1184,29.115,29.1112,29.1075, 29.1027,28.7865)
ORBIT_NUMBER = 7443
ORBITAL_ECCENTRICITY = 0.571
ORBITAL_INCLINATION = 86.82
ORBITAL_SEMIMAJOR_AXIS = 8724.83
PERIAPSIS_ALTITUDE = 359.33
PERIAPSIS_ARGUMENT_ANGLE = 132.7
PERIAPSIS_TIME = 2009-10-22T06:00:09.000Z
SPACECRAFT_ORIENTATION = (0.0,-1.0,0.0)
^MEX_ORIENTATION_DESC = "MEX_ORIENTATION_DESC.TXT"
SPACECRAFT_POINTING_MODE = ACROSSTRACK
^MEX_POINTING_DESC = "MEX_POINTING_DESC.TXT"
RIGHT_ASCENSION = -1e+32
DECLINATION = -1e+32
OFFSET_ANGLE = 0.12
SPACECRAFT_SOLAR_DISTANCE = 2.32208e+08
TARGET_NAME = MARS
/* CAMERA DATA ELEMENTS */
DETECTOR_TEMPERATURE = 18.1666
FOCAL_PLANE_TEMPERATURE = 7.9716
INST_CMPRS_NAME = "DISCRETE COSINE TRANSFORMATION (DCT)"
INST_CMPRS_RATIO = 6.64355
INST_CMPRS_QUALITY = 0
INST_CMPRS_QUANTZ_TBL_ID = 0
INSTRUMENT_TEMPERATURE = 11.234
LENS_TEMPERATURE = 8.3794
MACROPIXEL_SIZE = 1
MISSING_FRAMES = 0
PIXEL_SUBSAMPLING_FLAG = N
SIGNAL_CHAIN_ID = 0
/* RADIOMETRIC DATA ELEMENTS */
BANDWIDTH = 177.0
CENTER_FILTER_WAVELENGTH = 677.5
RADIANCE_OFFSET = 5.84295
RADIANCE_SCALING_FACTOR = 0.0203986
REFLECTANCE_SCALING_FACTOR = 0.000584306
MEX:REFLECTANCE_OFFSET = 0.167368
/* IMAGE OBJECT DEFINITIONS */
OBJECT = IMAGE
  INTERCHANGE_FORMAT = BINARY
  LINES = 77003
  LINE_SAMPLES = 9334
  SAMPLE_TYPE = UNSIGNED_INTEGER
  SAMPLE_BITS = 8
  BANDS = 1
  BAND_STORAGE_TYPE = BAND_SEQUENTIAL
  MAXIMUM = 255
  MEAN = 150.979
  MINIMUM = 1
  STANDARD_DEVIATION = 28.473
END_OBJECT = IMAGE
/* MAP OBJECT DEFINITIONS */
OBJECT = IMAGE_MAP_PROJECTION
  ^DATA_SET_MAP_PROJECTION_CATALOG= "DSMAP.CAT"
  A_AXIS_RADIUS = 3396.0
  B_AXIS_RADIUS = 3396.0
  C_AXIS_RADIUS = 3396.0
  CENTER_LATITUDE = 0.0
  CENTER_LONGITUDE = 28.0
  COORDINATE_SYSTEM_NAME = PLANETOGRAPHIC
  COORDINATE_SYSTEM_TYPE = "BODY-FIXED ROTATING"
  EASTERNMOST_LONGITUDE = 29.2828
  FIRST_STANDARD_PARALLEL = "N/A"
  LINE_FIRST_PIXEL = 1
  LINE_LAST_PIXEL = 77003
  LINE_PROJECTION_OFFSET = 159390.0
  MAP_PROJECTION_ROTATION = 0.0
  MAP_PROJECTION_TYPE = SINUSOIDAL
  MAP_RESOLUTION = 4741.71043093333
  MAP_SCALE = 0.0125
  MAXIMUM_LATITUDE = 33.6131
  MINIMUM_LATITUDE = 17.3754
  POSITIVE_LONGITUDE_DIRECTION = EAST
  REFERENCE_LATITUDE = "N/A"
  REFERENCE_LONGITUDE = "N/A"
  SAMPLE_FIRST_PIXEL = 1
  SAMPLE_LAST_PIXEL = 9334
  SAMPLE_PROJECTION_OFFSET = 3342.0
  SECOND_STANDARD_PARALLEL = "N/A"
  WESTERNMOST_LONGITUDE = 27.2937
END_OBJECT = IMAGE_MAP_PROJECTION
/* The JPEG2000 image data file associated with this label. */
OBJECT = COMPRESSED_FILE
  FILE_NAME = "H7443_0000_ND3.JP2"
  RECORD_TYPE = UNDEFINED
  FILE_RECORDS = UNK
  ENCODING_TYPE = "JP2"
  INTERCHANGE_FORMAT = BINARY
  UNCOMPRESSED_FILE_NAME = "H7443_0000_ND3.IMG"
  REQUIRED_STORAGE_BYTES = "718774004"
  ^DESCRIPTION = "JP2INFO.TXT"
END_OBJECT = COMPRESSED_FILE
END
