PDS_VERSION_ID = PDS3
/* FILE DATA ELEMENTS */
RECORD_TYPE = STREAM
/* POINTERS TO DATA OBJECTS */
^COMPRESSED_FILE = "H7445_0000_IR3.JP2"
/* IDENTIFICATION DATA ELEMENTS */
DATA_SET_ID = "MEX-M-HRSC-5-REFDR-MAPPROJECTED-V3.0"
DATA_SET_NAME = "MARS EXPRESS HRSC MAP PROJECTED REFDR V3.0"
DETECTOR_ID = MEX_HRSC_IR
EVENT_TYPE = "MARS-REGIONAL-MAPPING-Vo-Te-Pf"
INSTRUMENT_HOST_ID = MEX
INSTRUMENT_HOST_NAME = "MARS EXPRESS"
INSTRUMENT_ID = HRSC
INSTRUMENT_NAME = "HIGH RESOLUTION STEREO CAMERA"
MISSION_NAME = "MARS EXPRESS"
MISSION_PHASE_NAME = ME_Phase_18
PROCESSING_LEVEL_ID = 3
PRODUCT_CREATION_TIME = 2016-07-01T01:18:39.000Z
PRODUCT_ID = "H7445_0000_IR3.JP2"
RELEASE_ID = 0082
REVISION_ID = 0000
/* QUALITY DATA ELEMENTS */
DATA_QUALITY_ID = 1
DATA_QUALITY_DESC = "Data calculated based on original SPICE kernels"
/* TIME DATA ELEMENTS */
SPACECRAFT_CLOCK_START_COUNT = "1/0204320837.07298"
SPACECRAFT_CLOCK_STOP_COUNT = "1/0204321097.04608"
START_TIME = 2009-10-22T19:47:25.256Z
STOP_TIME = 2009-10-22T19:50:31.621Z
/* ORBITAL DATA ELEMENTS */
ASCENDING_NODE_LONGITUDE = 75.33
MAXIMUM_RESOLUTION = 121.2
FOOTPRINT_POINT_LATITUDE = (46.9408,46.9356,46.928,46.9207,46.9067 ,46.8955,46.7038,46.4758,46.1337, 45.7912,45.5629,45.3341,45.1062,44.8771 ,44.5332,44.3041,43.9604,43.7311, 43.3872,43.1574,42.9277,42.6981,42.4684 ,42.2384,42.0085,41.6635,41.4335, 41.0882,40.7427,40.5125,40.2821,39.9366 ,39.5908,39.245,39.0144,38.6685,38.3225 ,38.0918,37.8468,37.4337,37.1583, 36.7452,36.3319,36.0565,35.6433,35.2303 ,34.817,34.7341,34.7405,34.744,34.7476, 34.7505,34.7524,34.8935,35.1694,35.4456 ,35.7217,35.9974,36.274,36.5495,36.8263 ,37.1017,37.3792,37.7936,38.0528, 38.2832,38.5127,38.7436,38.9748,39.2075 ,39.4369,39.6679,39.8989,40.2454, 40.4762,40.8225,41.0534,41.2842,41.5148 ,41.8607,42.0912,42.3216,42.5521, 42.7825,43.1279,43.358,43.588,43.818, 44.1627,44.3925,44.6222,44.9665,45.1959 ,45.54,45.769,45.9982,46.3415,46.5707, 46.7991,46.9408)
FOOTPRINT_POINT_LONGITUDE = (186.7,186.451,186.135,185.869,185.42, 185.104,185.071,185.088,185.112,185.136 ,185.151,185.166,185.181,185.196, 185.216,185.23,185.25,185.263,185.283, 185.295,185.307,185.319,185.33,185.342, 185.353,185.369,185.379,185.395,185.409 ,185.419,185.428,185.442,185.455, 185.467,185.475,185.487,185.498,185.505 ,185.513,185.525,185.533,185.544, 185.554,185.56,185.57,185.579,185.587, 185.739,186.06,186.274,186.534,186.778, 187.008,187.214,187.21,187.205,187.2, 187.195,187.189,187.184,187.179,187.173 ,187.167,187.159,187.153,187.149, 187.145,187.14,187.135,187.129,187.124, 187.119,187.114,187.105,187.1,187.091, 187.086,187.08,187.074,187.065,187.059, 187.053,187.046,187.04,187.03,187.023, 187.017,187.01,187.0,186.993,186.985, 186.975,186.967,186.956,186.948,186.94, 186.928,186.92,186.912,186.7)
ORBIT_NUMBER = 7445
ORBITAL_ECCENTRICITY = 0.57
ORBITAL_INCLINATION = 86.83
ORBITAL_SEMIMAJOR_AXIS = 8718.31
PERIAPSIS_ALTITUDE = 359.48
PERIAPSIS_ARGUMENT_ANGLE = 132.35
PERIAPSIS_TIME = 2009-10-22T19:47:41.000Z
SPACECRAFT_ORIENTATION = (0.0,-1.0,0.0)
^MEX_ORIENTATION_DESC = "MEX_ORIENTATION_DESC.TXT"
SPACECRAFT_POINTING_MODE = NADIR
^MEX_POINTING_DESC = "MEX_POINTING_DESC.TXT"
RIGHT_ASCENSION = -1e+32
DECLINATION = -1e+32
OFFSET_ANGLE = -1e+32
SPACECRAFT_SOLAR_DISTANCE = 2.32315e+08
TARGET_NAME = MARS
/* CAMERA DATA ELEMENTS */
DETECTOR_TEMPERATURE = 17.5549
FOCAL_PLANE_TEMPERATURE = 8.5833
INST_CMPRS_NAME = "DISCRETE COSINE TRANSFORMATION (DCT)"
INST_CMPRS_RATIO = 17.7304
INST_CMPRS_QUALITY = 0
INST_CMPRS_QUANTZ_TBL_ID = 0
INSTRUMENT_TEMPERATURE = 11.234
LENS_TEMPERATURE = 10.2145
MACROPIXEL_SIZE = 8
MISSING_FRAMES = 0
PIXEL_SUBSAMPLING_FLAG = N
SIGNAL_CHAIN_ID = 2
/* RADIOMETRIC DATA ELEMENTS */
BANDWIDTH = 81.0
CENTER_FILTER_WAVELENGTH = 955.5
RADIANCE_OFFSET = 1.40104
RADIANCE_SCALING_FACTOR = 0.00437177
REFLECTANCE_SCALING_FACTOR = 0.000509027
MEX:REFLECTANCE_OFFSET = 0.163129
/* IMAGE OBJECT DEFINITIONS */
OBJECT = IMAGE
  INTERCHANGE_FORMAT = BINARY
  LINES = 7178
  LINE_SAMPLES = 998
  SAMPLE_TYPE = UNSIGNED_INTEGER
  SAMPLE_BITS = 8
  BANDS = 1
  BAND_STORAGE_TYPE = BAND_SEQUENTIAL
  MAXIMUM = 255
  MEAN = 109.184
  MINIMUM = 1
  STANDARD_DEVIATION = 27.2961
END_OBJECT = IMAGE
/* MAP OBJECT DEFINITIONS */
OBJECT = IMAGE_MAP_PROJECTION
  ^DATA_SET_MAP_PROJECTION_CATALOG= "DSMAP.CAT"
  A_AXIS_RADIUS = 3396.0
  B_AXIS_RADIUS = 3396.0
  C_AXIS_RADIUS = 3396.0
  CENTER_LATITUDE = 0.0
  CENTER_LONGITUDE = 186.0
  COORDINATE_SYSTEM_NAME = PLANETOGRAPHIC
  COORDINATE_SYSTEM_TYPE = "BODY-FIXED ROTATING"
  EASTERNMOST_LONGITUDE = 187.214
  FIRST_STANDARD_PARALLEL = "N/A"
  LINE_FIRST_PIXEL = 1
  LINE_LAST_PIXEL = 7178
  LINE_PROJECTION_OFFSET = 27783.4375
  MAP_PROJECTION_ROTATION = 0.0
  MAP_PROJECTION_TYPE = SINUSOIDAL
  MAP_RESOLUTION = 592.713803866667
  MAP_SCALE = 0.1
  MAXIMUM_LATITUDE = 46.9408
  MINIMUM_LATITUDE = 34.7341
  POSITIVE_LONGITUDE_DIRECTION = EAST
  REFERENCE_LATITUDE = "N/A"
  REFERENCE_LONGITUDE = "N/A"
  SAMPLE_FIRST_PIXEL = 1
  SAMPLE_LAST_PIXEL = 998
  SAMPLE_PROJECTION_OFFSET = 388.4375
  SECOND_STANDARD_PARALLEL = "N/A"
  WESTERNMOST_LONGITUDE = 185.071
END_OBJECT = IMAGE_MAP_PROJECTION
/* The JPEG2000 image data file associated with this label. */
OBJECT = COMPRESSED_FILE
  FILE_NAME = "H7445_0000_IR3.JP2"
  RECORD_TYPE = UNDEFINED
  FILE_RECORDS = UNK
  ENCODING_TYPE = "JP2"
  INTERCHANGE_FORMAT = BINARY
  UNCOMPRESSED_FILE_NAME = "H7445_0000_IR3.IMG"
  REQUIRED_STORAGE_BYTES = "7181608"
  ^DESCRIPTION = "JP2INFO.TXT"
END_OBJECT = COMPRESSED_FILE
END
