PDS_VERSION_ID = PDS3
/* FILE DATA ELEMENTS */
RECORD_TYPE = STREAM
/* POINTERS TO DATA OBJECTS */
^COMPRESSED_FILE = "H7447_0000_GR3.JP2"
/* IDENTIFICATION DATA ELEMENTS */
DATA_SET_ID = "MEX-M-HRSC-5-REFDR-MAPPROJECTED-V3.0"
DATA_SET_NAME = "MARS EXPRESS HRSC MAP PROJECTED REFDR V3.0"
DETECTOR_ID = MEX_HRSC_GREEN
EVENT_TYPE = "MARS-REGIONAL-MAPPING-Fl-Pf"
INSTRUMENT_HOST_ID = MEX
INSTRUMENT_HOST_NAME = "MARS EXPRESS"
INSTRUMENT_ID = HRSC
INSTRUMENT_NAME = "HIGH RESOLUTION STEREO CAMERA"
MISSION_NAME = "MARS EXPRESS"
MISSION_PHASE_NAME = ME_Phase_18
PROCESSING_LEVEL_ID = 3
PRODUCT_CREATION_TIME = 2016-07-01T01:18:39.000Z
PRODUCT_ID = "H7447_0000_GR3.JP2"
RELEASE_ID = 0082
REVISION_ID = 0000
/* QUALITY DATA ELEMENTS */
DATA_QUALITY_ID = 1
DATA_QUALITY_DESC = "Data calculated based on original SPICE kernels"
/* TIME DATA ELEMENTS */
SPACECRAFT_CLOCK_START_COUNT = "1/0204370473.07302"
SPACECRAFT_CLOCK_STOP_COUNT = "1/0204370789.22074"
START_TIME = 2009-10-23T09:35:02.840Z
STOP_TIME = 2009-10-23T09:39:03.991Z
/* ORBITAL DATA ELEMENTS */
ASCENDING_NODE_LONGITUDE = 75.3
MAXIMUM_RESOLUTION = 116.4
FOOTPRINT_POINT_LATITUDE = (47.9647,47.9504,47.9351,47.896,47.6095 ,47.323,47.0364,46.6065,46.1764,45.7463 ,45.3162,45.0295,44.5994,44.3126, 44.0258,43.7391,43.4524,43.1657,42.8791 ,42.5925,42.3059,42.0194,41.7329, 41.4465,41.1602,40.8739,40.5878,40.3017 ,40.0157,39.5287,39.1877,38.8469, 38.5062,38.1656,37.8253,37.4851,37.1453 ,36.8055,36.466,36.1268,35.7877,35.4489 ,35.1103,34.772,34.434,34.0962,33.7588, 33.4216,33.0847,32.7482,32.416,32.4224, 32.4289,32.4336,32.7745,33.1116,33.6182 ,33.956,34.2941,34.8022,35.1411,35.4803 ,35.8199,36.1596,36.4996,36.8398, 37.1802,37.5209,37.8618,38.2028,38.5441 ,38.8856,39.2272,39.5689,40.0559, 40.3427,40.6293,40.9162,41.2031,41.4902 ,41.7774,42.3503,42.639,42.9262,43.2135 ,43.5009,43.7884,44.0759,44.3634, 44.6509,44.9385,45.3699,45.6574,45.9449 ,46.2326,46.5201,46.9513,47.2389, 47.5263,47.9647)
FOOTPRINT_POINT_LONGITUDE = (344.757,344.202,343.696,343.06,343.084 ,343.108,343.131,343.164,343.196, 343.226,343.256,343.276,343.304,343.322 ,343.339,343.356,343.373,343.389, 343.405,343.42,343.435,343.449,343.463, 343.477,343.49,343.503,343.516,343.528, 343.54,343.559,343.572,343.584,343.596, 343.607,343.618,343.629,343.639,343.648 ,343.657,343.666,343.674,343.682, 343.689,343.696,343.703,343.709,343.715 ,343.721,343.726,343.73,343.735,344.11, 344.596,345.096,345.396,345.39,345.379, 345.373,345.367,345.356,345.349,345.341 ,345.334,345.326,345.318,345.31,345.302 ,345.294,345.285,345.277,345.268, 345.259,345.25,345.241,345.227,345.219, 345.211,345.202,345.193,345.185,345.175 ,345.16,345.148,345.138,345.129,345.119 ,345.109,345.099,345.088,345.078, 345.067,345.05,345.039,345.028,345.016, 345.004,344.986,344.973,344.961, 344.757)
ORBIT_NUMBER = 7447
ORBITAL_ECCENTRICITY = 0.571
ORBITAL_INCLINATION = 86.83
ORBITAL_SEMIMAJOR_AXIS = 8719.13
PERIAPSIS_ALTITUDE = 359.65
PERIAPSIS_ARGUMENT_ANGLE = 131.98
PERIAPSIS_TIME = 2009-10-23T09:35:08.000Z
SPACECRAFT_ORIENTATION = (0.0,-1.0,0.0)
^MEX_ORIENTATION_DESC = "MEX_ORIENTATION_DESC.TXT"
SPACECRAFT_POINTING_MODE = ACROSSTRACK
^MEX_POINTING_DESC = "MEX_POINTING_DESC.TXT"
RIGHT_ASCENSION = -1e+32
DECLINATION = -1e+32
OFFSET_ANGLE = -0.15
SPACECRAFT_SOLAR_DISTANCE = 2.32422e+08
TARGET_NAME = MARS
/* CAMERA DATA ELEMENTS */
DETECTOR_TEMPERATURE = 18.1666
FOCAL_PLANE_TEMPERATURE = 8.9911
INST_CMPRS_NAME = "DISCRETE COSINE TRANSFORMATION (DCT)"
INST_CMPRS_RATIO = 19.2731
INST_CMPRS_QUALITY = 0
INST_CMPRS_QUANTZ_TBL_ID = 0
INSTRUMENT_TEMPERATURE = 11.4379
LENS_TEMPERATURE = 9.3989
MACROPIXEL_SIZE = 8
MISSING_FRAMES = 0
PIXEL_SUBSAMPLING_FLAG = N
SIGNAL_CHAIN_ID = 2
/* RADIOMETRIC DATA ELEMENTS */
BANDWIDTH = 88.0
CENTER_FILTER_WAVELENGTH = 538.0
RADIANCE_OFFSET = 1.2612
RADIANCE_SCALING_FACTOR = 0.0054954
REFLECTANCE_SCALING_FACTOR = 0.000255591
MEX:REFLECTANCE_OFFSET = 0.0586581
/* IMAGE OBJECT DEFINITIONS */
OBJECT = IMAGE
  INTERCHANGE_FORMAT = BINARY
  LINES = 9210
  LINE_SAMPLES = 1095
  SAMPLE_TYPE = UNSIGNED_INTEGER
  SAMPLE_BITS = 8
  BANDS = 1
  BAND_STORAGE_TYPE = BAND_SEQUENTIAL
  MAXIMUM = 255
  MEAN = 82.8263
  MINIMUM = 1
  STANDARD_DEVIATION = 27.022
END_OBJECT = IMAGE
/* MAP OBJECT DEFINITIONS */
OBJECT = IMAGE_MAP_PROJECTION
  ^DATA_SET_MAP_PROJECTION_CATALOG= "DSMAP.CAT"
  A_AXIS_RADIUS = 3396.0
  B_AXIS_RADIUS = 3396.0
  C_AXIS_RADIUS = 3396.0
  CENTER_LATITUDE = 0.0
  CENTER_LONGITUDE = 344.0
  COORDINATE_SYSTEM_NAME = PLANETOGRAPHIC
  COORDINATE_SYSTEM_TYPE = "BODY-FIXED ROTATING"
  EASTERNMOST_LONGITUDE = 345.396
  FIRST_STANDARD_PARALLEL = "N/A"
  LINE_FIRST_PIXEL = 1
  LINE_LAST_PIXEL = 9210
  LINE_PROJECTION_OFFSET = 28423.6875
  MAP_PROJECTION_ROTATION = 0.0
  MAP_PROJECTION_TYPE = SINUSOIDAL
  MAP_RESOLUTION = 592.713803866667
  MAP_SCALE = 0.1
  MAXIMUM_LATITUDE = 47.9647
  MINIMUM_LATITUDE = 32.416
  POSITIVE_LONGITUDE_DIRECTION = EAST
  REFERENCE_LATITUDE = "N/A"
  REFERENCE_LONGITUDE = "N/A"
  SAMPLE_FIRST_PIXEL = 1
  SAMPLE_LAST_PIXEL = 1095
  SAMPLE_PROJECTION_OFFSET = 379.9375
  SECOND_STANDARD_PARALLEL = "N/A"
  WESTERNMOST_LONGITUDE = 343.06
END_OBJECT = IMAGE_MAP_PROJECTION
/* The JPEG2000 image data file associated with this label. */
OBJECT = COMPRESSED_FILE
  FILE_NAME = "H7447_0000_GR3.JP2"
  RECORD_TYPE = UNDEFINED
  FILE_RECORDS = UNK
  ENCODING_TYPE = "JP2"
  INTERCHANGE_FORMAT = BINARY
  UNCOMPRESSED_FILE_NAME = "H7447_0000_GR3.IMG"
  REQUIRED_STORAGE_BYTES = "10103565"
  ^DESCRIPTION = "JP2INFO.TXT"
END_OBJECT = COMPRESSED_FILE
END
