PDS_VERSION_ID = PDS3
/* FILE DATA ELEMENTS */
RECORD_TYPE = STREAM
/* POINTERS TO DATA OBJECTS */
^COMPRESSED_FILE = "H7447_0000_P13.JP2"
/* IDENTIFICATION DATA ELEMENTS */
DATA_SET_ID = "MEX-M-HRSC-5-REFDR-MAPPROJECTED-V3.0"
DATA_SET_NAME = "MARS EXPRESS HRSC MAP PROJECTED REFDR V3.0"
DETECTOR_ID = MEX_HRSC_P1
EVENT_TYPE = "MARS-REGIONAL-MAPPING-Fl-Pf"
INSTRUMENT_HOST_ID = MEX
INSTRUMENT_HOST_NAME = "MARS EXPRESS"
INSTRUMENT_ID = HRSC
INSTRUMENT_NAME = "HIGH RESOLUTION STEREO CAMERA"
MISSION_NAME = "MARS EXPRESS"
MISSION_PHASE_NAME = ME_Phase_18
PROCESSING_LEVEL_ID = 3
PRODUCT_CREATION_TIME = 2016-07-01T01:18:39.000Z
PRODUCT_ID = "H7447_0000_P13.JP2"
RELEASE_ID = 0082
REVISION_ID = 0000
/* QUALITY DATA ELEMENTS */
DATA_QUALITY_ID = 1
DATA_QUALITY_DESC = "Data calculated based on original SPICE kernels"
/* TIME DATA ELEMENTS */
SPACECRAFT_CLOCK_START_COUNT = "1/0204370473.07302"
SPACECRAFT_CLOCK_STOP_COUNT = "1/0204370789.22074"
START_TIME = 2009-10-23T09:34:46.871Z
STOP_TIME = 2009-10-23T09:38:46.092Z
/* ORBITAL DATA ELEMENTS */
ASCENDING_NODE_LONGITUDE = 75.3
MAXIMUM_RESOLUTION = 29.9
FOOTPRINT_POINT_LATITUDE = (47.9993,47.9886,47.9754,47.954,47.7413 ,47.3115,46.8813,46.5944,46.1636, 45.7324,45.445,45.0135,44.7257,44.2936, 43.8614,43.5731,43.2848,42.9963,42.7077 ,42.419,41.8415,41.4081,41.1193,40.8302 ,40.5413,40.1078,39.6741,39.3851, 39.0962,38.8044,38.4592,38.1141,37.7691 ,37.2516,36.9069,36.5619,36.045,35.7, 35.3554,35.0107,34.6664,34.322,33.978, 33.6336,33.2898,32.9459,32.6023,32.4168 ,32.4237,32.4283,32.4321,32.4353,32.612 ,32.9554,33.4723,33.8178,34.1612, 34.5062,34.8515,35.3691,35.8871,36.2326 ,36.4056,36.9238,37.2693,37.4422, 37.6152,37.7881,38.1337,38.3067,38.6522 ,38.9766,39.4111,39.7008,39.99,40.2802, 40.5697,41.0042,41.2939,41.5836,42.0183 ,42.3024,42.5972,43.0308,43.3197,43.609 ,43.8981,44.1872,44.4759,44.9092, 45.1978,45.6306,46.0629,46.3514,46.6394 ,46.9269,47.215,47.5025,47.9337, 47.9993)
FOOTPRINT_POINT_LONGITUDE = (344.437,344.102,343.731,343.2,343.052, 343.088,343.122,343.145,343.178,343.209 ,343.229,343.259,343.278,343.306, 343.333,343.35,343.367,343.383,343.399, 343.415,343.444,343.466,343.479,343.493 ,343.505,343.524,343.542,343.553, 343.564,343.575,343.587,343.599,343.611 ,343.627,343.637,343.647,343.661, 343.669,343.677,343.685,343.692,343.699 ,343.706,343.712,343.718,343.723, 343.728,344.021,344.376,344.617,344.858 ,345.099,345.389,345.383,345.374, 345.367,345.361,345.354,345.347,345.337 ,345.326,345.318,345.314,345.303, 345.295,345.291,345.287,345.282,345.274 ,345.27,345.261,345.253,345.242,345.234 ,345.226,345.218,345.21,345.198,345.189 ,345.181,345.167,345.161,345.149, 345.135,345.126,345.116,345.106,345.096 ,345.086,345.07,345.06,345.043,345.026, 345.015,345.003,344.992,344.979,344.967 ,344.948,344.437)
ORBIT_NUMBER = 7447
ORBITAL_ECCENTRICITY = 0.571
ORBITAL_INCLINATION = 86.83
ORBITAL_SEMIMAJOR_AXIS = 8719.13
PERIAPSIS_ALTITUDE = 359.65
PERIAPSIS_ARGUMENT_ANGLE = 131.98
PERIAPSIS_TIME = 2009-10-23T09:35:08.000Z
SPACECRAFT_ORIENTATION = (0.0,-1.0,0.0)
^MEX_ORIENTATION_DESC = "MEX_ORIENTATION_DESC.TXT"
SPACECRAFT_POINTING_MODE = ACROSSTRACK
^MEX_POINTING_DESC = "MEX_POINTING_DESC.TXT"
RIGHT_ASCENSION = -1e+32
DECLINATION = -1e+32
OFFSET_ANGLE = -0.15
SPACECRAFT_SOLAR_DISTANCE = 2.32422e+08
TARGET_NAME = MARS
/* CAMERA DATA ELEMENTS */
DETECTOR_TEMPERATURE = 17.5549
FOCAL_PLANE_TEMPERATURE = 8.9911
INST_CMPRS_NAME = "DISCRETE COSINE TRANSFORMATION (DCT)"
INST_CMPRS_RATIO = 16.0304
INST_CMPRS_QUALITY = 0
INST_CMPRS_QUANTZ_TBL_ID = 0
INSTRUMENT_TEMPERATURE = 11.4379
LENS_TEMPERATURE = 9.3989
MACROPIXEL_SIZE = 2
MISSING_FRAMES = 0
PIXEL_SUBSAMPLING_FLAG = N
SIGNAL_CHAIN_ID = 3
/* RADIOMETRIC DATA ELEMENTS */
BANDWIDTH = 174.0
CENTER_FILTER_WAVELENGTH = 675.0
RADIANCE_OFFSET = 3.39509
RADIANCE_SCALING_FACTOR = 0.0190201
REFLECTANCE_SCALING_FACTOR = 0.000552655
MEX:REFLECTANCE_OFFSET = 0.0986489
/* IMAGE OBJECT DEFINITIONS */
OBJECT = IMAGE
  INTERCHANGE_FORMAT = BINARY
  LINES = 36840
  LINE_SAMPLES = 4378
  SAMPLE_TYPE = UNSIGNED_INTEGER
  SAMPLE_BITS = 8
  BANDS = 1
  BAND_STORAGE_TYPE = BAND_SEQUENTIAL
  MAXIMUM = 255
  MEAN = 57.9506
  MINIMUM = 1
  STANDARD_DEVIATION = 31.8432
END_OBJECT = IMAGE
/* MAP OBJECT DEFINITIONS */
OBJECT = IMAGE_MAP_PROJECTION
  ^DATA_SET_MAP_PROJECTION_CATALOG= "DSMAP.CAT"
  A_AXIS_RADIUS = 3396.0
  B_AXIS_RADIUS = 3396.0
  C_AXIS_RADIUS = 3396.0
  CENTER_LATITUDE = 0.0
  CENTER_LONGITUDE = 344.0
  COORDINATE_SYSTEM_NAME = PLANETOGRAPHIC
  COORDINATE_SYSTEM_TYPE = "BODY-FIXED ROTATING"
  EASTERNMOST_LONGITUDE = 345.389
  FIRST_STANDARD_PARALLEL = "N/A"
  LINE_FIRST_PIXEL = 1
  LINE_LAST_PIXEL = 36840
  LINE_PROJECTION_OFFSET = 113696.25
  MAP_PROJECTION_ROTATION = 0.0
  MAP_PROJECTION_TYPE = SINUSOIDAL
  MAP_RESOLUTION = 2370.85521546667
  MAP_SCALE = 0.025
  MAXIMUM_LATITUDE = 47.9993
  MINIMUM_LATITUDE = 32.4168
  POSITIVE_LONGITUDE_DIRECTION = EAST
  REFERENCE_LATITUDE = "N/A"
  REFERENCE_LONGITUDE = "N/A"
  SAMPLE_FIRST_PIXEL = 1
  SAMPLE_LAST_PIXEL = 4378
  SAMPLE_PROJECTION_OFFSET = 1521.25
  SECOND_STANDARD_PARALLEL = "N/A"
  WESTERNMOST_LONGITUDE = 343.052
END_OBJECT = IMAGE_MAP_PROJECTION
/* The JPEG2000 image data file associated with this label. */
OBJECT = COMPRESSED_FILE
  FILE_NAME = "H7447_0000_P13.JP2"
  RECORD_TYPE = UNDEFINED
  FILE_RECORDS = UNK
  ENCODING_TYPE = "JP2"
  INTERCHANGE_FORMAT = BINARY
  UNCOMPRESSED_FILE_NAME = "H7447_0000_P13.IMG"
  REQUIRED_STORAGE_BYTES = "161311788"
  ^DESCRIPTION = "JP2INFO.TXT"
END_OBJECT = COMPRESSED_FILE
END
