PDS_VERSION_ID = PDS3
/* FILE DATA ELEMENTS */
RECORD_TYPE = STREAM
/* POINTERS TO DATA OBJECTS */
^COMPRESSED_FILE = "H7449_0001_ND3.JP2"
/* IDENTIFICATION DATA ELEMENTS */
DATA_SET_ID = "MEX-M-HRSC-5-REFDR-MAPPROJECTED-V3.0"
DATA_SET_NAME = "MARS EXPRESS HRSC MAP PROJECTED REFDR V3.0"
DETECTOR_ID = MEX_HRSC_NADIR
EVENT_TYPE = "MARS-REGIONAL-MAPPING-Vo-Im"
INSTRUMENT_HOST_ID = MEX
INSTRUMENT_HOST_NAME = "MARS EXPRESS"
INSTRUMENT_ID = HRSC
INSTRUMENT_NAME = "HIGH RESOLUTION STEREO CAMERA"
MISSION_NAME = "MARS EXPRESS"
MISSION_PHASE_NAME = ME_Phase_18
PROCESSING_LEVEL_ID = 3
PRODUCT_CREATION_TIME = 2016-07-01T01:18:39.000Z
PRODUCT_ID = "H7449_0001_ND3.JP2"
RELEASE_ID = 0082
REVISION_ID = 0000
/* QUALITY DATA ELEMENTS */
DATA_QUALITY_ID = 1
DATA_QUALITY_DESC = "Data calculated based on original SPICE kernels"
/* TIME DATA ELEMENTS */
SPACECRAFT_CLOCK_START_COUNT = "1/0204420638.09069"
SPACECRAFT_CLOCK_STOP_COUNT = "1/0204420913.48372"
START_TIME = 2009-10-23T23:31:35.751Z
STOP_TIME = 2009-10-23T23:33:44.764Z
/* ORBITAL DATA ELEMENTS */
ASCENDING_NODE_LONGITUDE = 75.26
MAXIMUM_RESOLUTION = 23.5
FOOTPRINT_POINT_LATITUDE = (15.1083,15.1122,15.1141,15.1159, 15.1176,15.1192,15.1206,15.122,15.1232, 15.1243,15.1252,15.1261,15.0578,14.7827 ,14.4339,14.1552,13.8728,13.5906, 13.3052,13.0194,12.8753,12.7304,12.5856 ,12.441,12.2951,12.1485,12.0021,11.8558 ,11.7097,11.5638,11.4181,11.2725, 11.1271,10.9819,10.8368,10.692,10.5473, 10.4028,10.2585,10.1143,9.97038,9.8266, 9.68298,9.3963,9.11054,8.82533,8.54083, 8.25692,7.97464,7.97207,7.96867,7.96593 ,7.96313,7.95946,7.95569,7.95177, 7.94868,7.94505,7.94133,7.93757,7.93467 ,7.93132,8.21547,8.50034,8.78592, 9.07224,9.21566,9.35926,9.50304,9.647, 9.79114,9.93545,10.0799,10.2246,10.3695 ,10.5145,10.6597,10.8051,10.9507, 11.0964,11.2423,11.3884,11.5347,11.6811 ,11.8277,11.9745,12.1215,12.2686,12.415 ,12.56,12.7053,12.8507,12.9952,13.282, 13.5683,13.8514,14.1347,14.4142,14.7642 ,15.1083)
FOOTPRINT_POINT_LONGITUDE = (143.551,143.239,143.072,142.905, 142.738,142.57,142.403,142.234,142.066, 141.897,141.727,141.557,141.41,141.402, 141.39,141.382,141.372,141.362,141.352, 141.342,141.337,141.332,141.327,141.322 ,141.316,141.31,141.304,141.298,141.292 ,141.286,141.28,141.274,141.268,141.262 ,141.257,141.25,141.244,141.238,141.232 ,141.226,141.22,141.214,141.208,141.196 ,141.18,141.167,141.154,141.144,141.13, 141.305,141.531,141.705,141.88,142.103, 142.326,142.548,142.721,142.918,143.115 ,143.312,143.459,143.643,143.639, 143.636,143.632,143.629,143.627,143.625 ,143.623,143.621,143.62,143.618,143.616 ,143.614,143.612,143.611,143.609, 143.607,143.606,143.604,143.602,143.6, 143.598,143.596,143.594,143.592,143.59, 143.589,143.587,143.585,143.583,143.581 ,143.579,143.576,143.572,143.569, 143.565,143.561,143.557,143.551)
ORBIT_NUMBER = 7449
ORBITAL_ECCENTRICITY = 0.571
ORBITAL_INCLINATION = 86.82
ORBITAL_SEMIMAJOR_AXIS = 8722.07
PERIAPSIS_ALTITUDE = 360.28
PERIAPSIS_ARGUMENT_ANGLE = 131.66
PERIAPSIS_TIME = 2009-10-23T23:22:41.000Z
SPACECRAFT_ORIENTATION = (0.0,-1.0,0.0)
^MEX_ORIENTATION_DESC = "MEX_ORIENTATION_DESC.TXT"
SPACECRAFT_POINTING_MODE = ACROSSTRACK
^MEX_POINTING_DESC = "MEX_POINTING_DESC.TXT"
RIGHT_ASCENSION = -1e+32
DECLINATION = -1e+32
OFFSET_ANGLE = -0.5
SPACECRAFT_SOLAR_DISTANCE = 2.3253e+08
TARGET_NAME = MARS
/* CAMERA DATA ELEMENTS */
DETECTOR_TEMPERATURE = 19.39
FOCAL_PLANE_TEMPERATURE = 8.5833
INST_CMPRS_NAME = "DISCRETE COSINE TRANSFORMATION (DCT)"
INST_CMPRS_RATIO = 7.6411
INST_CMPRS_QUALITY = 0
INST_CMPRS_QUANTZ_TBL_ID = 0
INSTRUMENT_TEMPERATURE = 12.8652
LENS_TEMPERATURE = 8.9911
MACROPIXEL_SIZE = 1
MISSING_FRAMES = 0
PIXEL_SUBSAMPLING_FLAG = N
SIGNAL_CHAIN_ID = 0
/* RADIOMETRIC DATA ELEMENTS */
BANDWIDTH = 177.0
CENTER_FILTER_WAVELENGTH = 677.5
RADIANCE_OFFSET = 4.84133
RADIANCE_SCALING_FACTOR = 0.0248273
REFLECTANCE_SCALING_FACTOR = 0.00071314
MEX:REFLECTANCE_OFFSET = 0.139062
/* IMAGE OBJECT DEFINITIONS */
OBJECT = IMAGE
  INTERCHANGE_FORMAT = BINARY
  LINES = 17061
  LINE_SAMPLES = 6077
  SAMPLE_TYPE = UNSIGNED_INTEGER
  SAMPLE_BITS = 8
  BANDS = 1
  BAND_STORAGE_TYPE = BAND_SEQUENTIAL
  MAXIMUM = 255
  MEAN = 173.78
  MINIMUM = 1
  STANDARD_DEVIATION = 17.7982
END_OBJECT = IMAGE
/* MAP OBJECT DEFINITIONS */
OBJECT = IMAGE_MAP_PROJECTION
  ^DATA_SET_MAP_PROJECTION_CATALOG= "DSMAP.CAT"
  A_AXIS_RADIUS = 3396.0
  B_AXIS_RADIUS = 3396.0
  C_AXIS_RADIUS = 3396.0
  CENTER_LATITUDE = 0.0
  CENTER_LONGITUDE = 142.0
  COORDINATE_SYSTEM_NAME = PLANETOGRAPHIC
  COORDINATE_SYSTEM_TYPE = "BODY-FIXED ROTATING"
  EASTERNMOST_LONGITUDE = 143.643
  FIRST_STANDARD_PARALLEL = "N/A"
  LINE_FIRST_PIXEL = 1
  LINE_LAST_PIXEL = 17061
  LINE_PROJECTION_OFFSET = 35863.0
  MAP_PROJECTION_ROTATION = 0.0
  MAP_PROJECTION_TYPE = SINUSOIDAL
  MAP_RESOLUTION = 2370.85521546667
  MAP_SCALE = 0.025
  MAXIMUM_LATITUDE = 15.1261
  MINIMUM_LATITUDE = 7.93132
  POSITIVE_LONGITUDE_DIRECTION = EAST
  REFERENCE_LATITUDE = "N/A"
  REFERENCE_LONGITUDE = "N/A"
  SAMPLE_FIRST_PIXEL = 1
  SAMPLE_LAST_PIXEL = 6077
  SAMPLE_PROJECTION_OFFSET = 2165.0
  SECOND_STANDARD_PARALLEL = "N/A"
  WESTERNMOST_LONGITUDE = 141.13
END_OBJECT = IMAGE_MAP_PROJECTION
/* The JPEG2000 image data file associated with this label. */
OBJECT = COMPRESSED_FILE
  FILE_NAME = "H7449_0001_ND3.JP2"
  RECORD_TYPE = UNDEFINED
  FILE_RECORDS = UNK
  ENCODING_TYPE = "JP2"
  INTERCHANGE_FORMAT = BINARY
  UNCOMPRESSED_FILE_NAME = "H7449_0001_ND3.IMG"
  REQUIRED_STORAGE_BYTES = "103710082"
  ^DESCRIPTION = "JP2INFO.TXT"
END_OBJECT = COMPRESSED_FILE
END
