PDS_VERSION_ID = PDS3
/* FILE DATA ELEMENTS */
RECORD_TYPE = STREAM
/* POINTERS TO DATA OBJECTS */
^COMPRESSED_FILE = "H7457_0000_GR3.JP2"
/* IDENTIFICATION DATA ELEMENTS */
DATA_SET_ID = "MEX-M-HRSC-5-REFDR-MAPPROJECTED-V3.0"
DATA_SET_NAME = "MARS EXPRESS HRSC MAP PROJECTED REFDR V3.0"
DETECTOR_ID = MEX_HRSC_GREEN
EVENT_TYPE = "MARS-REGIONAL-MAPPING-Te-Fl-Pf"
INSTRUMENT_HOST_ID = MEX
INSTRUMENT_HOST_NAME = "MARS EXPRESS"
INSTRUMENT_ID = HRSC
INSTRUMENT_NAME = "HIGH RESOLUTION STEREO CAMERA"
MISSION_NAME = "MARS EXPRESS"
MISSION_PHASE_NAME = ME_Phase_18
PROCESSING_LEVEL_ID = 3
PRODUCT_CREATION_TIME = 2016-07-01T01:18:39.000Z
PRODUCT_ID = "H7457_0000_GR3.JP2"
RELEASE_ID = 0082
REVISION_ID = 0000
/* QUALITY DATA ELEMENTS */
DATA_QUALITY_ID = 1
DATA_QUALITY_DESC = "Data calculated based on original SPICE kernels"
/* TIME DATA ELEMENTS */
SPACECRAFT_CLOCK_START_COUNT = "1/0204618882.09053"
SPACECRAFT_CLOCK_STOP_COUNT = "1/0204619286.45125"
START_TIME = 2009-10-26T06:35:12.695Z
STOP_TIME = 2009-10-26T06:40:19.727Z
/* ORBITAL DATA ELEMENTS */
ASCENDING_NODE_LONGITUDE = 75.1
MAXIMUM_RESOLUTION = 120.6
FOOTPRINT_POINT_LATITUDE = (39.5732,39.5545,39.5294,39.1733, 38.8173,38.4616,38.1066,37.7511,37.2185 ,36.8639,36.5111,36.157,35.8032,35.4498 ,35.0968,34.7435,34.3914,33.8634, 33.5121,32.9809,32.6211,32.2617,31.903, 31.5397,31.173,30.8058,30.4392,29.8789, 29.5041,29.1298,28.7481,28.3658,27.9842 ,27.5955,27.2038,26.615,26.218,25.8235, 25.2174,24.813,24.4007,23.9891,23.5719, 23.1533,22.7302,22.304,21.8738,21.4411, 21.0031,20.4281,20.4295,20.4302,20.4298 ,20.4289,20.6512,21.0922,21.7461, 22.1799,22.6066,23.0332,23.4524,23.8726 ,24.285,24.9026,25.3062,25.911,26.3101, 26.7087,27.1031,27.4934,28.0766,28.4592 ,28.8426,29.2233,29.7861,30.1619, 30.7174,31.0851,31.4533,31.8188,32.1785 ,32.5387,32.8994,33.2585,33.6102, 33.9626,34.3153,34.8449,35.1978,35.551, 36.0813,36.4359,36.9684,37.3245,37.858, 38.214,38.571,38.9263,39.2825,39.5732)
FOOTPRINT_POINT_LONGITUDE = (56.0321,55.2396,54.7148,54.7291, 54.7428,54.7559,54.77,54.7809,54.7973, 54.8078,54.823,54.8323,54.8413,54.8499, 54.8583,54.864,54.8723,54.8826,54.8893, 54.8984,54.9042,54.91,54.9157,54.9163, 54.9234,54.9267,54.93,54.9335,54.9354, 54.9368,54.9383,54.9395,54.9405,54.9408 ,54.9345,54.9323,54.9316,54.936,54.9346 ,54.93,54.9262,54.9215,54.9167,54.9119, 54.9065,54.8997,54.893,54.8866,54.8786, 55.0134,55.3635,55.6387,56.0399,56.349, 56.8099,56.804,56.7956,56.7894,56.7833, 56.7772,56.7712,56.7651,56.7587,56.7494 ,56.7446,56.7367,56.7285,56.7214,56.713 ,56.7064,56.6961,56.6892,56.6819, 56.6747,56.6638,56.6563,56.6448,56.6372 ,56.6293,56.6214,56.6135,56.6053, 56.5968,56.5883,56.5802,56.5713,56.5624 ,56.5489,56.5402,56.5315,56.5181, 56.5082,56.4929,56.4816,56.4655,56.4546 ,56.4426,56.4324,56.4214,56.0321)
ORBIT_NUMBER = 7457
ORBITAL_ECCENTRICITY = 0.571
ORBITAL_INCLINATION = 86.83
ORBITAL_SEMIMAJOR_AXIS = 8722.36
PERIAPSIS_ALTITUDE = 360.38
PERIAPSIS_ARGUMENT_ANGLE = 130.26
PERIAPSIS_TIME = 2009-10-26T06:32:42.000Z
SPACECRAFT_ORIENTATION = (0.0,-1.0,0.0)
^MEX_ORIENTATION_DESC = "MEX_ORIENTATION_DESC.TXT"
SPACECRAFT_POINTING_MODE = ACROSSTRACK
^MEX_POINTING_DESC = "MEX_POINTING_DESC.TXT"
RIGHT_ASCENSION = -1e+32
DECLINATION = -1e+32
OFFSET_ANGLE = -0.38
SPACECRAFT_SOLAR_DISTANCE = 2.32956e+08
TARGET_NAME = MARS
/* CAMERA DATA ELEMENTS */
DETECTOR_TEMPERATURE = 17.7588
FOCAL_PLANE_TEMPERATURE = 7.7677
INST_CMPRS_NAME = "DISCRETE COSINE TRANSFORMATION (DCT)"
INST_CMPRS_RATIO = 14.7656
INST_CMPRS_QUALITY = 0
INST_CMPRS_QUANTZ_TBL_ID = 0
INSTRUMENT_TEMPERATURE = 10.8262
LENS_TEMPERATURE = 8.1755
MACROPIXEL_SIZE = 8
MISSING_FRAMES = 0
PIXEL_SUBSAMPLING_FLAG = N
SIGNAL_CHAIN_ID = 2
/* RADIOMETRIC DATA ELEMENTS */
BANDWIDTH = 88.0
CENTER_FILTER_WAVELENGTH = 538.0
RADIANCE_OFFSET = 1.45963
RADIANCE_SCALING_FACTOR = 0.00556051
REFLECTANCE_SCALING_FACTOR = 0.000259809
MEX:REFLECTANCE_OFFSET = 0.0681999
/* IMAGE OBJECT DEFINITIONS */
OBJECT = IMAGE
  INTERCHANGE_FORMAT = BINARY
  LINES = 11347
  LINE_SAMPLES = 1155
  SAMPLE_TYPE = UNSIGNED_INTEGER
  SAMPLE_BITS = 8
  BANDS = 1
  BAND_STORAGE_TYPE = BAND_SEQUENTIAL
  MAXIMUM = 255
  MEAN = 157.0
  MINIMUM = 1
  STANDARD_DEVIATION = 24.8529
END_OBJECT = IMAGE
/* MAP OBJECT DEFINITIONS */
OBJECT = IMAGE_MAP_PROJECTION
  ^DATA_SET_MAP_PROJECTION_CATALOG= "DSMAP.CAT"
  A_AXIS_RADIUS = 3396.0
  B_AXIS_RADIUS = 3396.0
  C_AXIS_RADIUS = 3396.0
  CENTER_LATITUDE = 0.0
  CENTER_LONGITUDE = 56.0
  COORDINATE_SYSTEM_NAME = PLANETOGRAPHIC
  COORDINATE_SYSTEM_TYPE = "BODY-FIXED ROTATING"
  EASTERNMOST_LONGITUDE = 56.8099
  FIRST_STANDARD_PARALLEL = "N/A"
  LINE_FIRST_PIXEL = 1
  LINE_LAST_PIXEL = 11347
  LINE_PROJECTION_OFFSET = 23454.3125
  MAP_PROJECTION_ROTATION = 0.0
  MAP_PROJECTION_TYPE = SINUSOIDAL
  MAP_RESOLUTION = 592.713803866667
  MAP_SCALE = 0.1
  MAXIMUM_LATITUDE = 39.5732
  MINIMUM_LATITUDE = 20.4281
  POSITIVE_LONGITUDE_DIRECTION = EAST
  REFERENCE_LATITUDE = "N/A"
  REFERENCE_LONGITUDE = "N/A"
  SAMPLE_FIRST_PIXEL = 1
  SAMPLE_LAST_PIXEL = 1155
  SAMPLE_PROJECTION_OFFSET = 680.9375
  SECOND_STANDARD_PARALLEL = "N/A"
  WESTERNMOST_LONGITUDE = 54.7148
END_OBJECT = IMAGE_MAP_PROJECTION
/* The JPEG2000 image data file associated with this label. */
OBJECT = COMPRESSED_FILE
  FILE_NAME = "H7457_0000_GR3.JP2"
  RECORD_TYPE = UNDEFINED
  FILE_RECORDS = UNK
  ENCODING_TYPE = "JP2"
  INTERCHANGE_FORMAT = BINARY
  UNCOMPRESSED_FILE_NAME = "H7457_0000_GR3.IMG"
  REQUIRED_STORAGE_BYTES = "13124265"
  ^DESCRIPTION = "JP2INFO.TXT"
END_OBJECT = COMPRESSED_FILE
END
